| Back to Multiple platform build/check report for BioC 3.10 |
|
This page was generated on 2020-04-15 12:14:48 -0400 (Wed, 15 Apr 2020).
| Package 1108/1823 | Hostname | OS / Arch | INSTALL | BUILD | CHECK | BUILD BIN | ||||||
| MSstatsTMT 1.4.6 Ting Huang
| malbec1 | Linux (Ubuntu 18.04.4 LTS) / x86_64 | OK | OK | [ OK ] | |||||||
| tokay1 | Windows Server 2012 R2 Standard / x64 | OK | OK | OK | OK | |||||||
| merida1 | OS X 10.11.6 El Capitan / x86_64 | OK | OK | OK | OK |
| Package: MSstatsTMT |
| Version: 1.4.6 |
| Command: /home/biocbuild/bbs-3.10-bioc/R/bin/R CMD check --install=check:MSstatsTMT.install-out.txt --library=/home/biocbuild/bbs-3.10-bioc/R/library --no-vignettes --timings MSstatsTMT_1.4.6.tar.gz |
| StartedAt: 2020-04-15 06:04:27 -0400 (Wed, 15 Apr 2020) |
| EndedAt: 2020-04-15 06:07:45 -0400 (Wed, 15 Apr 2020) |
| EllapsedTime: 197.8 seconds |
| RetCode: 0 |
| Status: OK |
| CheckDir: MSstatsTMT.Rcheck |
| Warnings: 0 |
##############################################################################
##############################################################################
###
### Running command:
###
### /home/biocbuild/bbs-3.10-bioc/R/bin/R CMD check --install=check:MSstatsTMT.install-out.txt --library=/home/biocbuild/bbs-3.10-bioc/R/library --no-vignettes --timings MSstatsTMT_1.4.6.tar.gz
###
##############################################################################
##############################################################################
* using log directory ‘/home/biocbuild/bbs-3.10-bioc/meat/MSstatsTMT.Rcheck’
* using R version 3.6.3 (2020-02-29)
* using platform: x86_64-pc-linux-gnu (64-bit)
* using session charset: UTF-8
* using option ‘--no-vignettes’
* checking for file ‘MSstatsTMT/DESCRIPTION’ ... OK
* this is package ‘MSstatsTMT’ version ‘1.4.6’
* package encoding: UTF-8
* checking package namespace information ... OK
* checking package dependencies ... OK
* checking if this is a source package ... OK
* checking if there is a namespace ... OK
* checking for hidden files and directories ... OK
* checking for portable file names ... OK
* checking for sufficient/correct file permissions ... OK
* checking whether package ‘MSstatsTMT’ can be installed ... OK
* checking installed package size ... OK
* checking package directory ... OK
* checking ‘build’ directory ... OK
* checking DESCRIPTION meta-information ... OK
* checking top-level files ... OK
* checking for left-over files ... OK
* checking index information ... OK
* checking package subdirectories ... OK
* checking R files for non-ASCII characters ... OK
* checking R files for syntax errors ... OK
* checking whether the package can be loaded ... OK
* checking whether the package can be loaded with stated dependencies ... OK
* checking whether the package can be unloaded cleanly ... OK
* checking whether the namespace can be loaded with stated dependencies ... OK
* checking whether the namespace can be unloaded cleanly ... OK
* checking dependencies in R code ... OK
* checking S3 generic/method consistency ... OK
* checking replacement functions ... OK
* checking foreign function calls ... OK
* checking R code for possible problems ... OK
* checking Rd files ... OK
* checking Rd metadata ... OK
* checking Rd cross-references ... OK
* checking for missing documentation entries ... OK
* checking for code/documentation mismatches ... OK
* checking Rd \usage sections ... OK
* checking Rd contents ... OK
* checking for unstated dependencies in examples ... OK
* checking contents of ‘data’ directory ... OK
* checking data for non-ASCII characters ... OK
* checking data for ASCII and uncompressed saves ... OK
* checking files in ‘vignettes’ ... OK
* checking examples ... OK
Examples with CPU or elapsed time > 5s
user system elapsed
dataProcessPlotsTMT 61.684 0.192 49.371
groupComparisonTMT 32.448 0.100 19.437
MaxQtoMSstatsTMTFormat 28.008 0.284 5.868
proteinSummarization 22.448 0.168 9.953
proteinGroups 15.884 0.104 3.342
* checking for unstated dependencies in ‘tests’ ... OK
* checking tests ...
Running ‘testthat.R’
OK
* checking for unstated dependencies in vignettes ... OK
* checking package vignettes in ‘inst/doc’ ... OK
* checking running R code from vignettes ... SKIPPED
* checking re-building of vignette outputs ... SKIPPED
* checking PDF version of manual ... OK
* DONE
Status: OK
MSstatsTMT.Rcheck/00install.out
############################################################################## ############################################################################## ### ### Running command: ### ### /home/biocbuild/bbs-3.10-bioc/R/bin/R CMD INSTALL MSstatsTMT ### ############################################################################## ############################################################################## * installing to library ‘/home/biocbuild/bbs-3.10-bioc/R/library’ * installing *source* package ‘MSstatsTMT’ ... ** using staged installation ** R ** data *** moving datasets to lazyload DB ** inst ** byte-compile and prepare package for lazy loading ** help *** installing help indices ** building package indices ** installing vignettes ** testing if installed package can be loaded from temporary location ** testing if installed package can be loaded from final location ** testing if installed package keeps a record of temporary installation path * DONE (MSstatsTMT)
MSstatsTMT.Rcheck/tests/testthat.Rout
R version 3.6.3 (2020-02-29) -- "Holding the Windsock"
Copyright (C) 2020 The R Foundation for Statistical Computing
Platform: x86_64-pc-linux-gnu (64-bit)
R is free software and comes with ABSOLUTELY NO WARRANTY.
You are welcome to redistribute it under certain conditions.
Type 'license()' or 'licence()' for distribution details.
R is a collaborative project with many contributors.
Type 'contributors()' for more information and
'citation()' on how to cite R or R packages in publications.
Type 'demo()' for some demos, 'help()' for on-line help, or
'help.start()' for an HTML browser interface to help.
Type 'q()' to quit R.
> library(testthat)
> library(MSstatsTMT)
>
> test_check("MSstatsTMT")
Summary of Features :
count
# of Protein 10
# of Peptides/Protein 4-29
# of Transitions/Peptide 1-1
Summary of Samples :
0.125 0.5 0.667 1 Norm
# of MS runs 2 2 2 2 2
# of Biological Replicates 1 1 1 1 1
# of Technical Replicates 2 2 2 2 2
|
| | 0%
|
|======= | 10%
|
|============== | 20%
|
|===================== | 30%
|
|============================ | 40%
|
|=================================== | 50%
|
|========================================== | 60%
|
|================================================= | 70%
|
|======================================================== | 80%
|
|=============================================================== | 90%
|
|======================================================================| 100%
Summary of Features :
count
# of Protein 10
# of Peptides/Protein 3-33
# of Transitions/Peptide 1-1
Summary of Samples :
0.125 0.5 0.667 1 Norm
# of MS runs 2 2 2 2 2
# of Biological Replicates 1 1 1 1 1
# of Technical Replicates 2 2 2 2 2
|
| | 0%
|
|======= | 10%
|
|============== | 20%
|
|===================== | 30%
|
|============================ | 40%
|
|=================================== | 50%
|
|========================================== | 60%
|
|================================================= | 70%
|
|======================================================== | 80%
|
|=============================================================== | 90%
|
|======================================================================| 100%
Summary of Features :
count
# of Protein 10
# of Peptides/Protein 3-29
# of Transitions/Peptide 1-1
Summary of Samples :
0.125 0.5 0.667 1 Norm
# of MS runs 2 2 2 2 2
# of Biological Replicates 1 1 1 1 1
# of Technical Replicates 2 2 2 2 2
|
| | 0%
|
|======= | 10%
|
|============== | 20%
|
|===================== | 30%
|
|============================ | 40%
|
|=================================== | 50%
|
|========================================== | 60%
|
|================================================= | 70%
|
|======================================================== | 80%
|
|=============================================================== | 90%
|
|======================================================================| 100%
Summary of Features :
count
# of Protein 10
# of Peptides/Protein 1-28
# of Transitions/Peptide 1-1
Summary of Samples :
0.125 0.5 0.667 1 Norm
# of MS runs 2 2 2 2 2
# of Biological Replicates 1 1 1 1 1
# of Technical Replicates 2 2 2 2 2
|
| | 0%
|
|======= | 10%
|
|============== | 20%
|
|===================== | 30%
|
|============================ | 40%
|
|=================================== | 50%
|
|========================================== | 60%
|
|================================================= | 70%
|
|======================================================== | 80%
|
|=============================================================== | 90%
|
|======================================================================| 100%
Summary of Features :
count
# of Protein 10
# of Peptides/Protein 1-30
# of Transitions/Peptide 1-1
Summary of Samples :
0.125 0.5 0.667 1 Norm
# of MS runs 2 2 2 2 2
# of Biological Replicates 1 1 1 1 1
# of Technical Replicates 2 2 2 2 2
|
| | 0%
|
|======= | 10%
|
|============== | 20%
|
|===================== | 30%
|
|============================ | 40%
|
|=================================== | 50%
|
|========================================== | 60%
|
|================================================= | 70%
|
|======================================================== | 80%
|
|=============================================================== | 90%
|
|======================================================================| 100%
Summary of Features :
count
# of Protein 10
# of Peptides/Protein 2-30
# of Transitions/Peptide 1-1
Summary of Samples :
0.125 0.5 0.667 1 Norm
# of MS runs 2 2 2 2 2
# of Biological Replicates 1 1 1 1 1
# of Technical Replicates 2 2 2 2 2
|
| | 0%
|
|======= | 10%
|
|============== | 20%
|
|===================== | 30%
|
|============================ | 40%
|
|=================================== | 50%
|
|========================================== | 60%
|
|================================================= | 70%
|
|======================================================== | 80%
|
|=============================================================== | 90%
|
|======================================================================| 100%
Summary of Features :
count
# of Protein 10
# of Peptides/Protein 4-31
# of Transitions/Peptide 1-1
Summary of Samples :
0.125 0.5 0.667 1 Norm
# of MS runs 2 2 2 2 2
# of Biological Replicates 1 1 1 1 1
# of Technical Replicates 2 2 2 2 2
|
| | 0%
|
|======= | 10%
|
|============== | 20%
|
|===================== | 30%
|
|============================ | 40%
|
|=================================== | 50%
|
|========================================== | 60%
|
|================================================= | 70%
|
|======================================================== | 80%
|
|=============================================================== | 90%
|
|======================================================================| 100%
Summary of Features :
count
# of Protein 10
# of Peptides/Protein 3-30
# of Transitions/Peptide 1-1
Summary of Samples :
0.125 0.5 0.667 1 Norm
# of MS runs 2 2 2 2 2
# of Biological Replicates 1 1 1 1 1
# of Technical Replicates 2 2 2 2 2
|
| | 0%
|
|======= | 10%
|
|============== | 20%
|
|===================== | 30%
|
|============================ | 40%
|
|=================================== | 50%
|
|========================================== | 60%
|
|================================================= | 70%
|
|======================================================== | 80%
|
|=============================================================== | 90%
|
|======================================================================| 100%
Summary of Features :
count
# of Protein 10
# of Peptides/Protein 5-30
# of Transitions/Peptide 1-1
Summary of Samples :
0.125 0.5 0.667 1 Norm
# of MS runs 2 2 2 2 2
# of Biological Replicates 1 1 1 1 1
# of Technical Replicates 2 2 2 2 2
|
| | 0%
|
|======= | 10%
|
|============== | 20%
|
|===================== | 30%
|
|============================ | 40%
|
|=================================== | 50%
|
|========================================== | 60%
|
|================================================= | 70%
|
|======================================================== | 80%
|
|=============================================================== | 90%
|
|======================================================================| 100%
Summary of Features :
count
# of Protein 10
# of Peptides/Protein 3-31
# of Transitions/Peptide 1-1
Summary of Samples :
0.125 0.5 0.667 1 Norm
# of MS runs 2 2 2 2 2
# of Biological Replicates 1 1 1 1 1
# of Technical Replicates 2 2 2 2 2
|
| | 0%
|
|======= | 10%
|
|============== | 20%
|
|===================== | 30%
|
|============================ | 40%
|
|=================================== | 50%
|
|========================================== | 60%
|
|================================================= | 70%
|
|======================================================== | 80%
|
|=============================================================== | 90%
|
|======================================================================| 100%
Summary of Features :
count
# of Protein 10
# of Peptides/Protein 3-31
# of Transitions/Peptide 1-1
Summary of Samples :
0.125 0.5 0.667 1 Norm
# of MS runs 2 2 2 2 2
# of Biological Replicates 1 1 1 1 1
# of Technical Replicates 2 2 2 2 2
|
| | 0%
|
|======= | 10%
|
|============== | 20%
|
|===================== | 30%
|
|============================ | 40%
|
|=================================== | 50%
|
|========================================== | 60%
|
|================================================= | 70%
|
|======================================================== | 80%
|
|=============================================================== | 90%
|
|======================================================================| 100%
Summary of Features :
count
# of Protein 10
# of Peptides/Protein 1-31
# of Transitions/Peptide 1-1
Summary of Samples :
0.125 0.5 0.667 1 Norm
# of MS runs 2 2 2 2 2
# of Biological Replicates 1 1 1 1 1
# of Technical Replicates 2 2 2 2 2
|
| | 0%
|
|======= | 10%
|
|============== | 20%
|
|===================== | 30%
|
|============================ | 40%
|
|=================================== | 50%
|
|========================================== | 60%
|
|================================================= | 70%
|
|======================================================== | 80%
|
|=============================================================== | 90%
|
|======================================================================| 100%
Summary of Features :
count
# of Protein 10
# of Peptides/Protein 3-34
# of Transitions/Peptide 1-1
Summary of Samples :
0.125 0.5 0.667 1 Norm
# of MS runs 2 2 2 2 2
# of Biological Replicates 1 1 1 1 1
# of Technical Replicates 2 2 2 2 2
|
| | 0%
|
|======= | 10%
|
|============== | 20%
|
|===================== | 30%
|
|============================ | 40%
|
|=================================== | 50%
|
|========================================== | 60%
|
|================================================= | 70%
|
|======================================================== | 80%
|
|=============================================================== | 90%
|
|======================================================================| 100%
Summary of Features :
count
# of Protein 10
# of Peptides/Protein 2-30
# of Transitions/Peptide 1-1
Summary of Samples :
0.125 0.5 0.667 1 Norm
# of MS runs 2 2 2 2 2
# of Biological Replicates 1 1 1 1 1
# of Technical Replicates 2 2 2 2 2
|
| | 0%
|
|======= | 10%
|
|============== | 20%
|
|===================== | 30%
|
|============================ | 40%
|
|=================================== | 50%
|
|========================================== | 60%
|
|================================================= | 70%
|
|======================================================== | 80%
|
|=============================================================== | 90%
|
|======================================================================| 100%
Summary of Features :
count
# of Protein 10
# of Peptides/Protein 5-32
# of Transitions/Peptide 1-1
Summary of Samples :
0.125 0.5 0.667 1 Norm
# of MS runs 2 2 2 2 2
# of Biological Replicates 1 1 1 1 1
# of Technical Replicates 2 2 2 2 2
|
| | 0%
|
|======= | 10%
|
|============== | 20%
|
|===================== | 30%
|
|============================ | 40%
|
|=================================== | 50%
|
|========================================== | 60%
|
|================================================= | 70%
|
|======================================================== | 80%
|
|=============================================================== | 90%
|
|======================================================================| 100%
══ testthat results ═══════════════════════════════════════════════════════════
[ OK: 33 | SKIPPED: 0 | WARNINGS: 0 | FAILED: 0 ]
>
> proc.time()
user system elapsed
40.080 0.464 26.137
MSstatsTMT.Rcheck/MSstatsTMT-Ex.timings
| name | user | system | elapsed | |
| MaxQtoMSstatsTMTFormat | 28.008 | 0.284 | 5.868 | |
| OpenMStoMSstatsTMTFormat | 4.444 | 0.020 | 1.146 | |
| PDtoMSstatsTMTFormat | 2.520 | 0.024 | 1.714 | |
| SpectroMinetoMSstatsTMTFormat | 2.496 | 0.020 | 1.078 | |
| annotation.mine | 0.000 | 0.000 | 0.004 | |
| annotation.mq | 0.000 | 0.000 | 0.003 | |
| annotation.pd | 0.004 | 0.000 | 0.003 | |
| dataProcessPlotsTMT | 61.684 | 0.192 | 49.371 | |
| evidence | 0.036 | 0.008 | 0.017 | |
| groupComparisonTMT | 32.448 | 0.100 | 19.437 | |
| input.pd | 0.012 | 0.000 | 0.011 | |
| proteinGroups | 15.884 | 0.104 | 3.342 | |
| proteinSummarization | 22.448 | 0.168 | 9.953 | |
| quant.pd.msstats | 0.208 | 0.000 | 0.043 | |
| raw.mine | 0.008 | 0.000 | 0.010 | |
| raw.om | 0.008 | 0.000 | 0.006 | |
| raw.pd | 0.928 | 0.004 | 0.200 | |
| test.pairwise | 0.000 | 0.000 | 0.003 | |