| Back to Multiple platform build/check report for BioC 3.10 |
|
This page was generated on 2020-04-15 12:31:13 -0400 (Wed, 15 Apr 2020).
| Package 1094/1823 | Hostname | OS / Arch | INSTALL | BUILD | CHECK | BUILD BIN | ||||||
| MPRAnalyze 1.4.0 Tal Ashuach
| malbec1 | Linux (Ubuntu 18.04.4 LTS) / x86_64 | OK | OK | OK | |||||||
| tokay1 | Windows Server 2012 R2 Standard / x64 | [ OK ] | OK | OK | OK | |||||||
| merida1 | OS X 10.11.6 El Capitan / x86_64 | OK | OK | OK | OK |
| Package: MPRAnalyze |
| Version: 1.4.0 |
| Command: C:\cygwin\bin\curl.exe -O https://malbec1.bioconductor.org/BBS/3.10/bioc/src/contrib/MPRAnalyze_1.4.0.tar.gz && rm -rf MPRAnalyze.buildbin-libdir && mkdir MPRAnalyze.buildbin-libdir && C:\Users\biocbuild\bbs-3.10-bioc\R\bin\R.exe CMD INSTALL --merge-multiarch --build --library=MPRAnalyze.buildbin-libdir MPRAnalyze_1.4.0.tar.gz && C:\Users\biocbuild\bbs-3.10-bioc\R\bin\R.exe CMD INSTALL MPRAnalyze_1.4.0.zip && rm MPRAnalyze_1.4.0.tar.gz MPRAnalyze_1.4.0.zip |
| StartedAt: 2020-04-14 19:37:28 -0400 (Tue, 14 Apr 2020) |
| EndedAt: 2020-04-14 19:37:59 -0400 (Tue, 14 Apr 2020) |
| EllapsedTime: 30.8 seconds |
| RetCode: 0 |
| Status: OK |
##############################################################################
##############################################################################
###
### Running command:
###
### C:\cygwin\bin\curl.exe -O https://malbec1.bioconductor.org/BBS/3.10/bioc/src/contrib/MPRAnalyze_1.4.0.tar.gz && rm -rf MPRAnalyze.buildbin-libdir && mkdir MPRAnalyze.buildbin-libdir && C:\Users\biocbuild\bbs-3.10-bioc\R\bin\R.exe CMD INSTALL --merge-multiarch --build --library=MPRAnalyze.buildbin-libdir MPRAnalyze_1.4.0.tar.gz && C:\Users\biocbuild\bbs-3.10-bioc\R\bin\R.exe CMD INSTALL MPRAnalyze_1.4.0.zip && rm MPRAnalyze_1.4.0.tar.gz MPRAnalyze_1.4.0.zip
###
##############################################################################
##############################################################################
% Total % Received % Xferd Average Speed Time Time Time Current
Dload Upload Total Spent Left Speed
0 0 0 0 0 0 0 0 --:--:-- --:--:-- --:--:-- 0
100 46943 100 46943 0 0 1012k 0 --:--:-- --:--:-- --:--:-- 1091k
install for i386
* installing *source* package 'MPRAnalyze' ...
** using staged installation
** R
** data
** byte-compile and prepare package for lazy loading
** help
*** installing help indices
converting help for package 'MPRAnalyze'
finding HTML links ... done
ChrEpi html
MpraObject html
analyzeComparative html
analyzeQuantification html
estimateDepthFactors html
extractModelParameters html
getAlpha html
getDistrParam html
getFits_DNA html
getFits_RNA html
setDepthFactors html
setModel html
simulateMPRA html
testCoefficient html
testEmpirical html
testLrt html
** building package indices
** installing vignettes
** testing if installed package can be loaded from temporary location
** testing if installed package can be loaded from final location
** testing if installed package keeps a record of temporary installation path
install for x64
* installing *source* package 'MPRAnalyze' ...
** testing if installed package can be loaded
* MD5 sums
packaged installation of 'MPRAnalyze' as MPRAnalyze_1.4.0.zip
* DONE (MPRAnalyze)
* installing to library 'C:/Users/biocbuild/bbs-3.10-bioc/R/library'
package 'MPRAnalyze' successfully unpacked and MD5 sums checked