| Back to Multiple platform build/check report for BioC 3.10 |
|
This page was generated on 2020-04-15 12:23:26 -0400 (Wed, 15 Apr 2020).
| Package 1092/1823 | Hostname | OS / Arch | INSTALL | BUILD | CHECK | BUILD BIN | ||||||
| MPFE 1.22.0 Conrad Burden
| malbec1 | Linux (Ubuntu 18.04.4 LTS) / x86_64 | OK | OK | OK | |||||||
| tokay1 | Windows Server 2012 R2 Standard / x64 | OK | OK | OK | [ OK ] | |||||||
| merida1 | OS X 10.11.6 El Capitan / x86_64 | OK | OK | OK | OK |
| Package: MPFE |
| Version: 1.22.0 |
| Command: rm -rf MPFE.buildbin-libdir && mkdir MPFE.buildbin-libdir && C:\Users\biocbuild\bbs-3.10-bioc\R\bin\R.exe CMD INSTALL --merge-multiarch --build --library=MPFE.buildbin-libdir MPFE_1.22.0.tar.gz |
| StartedAt: 2020-04-15 09:13:07 -0400 (Wed, 15 Apr 2020) |
| EndedAt: 2020-04-15 09:13:39 -0400 (Wed, 15 Apr 2020) |
| EllapsedTime: 31.4 seconds |
| RetCode: 0 |
| Status: OK |
| PackageFile: MPFE_1.22.0.zip |
| PackageFileSize: 150.6 KiB |
##############################################################################
##############################################################################
###
### Running command:
###
### rm -rf MPFE.buildbin-libdir && mkdir MPFE.buildbin-libdir && C:\Users\biocbuild\bbs-3.10-bioc\R\bin\R.exe CMD INSTALL --merge-multiarch --build --library=MPFE.buildbin-libdir MPFE_1.22.0.tar.gz
###
##############################################################################
##############################################################################
install for i386
* installing *source* package 'MPFE' ...
** using staged installation
** R
** data
** inst
** byte-compile and prepare package for lazy loading
** help
*** installing help indices
converting help for package 'MPFE'
finding HTML links ... done
MPFE-package html
estimatePatterns html
patternMap html
patternsExample html
plotPatterns html
** building package indices
** installing vignettes
** testing if installed package can be loaded from temporary location
** testing if installed package can be loaded from final location
** testing if installed package keeps a record of temporary installation path
install for x64
* installing *source* package 'MPFE' ...
** testing if installed package can be loaded
* MD5 sums
packaged installation of 'MPFE' as MPFE_1.22.0.zip
* DONE (MPFE)