| Back to Multiple platform build/check report for BioC 3.10 |
|
This page was generated on 2020-04-15 12:18:34 -0400 (Wed, 15 Apr 2020).
| Package 985/1823 | Hostname | OS / Arch | INSTALL | BUILD | CHECK | BUILD BIN | ||||||
| MEDME 1.46.0 Mattia Pelizzola
| malbec1 | Linux (Ubuntu 18.04.4 LTS) / x86_64 | OK | OK | WARNINGS | |||||||
| tokay1 | Windows Server 2012 R2 Standard / x64 | [ OK ] | OK | WARNINGS | OK | |||||||
| merida1 | OS X 10.11.6 El Capitan / x86_64 | OK | OK | WARNINGS | OK |
| Package: MEDME |
| Version: 1.46.0 |
| Command: C:\cygwin\bin\curl.exe -O https://malbec1.bioconductor.org/BBS/3.10/bioc/src/contrib/MEDME_1.46.0.tar.gz && rm -rf MEDME.buildbin-libdir && mkdir MEDME.buildbin-libdir && C:\Users\biocbuild\bbs-3.10-bioc\R\bin\R.exe CMD INSTALL --merge-multiarch --build --library=MEDME.buildbin-libdir MEDME_1.46.0.tar.gz && C:\Users\biocbuild\bbs-3.10-bioc\R\bin\R.exe CMD INSTALL MEDME_1.46.0.zip && rm MEDME_1.46.0.tar.gz MEDME_1.46.0.zip |
| StartedAt: 2020-04-14 20:25:09 -0400 (Tue, 14 Apr 2020) |
| EndedAt: 2020-04-14 20:26:11 -0400 (Tue, 14 Apr 2020) |
| EllapsedTime: 62.1 seconds |
| RetCode: 0 |
| Status: OK |
##############################################################################
##############################################################################
###
### Running command:
###
### C:\cygwin\bin\curl.exe -O https://malbec1.bioconductor.org/BBS/3.10/bioc/src/contrib/MEDME_1.46.0.tar.gz && rm -rf MEDME.buildbin-libdir && mkdir MEDME.buildbin-libdir && C:\Users\biocbuild\bbs-3.10-bioc\R\bin\R.exe CMD INSTALL --merge-multiarch --build --library=MEDME.buildbin-libdir MEDME_1.46.0.tar.gz && C:\Users\biocbuild\bbs-3.10-bioc\R\bin\R.exe CMD INSTALL MEDME_1.46.0.zip && rm MEDME_1.46.0.tar.gz MEDME_1.46.0.zip
###
##############################################################################
##############################################################################
% Total % Received % Xferd Average Speed Time Time Time Current
Dload Upload Total Spent Left Speed
0 0 0 0 0 0 0 0 --:--:-- --:--:-- --:--:-- 0
100 266k 100 266k 0 0 5853k 0 --:--:-- --:--:-- --:--:-- 6497k
install for i386
* installing *source* package 'MEDME' ...
** using staged installation
** libs
C:/Rtools/mingw_32/bin/gcc -I"C:/Users/BIOCBU~1/BBS-3~1.10-/R/include" -DNDEBUG -I"C:/extsoft/include" -O3 -Wall -std=gnu99 -mtune=core2 -c MEDMEweight.c -o MEDMEweight.o
MEDMEweight.c: In function 'MEDMEweight':
MEDMEweight.c:77:33: warning: 'weight' may be used uninitialized in this function [-Wmaybe-uninitialized]
MeDIPsum = MeDIPsum + MeDIP[j] * weight;
^
MEDMEweight.c:91:42: warning: 'Max' may be used uninitialized in this function [-Wmaybe-uninitialized]
if(AMSfinal[i] > Max) {AMSfinal[i] = Max;}
^
MEDMEweight.c:92:42: warning: 'Min' may be used uninitialized in this function [-Wmaybe-uninitialized]
if(AMSfinal[i] < Min) {AMSfinal[i] = Min;}
^
MEDMEweight.c:90:33: warning: 'E' may be used uninitialized in this function [-Wmaybe-uninitialized]
AMSfinal[i] = pow(2, pow( pow(E,B) * (D - Mlim) / (Mlim - C), 1/B));
^
MEDMEweight.c:90:47: warning: 'D' may be used uninitialized in this function [-Wmaybe-uninitialized]
AMSfinal[i] = pow(2, pow( pow(E,B) * (D - Mlim) / (Mlim - C), 1/B));
^
MEDMEweight.c:90:63: warning: 'C' may be used uninitialized in this function [-Wmaybe-uninitialized]
AMSfinal[i] = pow(2, pow( pow(E,B) * (D - Mlim) / (Mlim - C), 1/B));
^
MEDMEweight.c:90:33: warning: 'B' may be used uninitialized in this function [-Wmaybe-uninitialized]
AMSfinal[i] = pow(2, pow( pow(E,B) * (D - Mlim) / (Mlim - C), 1/B));
^
C:/Rtools/mingw_32/bin/gcc -shared -s -static-libgcc -o MEDME.dll tmp.def MEDMEweight.o -LC:/extsoft/lib/i386 -LC:/extsoft/lib -LC:/Users/BIOCBU~1/BBS-3~1.10-/R/bin/i386 -lR
installing to C:/Users/biocbuild/bbs-3.10-bioc/meat/MEDME.buildbin-libdir/00LOCK-MEDME/00new/MEDME/libs/i386
** R
** data
** inst
** byte-compile and prepare package for lazy loading
** help
*** installing help indices
converting help for package 'MEDME'
finding HTML links ... done
CGcount html
MEDME html
MEDME.predict html
MEDME.readFiles html
MEDME.writeFiles html
MEDMEset-class html
smooth html
testMEDMEset html
** building package indices
** installing vignettes
** testing if installed package can be loaded from temporary location
** testing if installed package can be loaded from final location
** testing if installed package keeps a record of temporary installation path
install for x64
* installing *source* package 'MEDME' ...
** libs
C:/Rtools/mingw_64/bin/gcc -I"C:/Users/BIOCBU~1/BBS-3~1.10-/R/include" -DNDEBUG -I"C:/extsoft/include" -O2 -Wall -std=gnu99 -mtune=core2 -c MEDMEweight.c -o MEDMEweight.o
MEDMEweight.c: In function 'MEDMEweight':
MEDMEweight.c:78:12: warning: 'weight' may be used uninitialized in this function [-Wmaybe-uninitialized]
weightSum = weightSum + weight;
^
MEDMEweight.c:91:9: warning: 'Max' may be used uninitialized in this function [-Wmaybe-uninitialized]
if(AMSfinal[i] > Max) {AMSfinal[i] = Max;}
^
MEDMEweight.c:92:42: warning: 'Min' may be used uninitialized in this function [-Wmaybe-uninitialized]
if(AMSfinal[i] < Min) {AMSfinal[i] = Min;}
^
MEDMEweight.c:90:33: warning: 'E' may be used uninitialized in this function [-Wmaybe-uninitialized]
AMSfinal[i] = pow(2, pow( pow(E,B) * (D - Mlim) / (Mlim - C), 1/B));
^
MEDMEweight.c:90:47: warning: 'D' may be used uninitialized in this function [-Wmaybe-uninitialized]
AMSfinal[i] = pow(2, pow( pow(E,B) * (D - Mlim) / (Mlim - C), 1/B));
^
MEDMEweight.c:90:63: warning: 'C' may be used uninitialized in this function [-Wmaybe-uninitialized]
AMSfinal[i] = pow(2, pow( pow(E,B) * (D - Mlim) / (Mlim - C), 1/B));
^
MEDMEweight.c:90:33: warning: 'B' may be used uninitialized in this function [-Wmaybe-uninitialized]
AMSfinal[i] = pow(2, pow( pow(E,B) * (D - Mlim) / (Mlim - C), 1/B));
^
C:/Rtools/mingw_64/bin/gcc -shared -s -static-libgcc -o MEDME.dll tmp.def MEDMEweight.o -LC:/extsoft/lib/x64 -LC:/extsoft/lib -LC:/Users/BIOCBU~1/BBS-3~1.10-/R/bin/x64 -lR
installing to C:/Users/biocbuild/bbs-3.10-bioc/meat/MEDME.buildbin-libdir/MEDME/libs/x64
** testing if installed package can be loaded
* MD5 sums
packaged installation of 'MEDME' as MEDME_1.46.0.zip
* DONE (MEDME)
* installing to library 'C:/Users/biocbuild/bbs-3.10-bioc/R/library'
package 'MEDME' successfully unpacked and MD5 sums checked