| Back to Multiple platform build/check report for BioC 3.10 |
|
This page was generated on 2020-04-15 12:33:27 -0400 (Wed, 15 Apr 2020).
| Package 971/1823 | Hostname | OS / Arch | INSTALL | BUILD | CHECK | BUILD BIN | ||||||
| MBQN 1.0.1 Ariane Schad
| malbec1 | Linux (Ubuntu 18.04.4 LTS) / x86_64 | OK | OK | OK | |||||||
| tokay1 | Windows Server 2012 R2 Standard / x64 | OK | OK | OK | [ OK ] | |||||||
| merida1 | OS X 10.11.6 El Capitan / x86_64 | OK | OK | OK | OK |
| Package: MBQN |
| Version: 1.0.1 |
| Command: rm -rf MBQN.buildbin-libdir && mkdir MBQN.buildbin-libdir && C:\Users\biocbuild\bbs-3.10-bioc\R\bin\R.exe CMD INSTALL --merge-multiarch --build --library=MBQN.buildbin-libdir MBQN_1.0.1.tar.gz |
| StartedAt: 2020-04-15 09:06:17 -0400 (Wed, 15 Apr 2020) |
| EndedAt: 2020-04-15 09:06:54 -0400 (Wed, 15 Apr 2020) |
| EllapsedTime: 37.0 seconds |
| RetCode: 0 |
| Status: OK |
| PackageFile: MBQN_1.0.1.zip |
| PackageFileSize: 186.8 KiB |
##############################################################################
##############################################################################
###
### Running command:
###
### rm -rf MBQN.buildbin-libdir && mkdir MBQN.buildbin-libdir && C:\Users\biocbuild\bbs-3.10-bioc\R\bin\R.exe CMD INSTALL --merge-multiarch --build --library=MBQN.buildbin-libdir MBQN_1.0.1.tar.gz
###
##############################################################################
##############################################################################
install for i386
* installing *source* package 'MBQN' ...
** using staged installation
** R
** inst
** byte-compile and prepare package for lazy loading
** help
*** installing help indices
converting help for package 'MBQN'
finding HTML links ... done
example_NApattern html
getKminmax html
getPXDfile html
getPvalue html
mbqn html
mbqnBoxplot html
mbqnGetIntersect html
mbqnGetNRIfeatures html
mbqnGetThreshold html
mbqnLoadFile html
mbqnNRI html
mbqnPlotAll html
mbqnPlotRI html
mbqnSimuData html
mbqnSimuDistortion html
oneSidedTest html
truncateDecimals html
** building package indices
** installing vignettes
** testing if installed package can be loaded from temporary location
** testing if installed package can be loaded from final location
** testing if installed package keeps a record of temporary installation path
install for x64
* installing *source* package 'MBQN' ...
** testing if installed package can be loaded
* MD5 sums
packaged installation of 'MBQN' as MBQN_1.0.1.zip
* DONE (MBQN)