| Back to Multiple platform build/check report for BioC 3.10 |
|
This page was generated on 2020-04-15 12:24:02 -0400 (Wed, 15 Apr 2020).
| Package 966/1823 | Hostname | OS / Arch | INSTALL | BUILD | CHECK | BUILD BIN | ||||||
| MBAmethyl 1.20.0 Tao Wang
| malbec1 | Linux (Ubuntu 18.04.4 LTS) / x86_64 | OK | OK | OK | |||||||
| tokay1 | Windows Server 2012 R2 Standard / x64 | OK | OK | OK | [ OK ] | |||||||
| merida1 | OS X 10.11.6 El Capitan / x86_64 | OK | OK | OK | OK |
| Package: MBAmethyl |
| Version: 1.20.0 |
| Command: rm -rf MBAmethyl.buildbin-libdir && mkdir MBAmethyl.buildbin-libdir && C:\Users\biocbuild\bbs-3.10-bioc\R\bin\R.exe CMD INSTALL --merge-multiarch --build --library=MBAmethyl.buildbin-libdir MBAmethyl_1.20.0.tar.gz |
| StartedAt: 2020-04-15 09:06:00 -0400 (Wed, 15 Apr 2020) |
| EndedAt: 2020-04-15 09:06:34 -0400 (Wed, 15 Apr 2020) |
| EllapsedTime: 34.2 seconds |
| RetCode: 0 |
| Status: OK |
| PackageFile: MBAmethyl_1.20.0.zip |
| PackageFileSize: 124.5 KiB |
##############################################################################
##############################################################################
###
### Running command:
###
### rm -rf MBAmethyl.buildbin-libdir && mkdir MBAmethyl.buildbin-libdir && C:\Users\biocbuild\bbs-3.10-bioc\R\bin\R.exe CMD INSTALL --merge-multiarch --build --library=MBAmethyl.buildbin-libdir MBAmethyl_1.20.0.tar.gz
###
##############################################################################
##############################################################################
install for i386
* installing *source* package 'MBAmethyl' ...
** using staged installation
** R
** inst
** byte-compile and prepare package for lazy loading
** help
*** installing help indices
converting help for package 'MBAmethyl'
finding HTML links ... done
MBAmethyl-package html
MBAmethyl html
** building package indices
** installing vignettes
** testing if installed package can be loaded from temporary location
** testing if installed package can be loaded from final location
** testing if installed package keeps a record of temporary installation path
install for x64
* installing *source* package 'MBAmethyl' ...
** testing if installed package can be loaded
* MD5 sums
packaged installation of 'MBAmethyl' as MBAmethyl_1.20.0.zip
* DONE (MBAmethyl)