| Back to Multiple platform build/check report for BioC 3.10 |
|
This page was generated on 2020-04-15 12:11:19 -0400 (Wed, 15 Apr 2020).
| Package 930/1823 | Hostname | OS / Arch | INSTALL | BUILD | CHECK | BUILD BIN | ||||||
| LymphoSeq 1.14.0 David Coffey
| malbec1 | Linux (Ubuntu 18.04.4 LTS) / x86_64 | OK | OK | [ OK ] | |||||||
| tokay1 | Windows Server 2012 R2 Standard / x64 | OK | OK | OK | OK | |||||||
| merida1 | OS X 10.11.6 El Capitan / x86_64 | OK | OK | OK | OK |
| Package: LymphoSeq |
| Version: 1.14.0 |
| Command: /home/biocbuild/bbs-3.10-bioc/R/bin/R CMD check --install=check:LymphoSeq.install-out.txt --library=/home/biocbuild/bbs-3.10-bioc/R/library --no-vignettes --timings LymphoSeq_1.14.0.tar.gz |
| StartedAt: 2020-04-15 03:47:31 -0400 (Wed, 15 Apr 2020) |
| EndedAt: 2020-04-15 03:51:00 -0400 (Wed, 15 Apr 2020) |
| EllapsedTime: 208.8 seconds |
| RetCode: 0 |
| Status: OK |
| CheckDir: LymphoSeq.Rcheck |
| Warnings: 0 |
##############################################################################
##############################################################################
###
### Running command:
###
### /home/biocbuild/bbs-3.10-bioc/R/bin/R CMD check --install=check:LymphoSeq.install-out.txt --library=/home/biocbuild/bbs-3.10-bioc/R/library --no-vignettes --timings LymphoSeq_1.14.0.tar.gz
###
##############################################################################
##############################################################################
* using log directory ‘/home/biocbuild/bbs-3.10-bioc/meat/LymphoSeq.Rcheck’
* using R version 3.6.3 (2020-02-29)
* using platform: x86_64-pc-linux-gnu (64-bit)
* using session charset: UTF-8
* using option ‘--no-vignettes’
* checking for file ‘LymphoSeq/DESCRIPTION’ ... OK
* this is package ‘LymphoSeq’ version ‘1.14.0’
* checking package namespace information ... OK
* checking package dependencies ... OK
* checking if this is a source package ... OK
* checking if there is a namespace ... OK
* checking for hidden files and directories ... OK
* checking for portable file names ... OK
* checking for sufficient/correct file permissions ... OK
* checking whether package ‘LymphoSeq’ can be installed ... OK
* checking installed package size ... NOTE
installed size is 5.7Mb
sub-directories of 1Mb or more:
extdata 5.5Mb
* checking package directory ... OK
* checking ‘build’ directory ... OK
* checking DESCRIPTION meta-information ... OK
* checking top-level files ... OK
* checking for left-over files ... OK
* checking index information ... OK
* checking package subdirectories ... OK
* checking R files for non-ASCII characters ... OK
* checking R files for syntax errors ... OK
* checking whether the package can be loaded ... OK
* checking whether the package can be loaded with stated dependencies ... OK
* checking whether the package can be unloaded cleanly ... OK
* checking whether the namespace can be loaded with stated dependencies ... OK
* checking whether the namespace can be unloaded cleanly ... OK
* checking dependencies in R code ... OK
* checking S3 generic/method consistency ... OK
* checking replacement functions ... OK
* checking foreign function calls ... OK
* checking R code for possible problems ... OK
* checking Rd files ... OK
* checking Rd metadata ... OK
* checking Rd cross-references ... OK
* checking for missing documentation entries ... OK
* checking for code/documentation mismatches ... OK
* checking Rd \usage sections ... OK
* checking Rd contents ... OK
* checking for unstated dependencies in examples ... OK
* checking files in ‘vignettes’ ... OK
* checking examples ... OK
Examples with CPU or elapsed time > 5s
user system elapsed
cloneTrack 28.780 1.240 30.450
productiveSeq 24.632 0.916 25.580
phyloTree 7.100 0.056 7.193
* checking for unstated dependencies in vignettes ... OK
* checking package vignettes in ‘inst/doc’ ... OK
* checking running R code from vignettes ... SKIPPED
* checking re-building of vignette outputs ... SKIPPED
* checking PDF version of manual ... OK
* DONE
Status: 1 NOTE
See
‘/home/biocbuild/bbs-3.10-bioc/meat/LymphoSeq.Rcheck/00check.log’
for details.
LymphoSeq.Rcheck/00install.out
############################################################################## ############################################################################## ### ### Running command: ### ### /home/biocbuild/bbs-3.10-bioc/R/bin/R CMD INSTALL LymphoSeq ### ############################################################################## ############################################################################## * installing to library ‘/home/biocbuild/bbs-3.10-bioc/R/library’ * installing *source* package ‘LymphoSeq’ ... ** using staged installation ** R ** inst ** byte-compile and prepare package for lazy loading ** help *** installing help indices ** building package indices ** installing vignettes ** testing if installed package can be loaded from temporary location ** testing if installed package can be loaded from final location ** testing if installed package keeps a record of temporary installation path * DONE (LymphoSeq)
LymphoSeq.Rcheck/LymphoSeq-Ex.timings
| name | user | system | elapsed | |
| alignSeq | 1.060 | 0.032 | 1.149 | |
| bhattacharyyaCoefficient | 0.268 | 0.008 | 0.301 | |
| bhattacharyyaMatrix | 0.300 | 0.000 | 0.302 | |
| chordDiagramVDJ | 1.496 | 0.104 | 1.601 | |
| clonalRelatedness | 1.500 | 0.016 | 0.338 | |
| clonality | 0.084 | 0.000 | 0.085 | |
| cloneTrack | 28.78 | 1.24 | 30.45 | |
| commonSeqs | 0.192 | 0.020 | 0.211 | |
| commonSeqsBar | 0.984 | 0.108 | 1.096 | |
| commonSeqsPlot | 1.640 | 0.012 | 1.654 | |
| commonSeqsVenn | 0.932 | 0.020 | 0.957 | |
| differentialAbundance | 2.368 | 0.032 | 2.403 | |
| exportFasta | 0.284 | 0.020 | 0.307 | |
| geneFreq | 3.040 | 0.060 | 3.117 | |
| lorenzCurve | 1.580 | 0.016 | 1.613 | |
| mergeFiles | 0.108 | 0.008 | 0.117 | |
| pairwisePlot | 0.740 | 0.004 | 0.743 | |
| phyloTree | 7.100 | 0.056 | 7.193 | |
| productive | 0.084 | 0.000 | 0.087 | |
| productiveSeq | 24.632 | 0.916 | 25.580 | |
| readImmunoSeq | 0.064 | 0.000 | 0.063 | |
| removeSeq | 0.080 | 0.004 | 0.084 | |
| searchPublished | 0.264 | 0.008 | 0.273 | |
| searchSeq | 1.184 | 0.000 | 1.184 | |
| seqMatrix | 3.836 | 0.100 | 3.944 | |
| similarityMatrix | 0.176 | 0.000 | 0.176 | |
| similarityScore | 0.160 | 0.000 | 0.162 | |
| topFreq | 1.924 | 0.076 | 2.025 | |
| topSeqs | 1.616 | 0.028 | 1.654 | |
| topSeqsPlot | 0.620 | 0.000 | 0.621 | |
| uniqueSeqs | 0.332 | 0.000 | 0.330 | |