| Back to Multiple platform build/check report for BioC 3.10 |
|
This page was generated on 2020-04-15 12:41:39 -0400 (Wed, 15 Apr 2020).
| Package 922/1823 | Hostname | OS / Arch | INSTALL | BUILD | CHECK | BUILD BIN | ||||||
| LowMACA 1.16.0 Stefano de Pretis
| malbec1 | Linux (Ubuntu 18.04.4 LTS) / x86_64 | OK | OK | OK | |||||||
| tokay1 | Windows Server 2012 R2 Standard / x64 | OK | OK | OK | OK | |||||||
| merida1 | OS X 10.11.6 El Capitan / x86_64 | OK | OK | [ OK ] | OK |
| Package: LowMACA |
| Version: 1.16.0 |
| Command: /Library/Frameworks/R.framework/Versions/Current/Resources/bin/R CMD check --install=check:LowMACA.install-out.txt --library=/Library/Frameworks/R.framework/Versions/Current/Resources/library --no-vignettes --timings LowMACA_1.16.0.tar.gz |
| StartedAt: 2020-04-15 03:27:47 -0400 (Wed, 15 Apr 2020) |
| EndedAt: 2020-04-15 03:40:04 -0400 (Wed, 15 Apr 2020) |
| EllapsedTime: 737.2 seconds |
| RetCode: 0 |
| Status: OK |
| CheckDir: LowMACA.Rcheck |
| Warnings: 0 |
##############################################################################
##############################################################################
###
### Running command:
###
### /Library/Frameworks/R.framework/Versions/Current/Resources/bin/R CMD check --install=check:LowMACA.install-out.txt --library=/Library/Frameworks/R.framework/Versions/Current/Resources/library --no-vignettes --timings LowMACA_1.16.0.tar.gz
###
##############################################################################
##############################################################################
* using log directory ‘/Users/biocbuild/bbs-3.10-bioc/meat/LowMACA.Rcheck’
* using R version 3.6.3 (2020-02-29)
* using platform: x86_64-apple-darwin15.6.0 (64-bit)
* using session charset: UTF-8
* using option ‘--no-vignettes’
* checking for file ‘LowMACA/DESCRIPTION’ ... OK
* checking extension type ... Package
* this is package ‘LowMACA’ version ‘1.16.0’
* checking package namespace information ... OK
* checking package dependencies ... OK
* checking if this is a source package ... OK
* checking if there is a namespace ... OK
* checking for hidden files and directories ... OK
* checking for portable file names ... OK
* checking for sufficient/correct file permissions ... OK
* checking whether package ‘LowMACA’ can be installed ... OK
* checking installed package size ... OK
* checking package directory ... OK
* checking ‘build’ directory ... OK
* checking DESCRIPTION meta-information ... OK
* checking top-level files ... OK
* checking for left-over files ... OK
* checking index information ... OK
* checking package subdirectories ... OK
* checking R files for non-ASCII characters ... OK
* checking R files for syntax errors ... OK
* checking whether the package can be loaded ... OK
* checking whether the package can be loaded with stated dependencies ... OK
* checking whether the package can be unloaded cleanly ... OK
* checking whether the namespace can be loaded with stated dependencies ... OK
* checking whether the namespace can be unloaded cleanly ... OK
* checking dependencies in R code ... OK
* checking S3 generic/method consistency ... OK
* checking replacement functions ... OK
* checking foreign function calls ... OK
* checking R code for possible problems ... OK
* checking Rd files ... OK
* checking Rd metadata ... OK
* checking Rd cross-references ... OK
* checking for missing documentation entries ... OK
* checking for code/documentation mismatches ... OK
* checking Rd \usage sections ... OK
* checking Rd contents ... OK
* checking for unstated dependencies in examples ... OK
* checking contents of ‘data’ directory ... OK
* checking data for non-ASCII characters ... OK
* checking data for ASCII and uncompressed saves ... OK
* checking files in ‘vignettes’ ... OK
* checking examples ... OK
Examples with CPU or elapsed time > 5s
user system elapsed
allPfamAnalysis 170.431 5.311 176.831
lfmSingleSequence 97.888 2.544 101.724
alignSequences 17.473 53.398 50.084
setup 21.804 44.116 50.185
LowMACA-class 12.007 0.759 20.078
LowMACA-package 10.432 0.298 15.144
lmPlotSingleSequence 4.827 0.098 5.016
* checking for unstated dependencies in vignettes ... OK
* checking package vignettes in ‘inst/doc’ ... OK
* checking running R code from vignettes ... SKIPPED
* checking re-building of vignette outputs ... SKIPPED
* checking PDF version of manual ... OK
* DONE
Status: OK
LowMACA.Rcheck/00install.out
############################################################################## ############################################################################## ### ### Running command: ### ### /Library/Frameworks/R.framework/Versions/Current/Resources/bin/R CMD INSTALL LowMACA ### ############################################################################## ############################################################################## * installing to library ‘/Library/Frameworks/R.framework/Versions/3.6/Resources/library’ * installing *source* package ‘LowMACA’ ... ** using staged installation ** R ** data ** inst ** byte-compile and prepare package for lazy loading ** help *** installing help indices ** building package indices ** installing vignettes ** testing if installed package can be loaded from temporary location Checking if clustalo is in the PATH... Checking clustalo Version... Checking perl installation... Checking perl modules XML::Simple and LWP... ** testing if installed package can be loaded from final location Checking if clustalo is in the PATH... Checking clustalo Version... Checking perl installation... Checking perl modules XML::Simple and LWP... ** testing if installed package keeps a record of temporary installation path * DONE (LowMACA)
LowMACA.Rcheck/LowMACA-Ex.timings
| name | user | system | elapsed | |
| BLOSUM62 | 0.013 | 0.002 | 0.015 | |
| LowMACA-class | 12.007 | 0.759 | 20.078 | |
| LowMACA-package | 10.432 | 0.298 | 15.144 | |
| LowMACA_AML | 0.038 | 0.006 | 0.043 | |
| alignSequences | 17.473 | 53.398 | 50.084 | |
| allPfamAnalysis | 170.431 | 5.311 | 176.831 | |
| bpAll | 1.352 | 0.035 | 1.394 | |
| entropy | 1.248 | 0.047 | 1.309 | |
| getMutations | 1.903 | 0.058 | 3.248 | |
| lfm | 2.080 | 0.090 | 2.189 | |
| lfmSingleSequence | 97.888 | 2.544 | 101.724 | |
| lmAlignment | 0.069 | 0.010 | 0.080 | |
| lmEntropy | 1.413 | 0.048 | 1.471 | |
| lmMutations | 0.049 | 0.003 | 0.053 | |
| lmObj | 0.133 | 0.007 | 0.149 | |
| lmParams | 0.708 | 0.040 | 0.760 | |
| lmPlot | 4.511 | 0.068 | 4.634 | |
| lmPlotSingleSequence | 4.827 | 0.098 | 5.016 | |
| mapMutations | 0.727 | 0.021 | 0.750 | |
| newLowMACA | 3.505 | 0.066 | 3.603 | |
| nullProfile | 1.284 | 0.038 | 1.331 | |
| parallelize | 0.643 | 0.023 | 0.673 | |
| protter | 1.284 | 0.044 | 3.355 | |
| setup | 21.804 | 44.116 | 50.185 | |
| showTumorType | 0.062 | 0.010 | 0.092 | |