| Back to Multiple platform build/check report for BioC 3.10 |
|
This page was generated on 2020-04-15 12:28:30 -0400 (Wed, 15 Apr 2020).
| Package 856/1823 | Hostname | OS / Arch | INSTALL | BUILD | CHECK | BUILD BIN | ||||||
| IntramiRExploreR 1.8.0 Surajit Bhattacharya
| malbec1 | Linux (Ubuntu 18.04.4 LTS) / x86_64 | OK | OK | OK | |||||||
| tokay1 | Windows Server 2012 R2 Standard / x64 | OK | OK | [ OK ] | OK | |||||||
| merida1 | OS X 10.11.6 El Capitan / x86_64 | OK | OK | OK | OK |
| Package: IntramiRExploreR |
| Version: 1.8.0 |
| Command: C:\Users\biocbuild\bbs-3.10-bioc\R\bin\R.exe CMD check --force-multiarch --install=check:IntramiRExploreR.install-out.txt --library=C:\Users\biocbuild\bbs-3.10-bioc\R\library --no-vignettes --timings IntramiRExploreR_1.8.0.tar.gz |
| StartedAt: 2020-04-15 04:04:35 -0400 (Wed, 15 Apr 2020) |
| EndedAt: 2020-04-15 04:06:07 -0400 (Wed, 15 Apr 2020) |
| EllapsedTime: 91.8 seconds |
| RetCode: 0 |
| Status: OK |
| CheckDir: IntramiRExploreR.Rcheck |
| Warnings: 0 |
##############################################################################
##############################################################################
###
### Running command:
###
### C:\Users\biocbuild\bbs-3.10-bioc\R\bin\R.exe CMD check --force-multiarch --install=check:IntramiRExploreR.install-out.txt --library=C:\Users\biocbuild\bbs-3.10-bioc\R\library --no-vignettes --timings IntramiRExploreR_1.8.0.tar.gz
###
##############################################################################
##############################################################################
* using log directory 'C:/Users/biocbuild/bbs-3.10-bioc/meat/IntramiRExploreR.Rcheck'
* using R version 3.6.3 (2020-02-29)
* using platform: x86_64-w64-mingw32 (64-bit)
* using session charset: ISO8859-1
* using option '--no-vignettes'
* checking for file 'IntramiRExploreR/DESCRIPTION' ... OK
* this is package 'IntramiRExploreR' version '1.8.0'
* package encoding: UTF-8
* checking package namespace information ... OK
* checking package dependencies ... OK
* checking if this is a source package ... OK
* checking if there is a namespace ... OK
* checking for hidden files and directories ... NOTE
Found the following hidden files and directories:
.travis.yml
These were most likely included in error. See section 'Package
structure' in the 'Writing R Extensions' manual.
* checking for portable file names ... OK
* checking whether package 'IntramiRExploreR' can be installed ... OK
* checking installed package size ... NOTE
installed size is 13.1Mb
sub-directories of 1Mb or more:
data 12.9Mb
* checking package directory ... OK
* checking 'build' directory ... OK
* checking DESCRIPTION meta-information ... OK
* checking top-level files ... OK
* checking for left-over files ... OK
* checking index information ... OK
* checking package subdirectories ... OK
* checking R files for non-ASCII characters ... OK
* checking R files for syntax errors ... OK
* loading checks for arch 'i386'
** checking whether the package can be loaded ... OK
** checking whether the package can be loaded with stated dependencies ... OK
** checking whether the package can be unloaded cleanly ... OK
** checking whether the namespace can be loaded with stated dependencies ... OK
** checking whether the namespace can be unloaded cleanly ... OK
* loading checks for arch 'x64'
** checking whether the package can be loaded ... OK
** checking whether the package can be loaded with stated dependencies ... OK
** checking whether the package can be unloaded cleanly ... OK
** checking whether the namespace can be loaded with stated dependencies ... OK
** checking whether the namespace can be unloaded cleanly ... OK
* checking dependencies in R code ... OK
* checking S3 generic/method consistency ... OK
* checking replacement functions ... OK
* checking foreign function calls ... OK
* checking R code for possible problems ... OK
* checking Rd files ... OK
* checking Rd metadata ... OK
* checking Rd cross-references ... OK
* checking for missing documentation entries ... OK
* checking for code/documentation mismatches ... OK
* checking Rd \usage sections ... OK
* checking Rd contents ... OK
* checking for unstated dependencies in examples ... OK
* checking contents of 'data' directory ... OK
* checking data for non-ASCII characters ... OK
* checking data for ASCII and uncompressed saves ... OK
* checking files in 'vignettes' ... OK
* checking examples ...
** running examples for arch 'i386' ... OK
** running examples for arch 'x64' ... OK
* checking for unstated dependencies in 'tests' ... OK
* checking tests ...
** running tests for arch 'i386' ...
Running 'testthat.R'
OK
** running tests for arch 'x64' ...
Running 'testthat.R'
OK
* checking for unstated dependencies in vignettes ... OK
* checking package vignettes in 'inst/doc' ... OK
* checking running R code from vignettes ... SKIPPED
* checking re-building of vignette outputs ... SKIPPED
* checking PDF version of manual ... OK
* DONE
Status: 2 NOTEs
See
'C:/Users/biocbuild/bbs-3.10-bioc/meat/IntramiRExploreR.Rcheck/00check.log'
for details.
IntramiRExploreR.Rcheck/00install.out
##############################################################################
##############################################################################
###
### Running command:
###
### C:\cygwin\bin\curl.exe -O https://malbec1.bioconductor.org/BBS/3.10/bioc/src/contrib/IntramiRExploreR_1.8.0.tar.gz && rm -rf IntramiRExploreR.buildbin-libdir && mkdir IntramiRExploreR.buildbin-libdir && C:\Users\biocbuild\bbs-3.10-bioc\R\bin\R.exe CMD INSTALL --merge-multiarch --build --library=IntramiRExploreR.buildbin-libdir IntramiRExploreR_1.8.0.tar.gz && C:\Users\biocbuild\bbs-3.10-bioc\R\bin\R.exe CMD INSTALL IntramiRExploreR_1.8.0.zip && rm IntramiRExploreR_1.8.0.tar.gz IntramiRExploreR_1.8.0.zip
###
##############################################################################
##############################################################################
% Total % Received % Xferd Average Speed Time Time Time Current
Dload Upload Total Spent Left Speed
0 0 0 0 0 0 0 0 --:--:-- --:--:-- --:--:-- 0
100 8987k 100 8987k 0 0 63.8M 0 --:--:-- --:--:-- --:--:-- 65.9M
install for i386
* installing *source* package 'IntramiRExploreR' ...
** using staged installation
** R
** data
*** moving datasets to lazyload DB
** byte-compile and prepare package for lazy loading
** help
*** installing help indices
converting help for package 'IntramiRExploreR'
finding HTML links ... done
Affy1_Distance_Final html
Affy1_Pearson_Final html
Affy2_Distance_Final html
Affy2_Pearson_Final html
Gene_Visualisation html
GetGOS_ALL html
IntramiRExploreR html
Visualisation html
extract_HostGene html
extract_intragenic_miR html
genes_Stat html
miRNA_ID_to_Function html
miRNA_summary_DB html
miRTargets_Stat html
** building package indices
** installing vignettes
** testing if installed package can be loaded from temporary location
** testing if installed package can be loaded from final location
** testing if installed package keeps a record of temporary installation path
install for x64
* installing *source* package 'IntramiRExploreR' ...
** testing if installed package can be loaded
* MD5 sums
packaged installation of 'IntramiRExploreR' as IntramiRExploreR_1.8.0.zip
* DONE (IntramiRExploreR)
* installing to library 'C:/Users/biocbuild/bbs-3.10-bioc/R/library'
package 'IntramiRExploreR' successfully unpacked and MD5 sums checked
|
IntramiRExploreR.Rcheck/tests_i386/testthat.Rout
R version 3.6.3 (2020-02-29) -- "Holding the Windsock"
Copyright (C) 2020 The R Foundation for Statistical Computing
Platform: i386-w64-mingw32/i386 (32-bit)
R is free software and comes with ABSOLUTELY NO WARRANTY.
You are welcome to redistribute it under certain conditions.
Type 'license()' or 'licence()' for distribution details.
R is a collaborative project with many contributors.
Type 'contributors()' for more information and
'citation()' on how to cite R or R packages in publications.
Type 'demo()' for some demos, 'help()' for on-line help, or
'help.start()' for an HTML browser interface to help.
Type 'q()' to quit R.
> library(testthat)
> library(IntramiRExploreR)
>
> test_check("IntramiRExploreR")
== testthat results ===========================================================
[ OK: 0 | SKIPPED: 0 | WARNINGS: 0 | FAILED: 0 ]
>
> proc.time()
user system elapsed
1.79 0.18 1.96
|
IntramiRExploreR.Rcheck/tests_x64/testthat.Rout
R version 3.6.3 (2020-02-29) -- "Holding the Windsock"
Copyright (C) 2020 The R Foundation for Statistical Computing
Platform: x86_64-w64-mingw32/x64 (64-bit)
R is free software and comes with ABSOLUTELY NO WARRANTY.
You are welcome to redistribute it under certain conditions.
Type 'license()' or 'licence()' for distribution details.
R is a collaborative project with many contributors.
Type 'contributors()' for more information and
'citation()' on how to cite R or R packages in publications.
Type 'demo()' for some demos, 'help()' for on-line help, or
'help.start()' for an HTML browser interface to help.
Type 'q()' to quit R.
> library(testthat)
> library(IntramiRExploreR)
>
> test_check("IntramiRExploreR")
== testthat results ===========================================================
[ OK: 0 | SKIPPED: 0 | WARNINGS: 0 | FAILED: 0 ]
>
> proc.time()
user system elapsed
1.28 0.17 1.43
|
|
IntramiRExploreR.Rcheck/examples_i386/IntramiRExploreR-Ex.timings
|
IntramiRExploreR.Rcheck/examples_x64/IntramiRExploreR-Ex.timings
|