| Back to Multiple platform build/check report for BioC 3.10 |
|
This page was generated on 2020-04-15 12:29:01 -0400 (Wed, 15 Apr 2020).
| Package 855/1823 | Hostname | OS / Arch | INSTALL | BUILD | CHECK | BUILD BIN | ||||||
| InterMineR 1.8.1 InterMine Team
| malbec1 | Linux (Ubuntu 18.04.4 LTS) / x86_64 | OK | OK | WARNINGS | |||||||
| tokay1 | Windows Server 2012 R2 Standard / x64 | OK | OK | WARNINGS | [ OK ] | |||||||
| merida1 | OS X 10.11.6 El Capitan / x86_64 | OK | OK | WARNINGS | OK |
| Package: InterMineR |
| Version: 1.8.1 |
| Command: rm -rf InterMineR.buildbin-libdir && mkdir InterMineR.buildbin-libdir && C:\Users\biocbuild\bbs-3.10-bioc\R\bin\R.exe CMD INSTALL --merge-multiarch --build --library=InterMineR.buildbin-libdir InterMineR_1.8.1.tar.gz |
| StartedAt: 2020-04-15 08:59:41 -0400 (Wed, 15 Apr 2020) |
| EndedAt: 2020-04-15 09:00:15 -0400 (Wed, 15 Apr 2020) |
| EllapsedTime: 34.5 seconds |
| RetCode: 0 |
| Status: OK |
| PackageFile: InterMineR_1.8.1.zip |
| PackageFileSize: 5.163 MiB |
##############################################################################
##############################################################################
###
### Running command:
###
### rm -rf InterMineR.buildbin-libdir && mkdir InterMineR.buildbin-libdir && C:\Users\biocbuild\bbs-3.10-bioc\R\bin\R.exe CMD INSTALL --merge-multiarch --build --library=InterMineR.buildbin-libdir InterMineR_1.8.1.tar.gz
###
##############################################################################
##############################################################################
install for i386
* installing *source* package 'InterMineR' ...
** using staged installation
** R
** data
*** moving datasets to lazyload DB
** inst
** byte-compile and prepare package for lazy loading
** help
*** installing help indices
converting help for package 'InterMineR'
finding HTML links ... done
InterMineR-class html
InterMineR-methods html
InterMineR-package html
PL_DiabetesGenes html
PL_FlyTF_site_specific_TFs html
convertToGRanges html
Rd warning: C:/Users/biocbuild/bbs-3.10-bioc/tmpdir/Rtmp80Z0dR/R.INSTALL3b505c0b5cf/InterMineR/man/convertToGRanges.Rd:5: file link 'GRanges' in package 'GenomicRanges' does not exist and so has been treated as a topic
Rd warning: C:/Users/biocbuild/bbs-3.10-bioc/tmpdir/Rtmp80Z0dR/R.INSTALL3b505c0b5cf/InterMineR/man/convertToGRanges.Rd:8: file link 'GRanges' in package 'GenomicRanges' does not exist and so has been treated as a topic
Rd warning: C:/Users/biocbuild/bbs-3.10-bioc/tmpdir/Rtmp80Z0dR/R.INSTALL3b505c0b5cf/InterMineR/man/convertToGRanges.Rd:26: file link 'GRanges' in package 'GenomicRanges' does not exist and so has been treated as a topic
Rd warning: C:/Users/biocbuild/bbs-3.10-bioc/tmpdir/Rtmp80Z0dR/R.INSTALL3b505c0b5cf/InterMineR/man/convertToGRanges.Rd:29: file link 'GRanges' in package 'GenomicRanges' does not exist and so has been treated as a topic
Rd warning: C:/Users/biocbuild/bbs-3.10-bioc/tmpdir/Rtmp80Z0dR/R.INSTALL3b505c0b5cf/InterMineR/man/convertToGRanges.Rd:32: file link 'GRanges' in package 'GenomicRanges' does not exist and so has been treated as a topic
Rd warning: C:/Users/biocbuild/bbs-3.10-bioc/tmpdir/Rtmp80Z0dR/R.INSTALL3b505c0b5cf/InterMineR/man/convertToGRanges.Rd:35: file link 'GRanges' in package 'GenomicRanges' does not exist and so has been treated as a topic
Rd warning: C:/Users/biocbuild/bbs-3.10-bioc/tmpdir/Rtmp80Z0dR/R.INSTALL3b505c0b5cf/InterMineR/man/convertToGRanges.Rd:38: file link 'GRanges' in package 'GenomicRanges' does not exist and so has been treated as a topic
Rd warning: C:/Users/biocbuild/bbs-3.10-bioc/tmpdir/Rtmp80Z0dR/R.INSTALL3b505c0b5cf/InterMineR/man/convertToGRanges.Rd:41: file link 'GRanges' in package 'GenomicRanges' does not exist and so has been treated as a topic
Rd warning: C:/Users/biocbuild/bbs-3.10-bioc/tmpdir/Rtmp80Z0dR/R.INSTALL3b505c0b5cf/InterMineR/man/convertToGRanges.Rd:44: file link 'GRanges' in package 'GenomicRanges' does not exist and so has been treated as a topic
Rd warning: C:/Users/biocbuild/bbs-3.10-bioc/tmpdir/Rtmp80Z0dR/R.INSTALL3b505c0b5cf/InterMineR/man/convertToGRanges.Rd:47: file link 'GRanges' in package 'GenomicRanges' does not exist and so has been treated as a topic
Rd warning: C:/Users/biocbuild/bbs-3.10-bioc/tmpdir/Rtmp80Z0dR/R.INSTALL3b505c0b5cf/InterMineR/man/convertToGRanges.Rd:56: file link 'GRanges' in package 'GenomicRanges' does not exist and so has been treated as a topic
Rd warning: C:/Users/biocbuild/bbs-3.10-bioc/tmpdir/Rtmp80Z0dR/R.INSTALL3b505c0b5cf/InterMineR/man/convertToGRanges.Rd:59: file link 'GRanges' in package 'GenomicRanges' does not exist and so has been treated as a topic
Rd warning: C:/Users/biocbuild/bbs-3.10-bioc/tmpdir/Rtmp80Z0dR/R.INSTALL3b505c0b5cf/InterMineR/man/convertToGRanges.Rd:66: file link 'GRanges' in package 'GenomicRanges' does not exist and so has been treated as a topic
convertToGeneAnswers html
Rd warning: C:/Users/biocbuild/bbs-3.10-bioc/tmpdir/Rtmp80Z0dR/R.INSTALL3b505c0b5cf/InterMineR/man/convertToGeneAnswers.Rd:8: file link 'GeneAnswers' in package 'GeneAnswers' does not exist and so has been treated as a topic
convertToRangedSummarizedExperiment html
Rd warning: C:/Users/biocbuild/bbs-3.10-bioc/tmpdir/Rtmp80Z0dR/R.INSTALL3b505c0b5cf/InterMineR/man/convertToRangedSummarizedExperiment.Rd:5: file link 'RangedSummarizedExperiment' in package 'SummarizedExperiment' does not exist and so has been treated as a topic
Rd warning: C:/Users/biocbuild/bbs-3.10-bioc/tmpdir/Rtmp80Z0dR/R.INSTALL3b505c0b5cf/InterMineR/man/convertToRangedSummarizedExperiment.Rd:8: file link 'RangedSummarizedExperiment' in package 'SummarizedExperiment' does not exist and so has been treated as a topic
Rd warning: C:/Users/biocbuild/bbs-3.10-bioc/tmpdir/Rtmp80Z0dR/R.INSTALL3b505c0b5cf/InterMineR/man/convertToRangedSummarizedExperiment.Rd:43: file link 'RangedSummarizedExperiment' in package 'SummarizedExperiment' does not exist and so has been treated as a topic
Rd warning: C:/Users/biocbuild/bbs-3.10-bioc/tmpdir/Rtmp80Z0dR/R.INSTALL3b505c0b5cf/InterMineR/man/convertToRangedSummarizedExperiment.Rd:46: file link 'RangedSummarizedExperiment' in package 'SummarizedExperiment' does not exist and so has been treated as a topic
Rd warning: C:/Users/biocbuild/bbs-3.10-bioc/tmpdir/Rtmp80Z0dR/R.INSTALL3b505c0b5cf/InterMineR/man/convertToRangedSummarizedExperiment.Rd:52: file link 'RangedSummarizedExperiment' in package 'SummarizedExperiment' does not exist and so has been treated as a topic
Rd warning: C:/Users/biocbuild/bbs-3.10-bioc/tmpdir/Rtmp80Z0dR/R.INSTALL3b505c0b5cf/InterMineR/man/convertToRangedSummarizedExperiment.Rd:54: file link 'SummarizedExperiment' in package 'SummarizedExperiment' does not exist and so has been treated as a topic
Rd warning: C:/Users/biocbuild/bbs-3.10-bioc/tmpdir/Rtmp80Z0dR/R.INSTALL3b505c0b5cf/InterMineR/man/convertToRangedSummarizedExperiment.Rd:58: file link 'RangedSummarizedExperiment' in package 'SummarizedExperiment' does not exist and so has been treated as a topic
Rd warning: C:/Users/biocbuild/bbs-3.10-bioc/tmpdir/Rtmp80Z0dR/R.INSTALL3b505c0b5cf/InterMineR/man/convertToRangedSummarizedExperiment.Rd:61: file link 'SummarizedExperiment' in package 'SummarizedExperiment' does not exist and so has been treated as a topic
Rd warning: C:/Users/biocbuild/bbs-3.10-bioc/tmpdir/Rtmp80Z0dR/R.INSTALL3b505c0b5cf/InterMineR/man/convertToRangedSummarizedExperiment.Rd:69: file link 'RangedSummarizedExperiment' in package 'SummarizedExperiment' does not exist and so has been treated as a topic
doEnrichment html
getDatasets html
getGeneIds html
getModel html
getRelease html
getTemplateQuery html
getTemplates html
getVersion html
getWidgets html
initInterMine html
listDatasets html
listMines html
newQuery html
runQuery html
setConstraints html
setQuery html
simplifyResult html
summary html
** building package indices
** installing vignettes
** testing if installed package can be loaded from temporary location
** testing if installed package can be loaded from final location
** testing if installed package keeps a record of temporary installation path
install for x64
* installing *source* package 'InterMineR' ...
** testing if installed package can be loaded
* MD5 sums
packaged installation of 'InterMineR' as InterMineR_1.8.1.zip
* DONE (InterMineR)