| Back to Multiple platform build/check report for BioC 3.10 |
|
This page was generated on 2020-04-15 12:18:30 -0400 (Wed, 15 Apr 2020).
| Package 873/1823 | Hostname | OS / Arch | INSTALL | BUILD | CHECK | BUILD BIN | ||||||
| ITALICS 2.46.0 Guillem Rigaill
| malbec1 | Linux (Ubuntu 18.04.4 LTS) / x86_64 | OK | OK | OK | |||||||
| tokay1 | Windows Server 2012 R2 Standard / x64 | [ OK ] | OK | OK | OK | |||||||
| merida1 | OS X 10.11.6 El Capitan / x86_64 | OK | OK | OK | OK |
| Package: ITALICS |
| Version: 2.46.0 |
| Command: C:\cygwin\bin\curl.exe -O https://malbec1.bioconductor.org/BBS/3.10/bioc/src/contrib/ITALICS_2.46.0.tar.gz && rm -rf ITALICS.buildbin-libdir && mkdir ITALICS.buildbin-libdir && C:\Users\biocbuild\bbs-3.10-bioc\R\bin\R.exe CMD INSTALL --merge-multiarch --build --library=ITALICS.buildbin-libdir ITALICS_2.46.0.tar.gz && C:\Users\biocbuild\bbs-3.10-bioc\R\bin\R.exe CMD INSTALL ITALICS_2.46.0.zip && rm ITALICS_2.46.0.tar.gz ITALICS_2.46.0.zip |
| StartedAt: 2020-04-14 19:43:04 -0400 (Tue, 14 Apr 2020) |
| EndedAt: 2020-04-14 19:43:49 -0400 (Tue, 14 Apr 2020) |
| EllapsedTime: 44.9 seconds |
| RetCode: 0 |
| Status: OK |
##############################################################################
##############################################################################
###
### Running command:
###
### C:\cygwin\bin\curl.exe -O https://malbec1.bioconductor.org/BBS/3.10/bioc/src/contrib/ITALICS_2.46.0.tar.gz && rm -rf ITALICS.buildbin-libdir && mkdir ITALICS.buildbin-libdir && C:\Users\biocbuild\bbs-3.10-bioc\R\bin\R.exe CMD INSTALL --merge-multiarch --build --library=ITALICS.buildbin-libdir ITALICS_2.46.0.tar.gz && C:\Users\biocbuild\bbs-3.10-bioc\R\bin\R.exe CMD INSTALL ITALICS_2.46.0.zip && rm ITALICS_2.46.0.tar.gz ITALICS_2.46.0.zip
###
##############################################################################
##############################################################################
% Total % Received % Xferd Average Speed Time Time Time Current
Dload Upload Total Spent Left Speed
0 0 0 0 0 0 0 0 --:--:-- --:--:-- --:--:-- 0
100 119k 100 119k 0 0 3625k 0 --:--:-- --:--:-- --:--:-- 4115k
install for i386
* installing *source* package 'ITALICS' ...
** using staged installation
** R
** inst
** byte-compile and prepare package for lazy loading
No methods found in package 'RSQLite' for request: 'dbListFields' when loading 'oligo'
** help
*** installing help indices
converting help for package 'ITALICS'
finding HTML links ... done
GLAD.GLAD html
ITALICSNew html
ITALICSTrain html
Model.GetConfDat html
Model.GetCorrection html
Model.GetEffet html
Model.GetModel html
Model.GetResidu html
New.AddInfo html
New.fromQuartetToSnp html
New.fromSnpToQuartet html
New.getQuartet html
New.getSnpInfo html
New.readQuartetCopyNb html
** building package indices
** installing vignettes
** testing if installed package can be loaded from temporary location
No methods found in package 'RSQLite' for request: 'dbListFields' when loading 'oligo'
** testing if installed package can be loaded from final location
No methods found in package 'RSQLite' for request: 'dbListFields' when loading 'oligo'
** testing if installed package keeps a record of temporary installation path
install for x64
* installing *source* package 'ITALICS' ...
** testing if installed package can be loaded
No methods found in package 'RSQLite' for request: 'dbListFields' when loading 'oligo'
* MD5 sums
packaged installation of 'ITALICS' as ITALICS_2.46.0.zip
* DONE (ITALICS)
* installing to library 'C:/Users/biocbuild/bbs-3.10-bioc/R/library'
package 'ITALICS' successfully unpacked and MD5 sums checked