| Back to Multiple platform build/check report for BioC 3.10 |
|
This page was generated on 2020-04-15 12:25:09 -0400 (Wed, 15 Apr 2020).
| Package 848/1823 | Hostname | OS / Arch | INSTALL | BUILD | CHECK | BUILD BIN | ||||||
| INSPEcT 1.16.3 Stefano de Pretis
| malbec1 | Linux (Ubuntu 18.04.4 LTS) / x86_64 | OK | OK | OK | |||||||
| tokay1 | Windows Server 2012 R2 Standard / x64 | OK | OK | [ OK ] | OK | |||||||
| merida1 | OS X 10.11.6 El Capitan / x86_64 | OK | OK | OK | OK |
| Package: INSPEcT |
| Version: 1.16.3 |
| Command: C:\Users\biocbuild\bbs-3.10-bioc\R\bin\R.exe CMD check --force-multiarch --install=check:INSPEcT.install-out.txt --library=C:\Users\biocbuild\bbs-3.10-bioc\R\library --no-vignettes --timings INSPEcT_1.16.3.tar.gz |
| StartedAt: 2020-04-15 04:03:24 -0400 (Wed, 15 Apr 2020) |
| EndedAt: 2020-04-15 04:36:20 -0400 (Wed, 15 Apr 2020) |
| EllapsedTime: 1976.0 seconds |
| RetCode: 0 |
| Status: OK |
| CheckDir: INSPEcT.Rcheck |
| Warnings: 0 |
##############################################################################
##############################################################################
###
### Running command:
###
### C:\Users\biocbuild\bbs-3.10-bioc\R\bin\R.exe CMD check --force-multiarch --install=check:INSPEcT.install-out.txt --library=C:\Users\biocbuild\bbs-3.10-bioc\R\library --no-vignettes --timings INSPEcT_1.16.3.tar.gz
###
##############################################################################
##############################################################################
* using log directory 'C:/Users/biocbuild/bbs-3.10-bioc/meat/INSPEcT.Rcheck'
* using R version 3.6.3 (2020-02-29)
* using platform: x86_64-w64-mingw32 (64-bit)
* using session charset: ISO8859-1
* using option '--no-vignettes'
* checking for file 'INSPEcT/DESCRIPTION' ... OK
* checking extension type ... Package
* this is package 'INSPEcT' version '1.16.3'
* checking package namespace information ... OK
* checking package dependencies ... OK
* checking if this is a source package ... OK
* checking if there is a namespace ... OK
* checking for hidden files and directories ... OK
* checking for portable file names ... OK
* checking whether package 'INSPEcT' can be installed ... OK
* checking installed package size ... NOTE
installed size is 7.2Mb
sub-directories of 1Mb or more:
R 1.6Mb
data 2.8Mb
* checking package directory ... OK
* checking 'build' directory ... OK
* checking DESCRIPTION meta-information ... OK
* checking top-level files ... OK
* checking for left-over files ... OK
* checking index information ... OK
* checking package subdirectories ... OK
* checking R files for non-ASCII characters ... OK
* checking R files for syntax errors ... OK
* loading checks for arch 'i386'
** checking whether the package can be loaded ... OK
** checking whether the package can be loaded with stated dependencies ... OK
** checking whether the package can be unloaded cleanly ... OK
** checking whether the namespace can be loaded with stated dependencies ... OK
** checking whether the namespace can be unloaded cleanly ... OK
* loading checks for arch 'x64'
** checking whether the package can be loaded ... OK
** checking whether the package can be loaded with stated dependencies ... OK
** checking whether the package can be unloaded cleanly ... OK
** checking whether the namespace can be loaded with stated dependencies ... OK
** checking whether the namespace can be unloaded cleanly ... OK
* checking dependencies in R code ... OK
* checking S3 generic/method consistency ... OK
* checking replacement functions ... OK
* checking foreign function calls ... OK
* checking R code for possible problems ... OK
* checking Rd files ... OK
* checking Rd metadata ... OK
* checking Rd cross-references ... OK
* checking for missing documentation entries ... OK
* checking for code/documentation mismatches ... OK
* checking Rd \usage sections ... OK
* checking Rd contents ... OK
* checking for unstated dependencies in examples ... OK
* checking contents of 'data' directory ... OK
* checking data for non-ASCII characters ... OK
* checking data for ASCII and uncompressed saves ... OK
* checking files in 'vignettes' ... OK
* checking examples ...
** running examples for arch 'i386' ... OK
Examples with CPU or elapsed time > 5s
user system elapsed
makeSimModel 27.77 0.15 27.94
processingDelay 20.37 0.55 314.45
quantifyExpressionsFromTrCounts 20.51 0.02 20.55
newINSPEcT 12.16 0.39 334.12
compareSteadyNoNascent 6.94 0.64 7.58
makeOscillatorySimModel 6.66 0.05 7.20
** running examples for arch 'x64' ... OK
Examples with CPU or elapsed time > 5s
user system elapsed
makeSimModel 36.45 0.00 36.45
processingDelay 28.50 0.37 345.42
quantifyExpressionsFromTrCounts 20.86 0.04 20.89
newINSPEcT 17.73 0.38 322.51
compareSteadyNoNascent 10.78 0.09 10.88
makeOscillatorySimModel 7.85 0.00 8.11
* checking for unstated dependencies in vignettes ... OK
* checking package vignettes in 'inst/doc' ... OK
* checking running R code from vignettes ... SKIPPED
* checking re-building of vignette outputs ... SKIPPED
* checking PDF version of manual ... OK
* DONE
Status: 1 NOTE
See
'C:/Users/biocbuild/bbs-3.10-bioc/meat/INSPEcT.Rcheck/00check.log'
for details.
INSPEcT.Rcheck/00install.out
##############################################################################
##############################################################################
###
### Running command:
###
### C:\cygwin\bin\curl.exe -O https://malbec1.bioconductor.org/BBS/3.10/bioc/src/contrib/INSPEcT_1.16.3.tar.gz && rm -rf INSPEcT.buildbin-libdir && mkdir INSPEcT.buildbin-libdir && C:\Users\biocbuild\bbs-3.10-bioc\R\bin\R.exe CMD INSTALL --merge-multiarch --build --library=INSPEcT.buildbin-libdir INSPEcT_1.16.3.tar.gz && C:\Users\biocbuild\bbs-3.10-bioc\R\bin\R.exe CMD INSTALL INSPEcT_1.16.3.zip && rm INSPEcT_1.16.3.tar.gz INSPEcT_1.16.3.zip
###
##############################################################################
##############################################################################
% Total % Received % Xferd Average Speed Time Time Time Current
Dload Upload Total Spent Left Speed
0 0 0 0 0 0 0 0 --:--:-- --:--:-- --:--:-- 0
100 5866k 100 5866k 0 0 56.3M 0 --:--:-- --:--:-- --:--:-- 58.4M
install for i386
* installing *source* package 'INSPEcT' ...
** using staged installation
** R
** data
** inst
** byte-compile and prepare package for lazy loading
** help
*** installing help indices
converting help for package 'INSPEcT'
finding HTML links ... done
AIC-INSPEcT-method html
Extract html
INSPEcT-class html
finding level-2 HTML links ... done
INSPEcT-shinyApps html
INSPEcT html
INSPEcT_diffsteady-class html
INSPEcT_model-class html
allcounts html
calculateRatePvals html
chisqmodel html
chisqtest html
combine html
compareSteady html
compareSteadyNoNascent html
computeConfidenceIntervals html
convergence html
correlationPlot html
dim-INSPEcT-method html
featureNames-INSPEcT-method html
featureWidths html
geneClass html
inHeatmap html
inspectFromBAM html
inspectFromPCR html
labeledSF html
libsizes html
logLik html
makeModelRates html
makeOscillatorySimModel html
makeSimDataset html
makeSimModel html
modelRates html
modelRatesNF html
modelSelection html
modelingParams html
nGenes html
nTpts html
newINSPEcT html
plotGene html
plotMA html
processingDelay html
quantifyExpressionsFromBAMs html
quantifyExpressionsFromTrAbundance html
quantifyExpressionsFromTrCounts html
ratePvals html
ratesFirstGuess html
ratesFirstGuessVar html
removeModel html
rocCurve html
rocThresholds html
setConfidenceIntervals html
simData3rep_Nascent html
simData3rep_NoNascent html
simData4rep_Nascent html
simData4rep_NoNascent html
split html
tpts html
viewConfidenceIntervals html
viewModelRates html
** building package indices
** installing vignettes
** testing if installed package can be loaded from temporary location
** testing if installed package can be loaded from final location
** testing if installed package keeps a record of temporary installation path
install for x64
* installing *source* package 'INSPEcT' ...
** testing if installed package can be loaded
* MD5 sums
packaged installation of 'INSPEcT' as INSPEcT_1.16.3.zip
* DONE (INSPEcT)
* installing to library 'C:/Users/biocbuild/bbs-3.10-bioc/R/library'
package 'INSPEcT' successfully unpacked and MD5 sums checked
|
INSPEcT.Rcheck/examples_i386/INSPEcT-Ex.timings
|
INSPEcT.Rcheck/examples_x64/INSPEcT-Ex.timings
|