| Back to Multiple platform build/check report for BioC 3.10 |
|
This page was generated on 2020-04-15 12:30:09 -0400 (Wed, 15 Apr 2020).
| Package 837/1823 | Hostname | OS / Arch | INSTALL | BUILD | CHECK | BUILD BIN | ||||||
| IMMAN 1.6.0 Minoo Ashtiani
| malbec1 | Linux (Ubuntu 18.04.4 LTS) / x86_64 | OK | OK | OK | |||||||
| tokay1 | Windows Server 2012 R2 Standard / x64 | OK | OK | OK | [ OK ] | |||||||
| merida1 | OS X 10.11.6 El Capitan / x86_64 | OK | OK | OK | OK |
| Package: IMMAN |
| Version: 1.6.0 |
| Command: rm -rf IMMAN.buildbin-libdir && mkdir IMMAN.buildbin-libdir && C:\Users\biocbuild\bbs-3.10-bioc\R\bin\R.exe CMD INSTALL --merge-multiarch --build --library=IMMAN.buildbin-libdir IMMAN_1.6.0.tar.gz |
| StartedAt: 2020-04-15 08:58:39 -0400 (Wed, 15 Apr 2020) |
| EndedAt: 2020-04-15 08:59:16 -0400 (Wed, 15 Apr 2020) |
| EllapsedTime: 37.7 seconds |
| RetCode: 0 |
| Status: OK |
| PackageFile: IMMAN_1.6.0.zip |
| PackageFileSize: 94.7 KiB |
##############################################################################
##############################################################################
###
### Running command:
###
### rm -rf IMMAN.buildbin-libdir && mkdir IMMAN.buildbin-libdir && C:\Users\biocbuild\bbs-3.10-bioc\R\bin\R.exe CMD INSTALL --merge-multiarch --build --library=IMMAN.buildbin-libdir IMMAN_1.6.0.tar.gz
###
##############################################################################
##############################################################################
install for i386
* installing *source* package 'IMMAN' ...
** using staged installation
** R
** data
*** moving datasets to lazyload DB
** inst
** byte-compile and prepare package for lazy loading
** help
*** installing help indices
converting help for package 'IMMAN'
finding HTML links ... done
Celegance html
FruitFly html
H.sapiens html
IMMAN html
R.norvegicus html
** building package indices
** installing vignettes
** testing if installed package can be loaded from temporary location
** testing if installed package can be loaded from final location
** testing if installed package keeps a record of temporary installation path
install for x64
* installing *source* package 'IMMAN' ...
** testing if installed package can be loaded
* MD5 sums
packaged installation of 'IMMAN' as IMMAN_1.6.0.zip
* DONE (IMMAN)