| Back to Multiple platform build/check report for BioC 3.10 |
|
This page was generated on 2020-04-15 12:05:25 -0400 (Wed, 15 Apr 2020).
| Package 790/1823 | Hostname | OS / Arch | INSTALL | BUILD | CHECK | BUILD BIN | ||||||
| HilbertVisGUI 1.44.0 Simon Anders
| malbec1 | Linux (Ubuntu 18.04.4 LTS) / x86_64 | [ OK ] | OK | OK | |||||||
| tokay1 | Windows Server 2012 R2 Standard / x64 | OK | OK | WARNINGS | OK | |||||||
| merida1 | OS X 10.11.6 El Capitan / x86_64 | ...NOT SUPPORTED... | ||||||||||
| Package: HilbertVisGUI |
| Version: 1.44.0 |
| Command: /home/biocbuild/bbs-3.10-bioc/R/bin/R CMD INSTALL HilbertVisGUI |
| StartedAt: 2020-04-14 18:11:24 -0400 (Tue, 14 Apr 2020) |
| EndedAt: 2020-04-14 18:11:43 -0400 (Tue, 14 Apr 2020) |
| EllapsedTime: 19.9 seconds |
| RetCode: 0 |
| Status: OK |
##############################################################################
##############################################################################
###
### Running command:
###
### /home/biocbuild/bbs-3.10-bioc/R/bin/R CMD INSTALL HilbertVisGUI
###
##############################################################################
##############################################################################
* installing to library ‘/home/biocbuild/bbs-3.10-bioc/R/library’
* installing *source* package ‘HilbertVisGUI’ ...
** using staged installation
Checking for pkg-config... /usr/bin/pkg-config
Checking for gtkmm-2.4... found: version 2.24.5
** libs
gcc -I"/home/biocbuild/bbs-3.10-bioc/R/include" -DNDEBUG `pkg-config gtkmm-2.4 --cflags` -DSO_NAME=HilbertVisGUI -DSO_NAME=HilbertVisGUI -I/usr/local/include `pkg-config gtkmm-2.4 --cflags` -DSO_NAME=HilbertVisGUI -DSO_NAME=HilbertVisGUI -fpic -g -O2 -Wall -c R_env_prot.c -o R_env_prot.o
g++ -std=gnu++11 -I"/home/biocbuild/bbs-3.10-bioc/R/include" -DNDEBUG `pkg-config gtkmm-2.4 --cflags` -DSO_NAME=HilbertVisGUI -DSO_NAME=HilbertVisGUI -I/usr/local/include -fpic -g -O2 -Wall -c R_interface.cc -o R_interface.o
In file included from R_interface.cc:10:0:
colorizers.h:42:9: warning: ‘template<class> class std::auto_ptr’ is deprecated [-Wdeprecated-declarations]
std::auto_ptr<DataVector> data;
^~~~~~~~
In file included from /usr/include/c++/7/memory:80:0,
from /usr/include/glibmm-2.4/glibmm/objectbase.h:31,
from /usr/include/glibmm-2.4/glibmm/wrap.h:22,
from /usr/include/glibmm-2.4/glibmm/containerhandle_shared.h:24,
from /usr/include/glibmm-2.4/glibmm/arrayhandle.h:21,
from /usr/include/glibmm-2.4/glibmm.h:92,
from /usr/include/gtkmm-2.4/gtkmm.h:87,
from display.h:7,
from R_interface.cc:8:
/usr/include/c++/7/bits/unique_ptr.h:51:28: note: declared here
template<typename> class auto_ptr;
^~~~~~~~
R_interface.cc: In function ‘SEXPREC* R_display_hilbert(SEXP)’:
R_interface.cc:510:22: warning: comparison between signed and unsigned integer expressions [-Wsign-compare]
for( int i = 0; i < palette_steps->size(); i++ )
~~^~~~~~~~~~~~~~~~~~~~~~~
R_interface.cc:509:11: warning: unused variable ‘palette_level’ [-Wunused-variable]
double palette_level = log( REAL( max_palette_valueR )[ 0 ] ) / log( 10. ) * 4;
^~~~~~~~~~~~~
R_interface.cc: In member function ‘void MainWindowForRForBidir::set_palette_level(double)’:
R_interface.cc:702:22: warning: comparison between signed and unsigned integer expressions [-Wsign-compare]
for( int i = 0; i < palette_steps->size(); i++ )
~~^~~~~~~~~~~~~~~~~~~~~~~
R_interface.cc: In member function ‘double RDataVector<data_el_t>::get_bin_value(long int, long int) const [with data_el_t = int]’:
R_interface.cc:119:8: warning: ‘val’ may be used uninitialized in this function [-Wmaybe-uninitialized]
int val;
^~~
R_interface.cc: In member function ‘double RDataVector<data_el_t>::get_bin_value(long int, long int) const [with data_el_t = double]’:
R_interface.cc:219:11: warning: ‘val’ may be used uninitialized in this function [-Wmaybe-uninitialized]
val /= count;
~~~~^~~~~~~~
g++ -std=gnu++11 -I"/home/biocbuild/bbs-3.10-bioc/R/include" -DNDEBUG `pkg-config gtkmm-2.4 --cflags` -DSO_NAME=HilbertVisGUI -DSO_NAME=HilbertVisGUI -I/usr/local/include -fpic -g -O2 -Wall -c colorizers.cc -o colorizers.o
In file included from colorizers.cc:1:0:
colorizers.h:42:9: warning: ‘template<class> class std::auto_ptr’ is deprecated [-Wdeprecated-declarations]
std::auto_ptr<DataVector> data;
^~~~~~~~
In file included from /usr/include/c++/7/memory:80:0,
from colorizers.h:4,
from colorizers.cc:1:
/usr/include/c++/7/bits/unique_ptr.h:51:28: note: declared here
template<typename> class auto_ptr;
^~~~~~~~
g++ -std=gnu++11 -I"/home/biocbuild/bbs-3.10-bioc/R/include" -DNDEBUG `pkg-config gtkmm-2.4 --cflags` -DSO_NAME=HilbertVisGUI -DSO_NAME=HilbertVisGUI -I/usr/local/include -fpic -g -O2 -Wall -c display.cc -o display.o
display.cc: In function ‘coord hilbert(long long int, int)’:
display.cc:21:46: warning: narrowing conversion of ‘(((long int)c.coord::y) + (1 << (lv - 1)))’ from ‘long int’ to ‘int’ inside { } [-Wnarrowing]
case 1: { return (coord) { c.x, c.y + ( 1l << (lv-1) ) }; }
~~~~^~~~~~~~~~~~~~~~~~
display.cc:22:41: warning: narrowing conversion of ‘(((long int)c.coord::x) + (1 << (lv - 1)))’ from ‘long int’ to ‘int’ inside { } [-Wnarrowing]
case 2: { return (coord) { c.x + ( 1l << (lv-1) ), c.y + ( 1l << (lv-1) ) }; }
~~~~^~~~~~~~~~~~~~~~~~
display.cc:22:65: warning: narrowing conversion of ‘(((long int)c.coord::y) + (1 << (lv - 1)))’ from ‘long int’ to ‘int’ inside { } [-Wnarrowing]
case 2: { return (coord) { c.x + ( 1l << (lv-1) ), c.y + ( 1l << (lv-1) ) }; }
~~~~^~~~~~~~~~~~~~~~~~
display.cc:23:50: warning: narrowing conversion of ‘(((1 << lv) - 1) - ((long int)c.coord::y))’ from ‘long int’ to ‘int’ inside { } [-Wnarrowing]
case 3: { return (coord) { (1l<<lv) - 1 - c.y, ( 1l << (lv-1) ) - 1 - c.x }; }
~~~~~~~~~~~~~^~~~~
display.cc:23:78: warning: narrowing conversion of ‘(((1 << (lv - 1)) - 1) - ((long int)c.coord::x))’ from ‘long int’ to ‘int’ inside { } [-Wnarrowing]
case 3: { return (coord) { (1l<<lv) - 1 - c.y, ( 1l << (lv-1) ) - 1 - c.x }; }
~~~~~~~~~~~~~~~~~~~~~^~~~~
g++ -std=gnu++11 -I"/home/biocbuild/bbs-3.10-bioc/R/include" -DNDEBUG `pkg-config gtkmm-2.4 --cflags` -DSO_NAME=HilbertVisGUI -DSO_NAME=HilbertVisGUI -I/usr/local/include -fpic -g -O2 -Wall -c ruler.cc -o ruler.o
g++ -std=gnu++11 -I"/home/biocbuild/bbs-3.10-bioc/R/include" -DNDEBUG `pkg-config gtkmm-2.4 --cflags` -DSO_NAME=HilbertVisGUI -DSO_NAME=HilbertVisGUI -I/usr/local/include -fpic -g -O2 -Wall -c window.cc -o window.o
In file included from window.cc:7:0:
colorizers.h:42:9: warning: ‘template<class> class std::auto_ptr’ is deprecated [-Wdeprecated-declarations]
std::auto_ptr<DataVector> data;
^~~~~~~~
In file included from /usr/include/c++/7/memory:80:0,
from /usr/include/glibmm-2.4/glibmm/objectbase.h:31,
from /usr/include/glibmm-2.4/glibmm/wrap.h:22,
from /usr/include/glibmm-2.4/glibmm/containerhandle_shared.h:24,
from /usr/include/glibmm-2.4/glibmm/arrayhandle.h:21,
from /usr/include/glibmm-2.4/glibmm.h:92,
from /usr/include/gtkmm-2.4/gtkmm.h:87,
from window.h:5,
from window.cc:4:
/usr/include/c++/7/bits/unique_ptr.h:51:28: note: declared here
template<typename> class auto_ptr;
^~~~~~~~
g++ -std=gnu++11 -shared -L/home/biocbuild/bbs-3.10-bioc/R/lib -L/usr/local/lib -o HilbertVisGUI.so R_env_prot.o R_interface.o colorizers.o display.o ruler.o window.o -lgtkmm-2.4 -latkmm-1.6 -lgtk-x11-2.0 -lgdkmm-2.4 -lgiomm-2.4 -lpangomm-1.4 -lglibmm-2.4 -lcairomm-1.0 -lsigc-2.0 -lgtk-x11-2.0 -lgdk-x11-2.0 -lpangocairo-1.0 -latk-1.0 -lcairo -lgdk_pixbuf-2.0 -lgio-2.0 -lpangoft2-1.0 -lpango-1.0 -lgobject-2.0 -lglib-2.0 -lfontconfig -lfreetype -L/home/biocbuild/bbs-3.10-bioc/R/lib -lR
installing to /home/biocbuild/bbs-3.10-bioc/R/library/00LOCK-HilbertVisGUI/00new/HilbertVisGUI/libs
** R
** inst
** byte-compile and prepare package for lazy loading
** help
*** installing help indices
** building package indices
** installing vignettes
** testing if installed package can be loaded from temporary location
** checking absolute paths in shared objects and dynamic libraries
** testing if installed package can be loaded from final location
** testing if installed package keeps a record of temporary installation path
* DONE (HilbertVisGUI)