| Back to Multiple platform build/check report for BioC 3.10 |
|
This page was generated on 2020-04-15 12:42:14 -0400 (Wed, 15 Apr 2020).
| Package 788/1823 | Hostname | OS / Arch | INSTALL | BUILD | CHECK | BUILD BIN | ||||||
| HilbertCurve 1.16.0 Zuguang Gu
| malbec1 | Linux (Ubuntu 18.04.4 LTS) / x86_64 | OK | OK | OK | |||||||
| tokay1 | Windows Server 2012 R2 Standard / x64 | OK | OK | OK | OK | |||||||
| merida1 | OS X 10.11.6 El Capitan / x86_64 | OK | OK | [ OK ] | OK |
| Package: HilbertCurve |
| Version: 1.16.0 |
| Command: /Library/Frameworks/R.framework/Versions/Current/Resources/bin/R CMD check --install=check:HilbertCurve.install-out.txt --library=/Library/Frameworks/R.framework/Versions/Current/Resources/library --no-vignettes --timings HilbertCurve_1.16.0.tar.gz |
| StartedAt: 2020-04-15 03:01:27 -0400 (Wed, 15 Apr 2020) |
| EndedAt: 2020-04-15 03:04:31 -0400 (Wed, 15 Apr 2020) |
| EllapsedTime: 184.1 seconds |
| RetCode: 0 |
| Status: OK |
| CheckDir: HilbertCurve.Rcheck |
| Warnings: 0 |
##############################################################################
##############################################################################
###
### Running command:
###
### /Library/Frameworks/R.framework/Versions/Current/Resources/bin/R CMD check --install=check:HilbertCurve.install-out.txt --library=/Library/Frameworks/R.framework/Versions/Current/Resources/library --no-vignettes --timings HilbertCurve_1.16.0.tar.gz
###
##############################################################################
##############################################################################
* using log directory ‘/Users/biocbuild/bbs-3.10-bioc/meat/HilbertCurve.Rcheck’
* using R version 3.6.3 (2020-02-29)
* using platform: x86_64-apple-darwin15.6.0 (64-bit)
* using session charset: UTF-8
* using option ‘--no-vignettes’
* checking for file ‘HilbertCurve/DESCRIPTION’ ... OK
* checking extension type ... Package
* this is package ‘HilbertCurve’ version ‘1.16.0’
* checking package namespace information ... OK
* checking package dependencies ... OK
* checking if this is a source package ... OK
* checking if there is a namespace ... OK
* checking for hidden files and directories ... OK
* checking for portable file names ... OK
* checking for sufficient/correct file permissions ... OK
* checking whether package ‘HilbertCurve’ can be installed ... OK
* checking installed package size ... OK
* checking package directory ... OK
* checking ‘build’ directory ... OK
* checking DESCRIPTION meta-information ... OK
* checking top-level files ... OK
* checking for left-over files ... OK
* checking index information ... OK
* checking package subdirectories ... OK
* checking R files for non-ASCII characters ... OK
* checking R files for syntax errors ... OK
* checking whether the package can be loaded ... OK
* checking whether the package can be loaded with stated dependencies ... OK
* checking whether the package can be unloaded cleanly ... OK
* checking whether the namespace can be loaded with stated dependencies ... OK
* checking whether the namespace can be unloaded cleanly ... OK
* checking dependencies in R code ... OK
* checking S3 generic/method consistency ... OK
* checking replacement functions ... OK
* checking foreign function calls ... OK
* checking R code for possible problems ... OK
* checking Rd files ... OK
* checking Rd metadata ... OK
* checking Rd cross-references ... OK
* checking for missing documentation entries ... OK
* checking for code/documentation mismatches ... OK
* checking Rd \usage sections ... OK
* checking Rd contents ... OK
* checking for unstated dependencies in examples ... OK
* checking installed files from ‘inst/doc’ ... OK
* checking files in ‘vignettes’ ... OK
* checking examples ... OK
Examples with CPU or elapsed time > 5s
user system elapsed
hc_layer-HilbertCurve-method 18.387 0.720 19.295
hc_layer-GenomicHilbertCurve-method 12.216 0.250 12.576
GenomicHilbertCurve 11.238 0.136 12.350
hc_png-HilbertCurve-method 5.560 0.211 5.828
hc_map-GenomicHilbertCurve-method 4.931 0.059 5.046
* checking for unstated dependencies in ‘tests’ ... OK
* checking tests ...
Running ‘test-all.R’
OK
* checking for unstated dependencies in vignettes ... OK
* checking package vignettes in ‘inst/doc’ ... OK
* checking running R code from vignettes ... SKIPPED
* checking re-building of vignette outputs ... SKIPPED
* checking PDF version of manual ... OK
* DONE
Status: OK
HilbertCurve.Rcheck/00install.out
############################################################################## ############################################################################## ### ### Running command: ### ### /Library/Frameworks/R.framework/Versions/Current/Resources/bin/R CMD INSTALL HilbertCurve ### ############################################################################## ############################################################################## * installing to library ‘/Library/Frameworks/R.framework/Versions/3.6/Resources/library’ * installing *source* package ‘HilbertCurve’ ... ** using staged installation ** R ** inst ** byte-compile and prepare package for lazy loading ** help *** installing help indices ** building package indices ** installing vignettes ‘HilbertCurve.Rmd’ ** testing if installed package can be loaded from temporary location ** testing if installed package can be loaded from final location ** testing if installed package keeps a record of temporary installation path * DONE (HilbertCurve)
HilbertCurve.Rcheck/tests/test-all.Rout
R version 3.6.3 (2020-02-29) -- "Holding the Windsock"
Copyright (C) 2020 The R Foundation for Statistical Computing
Platform: x86_64-apple-darwin15.6.0 (64-bit)
R is free software and comes with ABSOLUTELY NO WARRANTY.
You are welcome to redistribute it under certain conditions.
Type 'license()' or 'licence()' for distribution details.
R is a collaborative project with many contributors.
Type 'contributors()' for more information and
'citation()' on how to cite R or R packages in publications.
Type 'demo()' for some demos, 'help()' for on-line help, or
'help.start()' for an HTML browser interface to help.
Type 'q()' to quit R.
> library(testthat)
> suppressWarnings(suppressPackageStartupMessages(library(HilbertCurve)))
>
> test_check("HilbertCurve")
══ testthat results ═══════════════════════════════════════════════════════════
[ OK: 8 | SKIPPED: 0 | WARNINGS: 0 | FAILED: 0 ]
>
> proc.time()
user system elapsed
5.654 0.352 6.057
HilbertCurve.Rcheck/HilbertCurve-Ex.timings
| name | user | system | elapsed | |
| GenomicHilbertCurve-class | 0 | 0 | 0 | |
| GenomicHilbertCurve | 11.238 | 0.136 | 12.350 | |
| HilbertCurve-class | 0 | 0 | 0 | |
| HilbertCurve | 0.476 | 0.012 | 0.497 | |
| default_overlay | 0 | 0 | 0 | |
| hc_centered_text-HilbertCurve-method | 0.138 | 0.001 | 0.140 | |
| hc_layer-GenomicHilbertCurve-method | 12.216 | 0.250 | 12.576 | |
| hc_layer-HilbertCurve-method | 18.387 | 0.720 | 19.295 | |
| hc_layer-dispatch | 0 | 0 | 0 | |
| hc_level-HilbertCurve-method | 0.028 | 0.002 | 0.030 | |
| hc_map-GenomicHilbertCurve-method | 4.931 | 0.059 | 5.046 | |
| hc_normal_points-HilbertCurve-method | 0.000 | 0.000 | 0.001 | |
| hc_offset-HilbertCurve-method | 0.012 | 0.000 | 0.013 | |
| hc_png-HilbertCurve-method | 5.560 | 0.211 | 5.828 | |
| hc_points-GenomicHilbertCurve-method | 0.532 | 0.009 | 0.544 | |
| hc_points-HilbertCurve-method | 0.771 | 0.008 | 0.784 | |
| hc_points-dispatch | 0.000 | 0.000 | 0.001 | |
| hc_polygon-GenomicHilbertCurve-method | 0.714 | 0.007 | 0.734 | |
| hc_polygon-HilbertCurve-method | 0.137 | 0.003 | 0.143 | |
| hc_polygon-dispatch | 0 | 0 | 0 | |
| hc_rect-GenomicHilbertCurve-method | 0.404 | 0.005 | 0.413 | |
| hc_rect-HilbertCurve-method | 0.108 | 0.003 | 0.112 | |
| hc_rect-dispatch | 0 | 0 | 0 | |
| hc_segmented_points-HilbertCurve-method | 0.001 | 0.000 | 0.000 | |
| hc_segments-GenomicHilbertCurve-method | 0.818 | 0.007 | 0.834 | |
| hc_segments-HilbertCurve-method | 0.134 | 0.003 | 0.139 | |
| hc_segments-dispatch | 0.001 | 0.000 | 0.000 | |
| hc_text-GenomicHilbertCurve-method | 0.339 | 0.006 | 0.349 | |
| hc_text-HilbertCurve-method | 0.092 | 0.004 | 0.098 | |
| hc_text-dispatch | 0 | 0 | 0 | |
| is_white | 0.000 | 0.000 | 0.001 | |
| show-HilbertCurve-method | 0.012 | 0.000 | 0.013 | |
| unzoom-HilbertCurve-method | 0.011 | 0.000 | 0.011 | |
| zoom-HilbertCurve-method | 0.013 | 0.001 | 0.014 | |