| Back to Multiple platform build/check report for BioC 3.10 |
|
This page was generated on 2020-04-15 12:31:00 -0400 (Wed, 15 Apr 2020).
| Package 799/1823 | Hostname | OS / Arch | INSTALL | BUILD | CHECK | BUILD BIN | ||||||
| HPAanalyze 1.4.3 Anh Nhat Tran
| malbec1 | Linux (Ubuntu 18.04.4 LTS) / x86_64 | OK | OK | OK | |||||||
| tokay1 | Windows Server 2012 R2 Standard / x64 | [ OK ] | OK | OK | OK | |||||||
| merida1 | OS X 10.11.6 El Capitan / x86_64 | OK | OK | OK | OK |
| Package: HPAanalyze |
| Version: 1.4.3 |
| Command: C:\cygwin\bin\curl.exe -O https://malbec1.bioconductor.org/BBS/3.10/bioc/src/contrib/HPAanalyze_1.4.3.tar.gz && rm -rf HPAanalyze.buildbin-libdir && mkdir HPAanalyze.buildbin-libdir && C:\Users\biocbuild\bbs-3.10-bioc\R\bin\R.exe CMD INSTALL --merge-multiarch --build --library=HPAanalyze.buildbin-libdir HPAanalyze_1.4.3.tar.gz && C:\Users\biocbuild\bbs-3.10-bioc\R\bin\R.exe CMD INSTALL HPAanalyze_1.4.3.zip && rm HPAanalyze_1.4.3.tar.gz HPAanalyze_1.4.3.zip |
| StartedAt: 2020-04-14 18:58:48 -0400 (Tue, 14 Apr 2020) |
| EndedAt: 2020-04-14 18:59:56 -0400 (Tue, 14 Apr 2020) |
| EllapsedTime: 67.2 seconds |
| RetCode: 0 |
| Status: OK |
##############################################################################
##############################################################################
###
### Running command:
###
### C:\cygwin\bin\curl.exe -O https://malbec1.bioconductor.org/BBS/3.10/bioc/src/contrib/HPAanalyze_1.4.3.tar.gz && rm -rf HPAanalyze.buildbin-libdir && mkdir HPAanalyze.buildbin-libdir && C:\Users\biocbuild\bbs-3.10-bioc\R\bin\R.exe CMD INSTALL --merge-multiarch --build --library=HPAanalyze.buildbin-libdir HPAanalyze_1.4.3.tar.gz && C:\Users\biocbuild\bbs-3.10-bioc\R\bin\R.exe CMD INSTALL HPAanalyze_1.4.3.zip && rm HPAanalyze_1.4.3.tar.gz HPAanalyze_1.4.3.zip
###
##############################################################################
##############################################################################
% Total % Received % Xferd Average Speed Time Time Time Current
Dload Upload Total Spent Left Speed
0 0 0 0 0 0 0 0 --:--:-- --:--:-- --:--:-- 0
97 7882k 97 7664k 0 0 21.3M 0 --:--:-- --:--:-- --:--:-- 21.5M
100 7882k 100 7882k 0 0 21.8M 0 --:--:-- --:--:-- --:--:-- 21.9M
install for i386
* installing *source* package 'HPAanalyze' ...
** using staged installation
** R
** data
*** moving datasets to lazyload DB
** inst
** byte-compile and prepare package for lazy loading
** help
*** installing help indices
converting help for package 'HPAanalyze'
finding HTML links ... done
hpaDownload html
hpaExport html
hpaListParam html
hpaVis html
hpaVisPatho html
hpaVisSubcell html
hpaVisTissue html
hpaXml html
hpaXmlAntibody html
hpaXmlGet html
hpaXmlProtClass html
hpaXmlTissueExpr html
hpaXmlTissueExprSum html
hpa_downloaded_histology_v18 html
hpa_histology_data html
** building package indices
** installing vignettes
** testing if installed package can be loaded from temporary location
** testing if installed package can be loaded from final location
** testing if installed package keeps a record of temporary installation path
install for x64
* installing *source* package 'HPAanalyze' ...
** testing if installed package can be loaded
* MD5 sums
packaged installation of 'HPAanalyze' as HPAanalyze_1.4.3.zip
* DONE (HPAanalyze)
* installing to library 'C:/Users/biocbuild/bbs-3.10-bioc/R/library'
package 'HPAanalyze' successfully unpacked and MD5 sums checked