| Back to Multiple platform build/check report for BioC 3.10 |
|
This page was generated on 2020-04-15 12:04:13 -0400 (Wed, 15 Apr 2020).
| Package 780/1823 | Hostname | OS / Arch | INSTALL | BUILD | CHECK | BUILD BIN | ||||||
| HEM 1.58.0 HyungJun Cho
| malbec1 | Linux (Ubuntu 18.04.4 LTS) / x86_64 | [ OK ] | OK | OK | |||||||
| tokay1 | Windows Server 2012 R2 Standard / x64 | OK | OK | OK | OK | |||||||
| merida1 | OS X 10.11.6 El Capitan / x86_64 | OK | OK | OK | OK |
| Package: HEM |
| Version: 1.58.0 |
| Command: /home/biocbuild/bbs-3.10-bioc/R/bin/R CMD INSTALL HEM |
| StartedAt: 2020-04-14 18:06:22 -0400 (Tue, 14 Apr 2020) |
| EndedAt: 2020-04-14 18:06:26 -0400 (Tue, 14 Apr 2020) |
| EllapsedTime: 4.5 seconds |
| RetCode: 0 |
| Status: OK |
##############################################################################
##############################################################################
###
### Running command:
###
### /home/biocbuild/bbs-3.10-bioc/R/bin/R CMD INSTALL HEM
###
##############################################################################
##############################################################################
* installing to library ‘/home/biocbuild/bbs-3.10-bioc/R/library’
* installing *source* package ‘HEM’ ...
** using staged installation
** libs
gcc -I"/home/biocbuild/bbs-3.10-bioc/R/include" -DNDEBUG -I/usr/local/include -fpic -g -O2 -Wall -c hem.c -o hem.o
hem.c: In function ‘onelayerhem’:
hem.c:1390:12: warning: variable ‘k’ set but not used [-Wunused-but-set-variable]
int i, j, k, m, n;
^
hem.c: In function ‘chk_prt’:
hem.c:1593:16: warning: variable ‘l’ set but not used [-Wunused-but-set-variable]
int i, j, k, l;
^
gcc -shared -L/home/biocbuild/bbs-3.10-bioc/R/lib -L/usr/local/lib -o HEM.so hem.o -L/home/biocbuild/bbs-3.10-bioc/R/lib -lR
installing to /home/biocbuild/bbs-3.10-bioc/R/library/00LOCK-HEM/00new/HEM/libs
** R
** data
** byte-compile and prepare package for lazy loading
** help
*** installing help indices
** building package indices
** installing vignettes
** testing if installed package can be loaded from temporary location
** checking absolute paths in shared objects and dynamic libraries
** testing if installed package can be loaded from final location
** testing if installed package keeps a record of temporary installation path
* DONE (HEM)