| Back to Multiple platform build/check report for BioC 3.10 |
|
This page was generated on 2020-04-15 12:35:31 -0400 (Wed, 15 Apr 2020).
| Package 779/1823 | Hostname | OS / Arch | INSTALL | BUILD | CHECK | BUILD BIN | ||||||
| HELP 1.44.0 Reid F. Thompson
| malbec1 | Linux (Ubuntu 18.04.4 LTS) / x86_64 | OK | OK | OK | |||||||
| tokay1 | Windows Server 2012 R2 Standard / x64 | OK | OK | OK | OK | |||||||
| merida1 | OS X 10.11.6 El Capitan / x86_64 | OK | [ OK ] | OK | OK |
| Package: HELP |
| Version: 1.44.0 |
| Command: /Library/Frameworks/R.framework/Versions/Current/Resources/bin/R CMD build --keep-empty-dirs --no-resave-data HELP |
| StartedAt: 2020-04-14 20:02:02 -0400 (Tue, 14 Apr 2020) |
| EndedAt: 2020-04-14 20:02:14 -0400 (Tue, 14 Apr 2020) |
| EllapsedTime: 12.1 seconds |
| RetCode: 0 |
| Status: OK |
| PackageFile: HELP_1.44.0.tar.gz |
| PackageFileSize: 648.6 KiB |
############################################################################## ############################################################################## ### ### Running command: ### ### /Library/Frameworks/R.framework/Versions/Current/Resources/bin/R CMD build --keep-empty-dirs --no-resave-data HELP ### ############################################################################## ############################################################################## * checking for file ‘HELP/DESCRIPTION’ ... OK * preparing ‘HELP’: * checking DESCRIPTION meta-information ... OK * installing the package to build vignettes * creating vignettes ... OK * checking for LF line-endings in source and make files and shell scripts * checking for empty or unneeded directories * looking to see if a ‘data/datalist’ file should be added * building ‘HELP_1.44.0.tar.gz’