| Back to Multiple platform build/check report for BioC 3.10 |
|
This page was generated on 2020-04-15 12:33:40 -0400 (Wed, 15 Apr 2020).
| Package 773/1823 | Hostname | OS / Arch | INSTALL | BUILD | CHECK | BUILD BIN | ||||||
| HCAExplorer 1.0.0 Bioconductor Package Maintainer
| malbec1 | Linux (Ubuntu 18.04.4 LTS) / x86_64 | OK | OK | WARNINGS | |||||||
| tokay1 | Windows Server 2012 R2 Standard / x64 | [ OK ] | OK | WARNINGS | OK | |||||||
| merida1 | OS X 10.11.6 El Capitan / x86_64 | OK | OK | WARNINGS | OK |
| Package: HCAExplorer |
| Version: 1.0.0 |
| Command: C:\cygwin\bin\curl.exe -O https://malbec1.bioconductor.org/BBS/3.10/bioc/src/contrib/HCAExplorer_1.0.0.tar.gz && rm -rf HCAExplorer.buildbin-libdir && mkdir HCAExplorer.buildbin-libdir && C:\Users\biocbuild\bbs-3.10-bioc\R\bin\R.exe CMD INSTALL --merge-multiarch --build --library=HCAExplorer.buildbin-libdir HCAExplorer_1.0.0.tar.gz && C:\Users\biocbuild\bbs-3.10-bioc\R\bin\R.exe CMD INSTALL HCAExplorer_1.0.0.zip && rm HCAExplorer_1.0.0.tar.gz HCAExplorer_1.0.0.zip |
| StartedAt: 2020-04-14 19:18:52 -0400 (Tue, 14 Apr 2020) |
| EndedAt: 2020-04-14 19:19:30 -0400 (Tue, 14 Apr 2020) |
| EllapsedTime: 37.7 seconds |
| RetCode: 0 |
| Status: OK |
##############################################################################
##############################################################################
###
### Running command:
###
### C:\cygwin\bin\curl.exe -O https://malbec1.bioconductor.org/BBS/3.10/bioc/src/contrib/HCAExplorer_1.0.0.tar.gz && rm -rf HCAExplorer.buildbin-libdir && mkdir HCAExplorer.buildbin-libdir && C:\Users\biocbuild\bbs-3.10-bioc\R\bin\R.exe CMD INSTALL --merge-multiarch --build --library=HCAExplorer.buildbin-libdir HCAExplorer_1.0.0.tar.gz && C:\Users\biocbuild\bbs-3.10-bioc\R\bin\R.exe CMD INSTALL HCAExplorer_1.0.0.zip && rm HCAExplorer_1.0.0.tar.gz HCAExplorer_1.0.0.zip
###
##############################################################################
##############################################################################
% Total % Received % Xferd Average Speed Time Time Time Current
Dload Upload Total Spent Left Speed
0 0 0 0 0 0 0 0 --:--:-- --:--:-- --:--:-- 0
100 16044 100 16044 0 0 275k 0 --:--:-- --:--:-- --:--:-- 295k
install for i386
* installing *source* package 'HCAExplorer' ...
** using staged installation
** R
** byte-compile and prepare package for lazy loading
Creating a generic function for 'fields' from package 'vctrs' in package 'HCAExplorer'
** help
*** installing help indices
converting help for package 'HCAExplorer'
finding HTML links ... done
HCAExplorer-class html
HCAExplorer html
ProjectView-class html
activate.HCAExplorer html
fields-HCAExplorer-method html
finding level-2 HTML links ... done
filter.HCAExplorer html
getManifest html
getManifestFileFormats html
nextResults html
reexports html
resetQuery html
resetSelect html
results html
select.HCAExplorer html
show-HCAExplorer-method html
sub-HCAExplorer-method html
undoQuery html
values-HCAExplorer-method html
viewProjects html
** building package indices
** installing vignettes
** testing if installed package can be loaded from temporary location
** testing if installed package can be loaded from final location
** testing if installed package keeps a record of temporary installation path
install for x64
* installing *source* package 'HCAExplorer' ...
** testing if installed package can be loaded
* MD5 sums
packaged installation of 'HCAExplorer' as HCAExplorer_1.0.0.zip
* DONE (HCAExplorer)
* installing to library 'C:/Users/biocbuild/bbs-3.10-bioc/R/library'
package 'HCAExplorer' successfully unpacked and MD5 sums checked