| Back to Multiple platform build/check report for BioC 3.10 |
|
This page was generated on 2020-04-15 12:32:33 -0400 (Wed, 15 Apr 2020).
| Package 772/1823 | Hostname | OS / Arch | INSTALL | BUILD | CHECK | BUILD BIN | ||||||
| HCABrowser 1.2.0 Bioconductor Package Maintainer
| malbec1 | Linux (Ubuntu 18.04.4 LTS) / x86_64 | OK | OK | OK | |||||||
| tokay1 | Windows Server 2012 R2 Standard / x64 | OK | OK | OK | [ OK ] | |||||||
| merida1 | OS X 10.11.6 El Capitan / x86_64 | OK | OK | OK | OK |
| Package: HCABrowser |
| Version: 1.2.0 |
| Command: rm -rf HCABrowser.buildbin-libdir && mkdir HCABrowser.buildbin-libdir && C:\Users\biocbuild\bbs-3.10-bioc\R\bin\R.exe CMD INSTALL --merge-multiarch --build --library=HCABrowser.buildbin-libdir HCABrowser_1.2.0.tar.gz |
| StartedAt: 2020-04-15 08:55:15 -0400 (Wed, 15 Apr 2020) |
| EndedAt: 2020-04-15 08:55:33 -0400 (Wed, 15 Apr 2020) |
| EllapsedTime: 17.7 seconds |
| RetCode: 0 |
| Status: OK |
| PackageFile: HCABrowser_1.2.0.zip |
| PackageFileSize: 527.2 KiB |
##############################################################################
##############################################################################
###
### Running command:
###
### rm -rf HCABrowser.buildbin-libdir && mkdir HCABrowser.buildbin-libdir && C:\Users\biocbuild\bbs-3.10-bioc\R\bin\R.exe CMD INSTALL --merge-multiarch --build --library=HCABrowser.buildbin-libdir HCABrowser_1.2.0.tar.gz
###
##############################################################################
##############################################################################
install for i386
* installing *source* package 'HCABrowser' ...
** using staged installation
** R
** inst
** byte-compile and prepare package for lazy loading
Creating a new generic function for 'activate' in package 'HCABrowser'
** help
*** installing help indices
converting help for package 'HCABrowser'
finding HTML links ... done
HCABrowser-class html
HCABrowser html
activate html
fields html
filter.HCABrowser html
hca-api-methods html
nextResults html
per_page html
pullBundles html
pullFiles html
resetEsQuery html
results-SearchResult-method html
results html
select.HCABrowser html
show-HCABrowser-method html
show-SearchResult-method html
showBundles html
undoEsQuery html
values-HCABrowser-method html
** building package indices
** installing vignettes
** testing if installed package can be loaded from temporary location
** testing if installed package can be loaded from final location
** testing if installed package keeps a record of temporary installation path
install for x64
* installing *source* package 'HCABrowser' ...
** testing if installed package can be loaded
* MD5 sums
packaged installation of 'HCABrowser' as HCABrowser_1.2.0.zip
* DONE (HCABrowser)