| Back to Multiple platform build/check report for BioC 3.10 |
|
This page was generated on 2020-04-15 12:26:31 -0400 (Wed, 15 Apr 2020).
| Package 710/1823 | Hostname | OS / Arch | INSTALL | BUILD | CHECK | BUILD BIN | ||||||
| Glimma 1.14.0 Shian Su
| malbec1 | Linux (Ubuntu 18.04.4 LTS) / x86_64 | OK | OK | OK | |||||||
| tokay1 | Windows Server 2012 R2 Standard / x64 | [ OK ] | OK | OK | OK | |||||||
| merida1 | OS X 10.11.6 El Capitan / x86_64 | OK | OK | OK | OK |
| Package: Glimma |
| Version: 1.14.0 |
| Command: C:\cygwin\bin\curl.exe -O https://malbec1.bioconductor.org/BBS/3.10/bioc/src/contrib/Glimma_1.14.0.tar.gz && rm -rf Glimma.buildbin-libdir && mkdir Glimma.buildbin-libdir && C:\Users\biocbuild\bbs-3.10-bioc\R\bin\R.exe CMD INSTALL --merge-multiarch --build --library=Glimma.buildbin-libdir Glimma_1.14.0.tar.gz && C:\Users\biocbuild\bbs-3.10-bioc\R\bin\R.exe CMD INSTALL Glimma_1.14.0.zip && rm Glimma_1.14.0.tar.gz Glimma_1.14.0.zip |
| StartedAt: 2020-04-14 18:51:12 -0400 (Tue, 14 Apr 2020) |
| EndedAt: 2020-04-14 18:51:52 -0400 (Tue, 14 Apr 2020) |
| EllapsedTime: 40.1 seconds |
| RetCode: 0 |
| Status: OK |
##############################################################################
##############################################################################
###
### Running command:
###
### C:\cygwin\bin\curl.exe -O https://malbec1.bioconductor.org/BBS/3.10/bioc/src/contrib/Glimma_1.14.0.tar.gz && rm -rf Glimma.buildbin-libdir && mkdir Glimma.buildbin-libdir && C:\Users\biocbuild\bbs-3.10-bioc\R\bin\R.exe CMD INSTALL --merge-multiarch --build --library=Glimma.buildbin-libdir Glimma_1.14.0.tar.gz && C:\Users\biocbuild\bbs-3.10-bioc\R\bin\R.exe CMD INSTALL Glimma_1.14.0.zip && rm Glimma_1.14.0.tar.gz Glimma_1.14.0.zip
###
##############################################################################
##############################################################################
% Total % Received % Xferd Average Speed Time Time Time Current
Dload Upload Total Spent Left Speed
0 0 0 0 0 0 0 0 --:--:-- --:--:-- --:--:-- 0
100 3283k 100 3283k 0 0 43.8M 0 --:--:-- --:--:-- --:--:-- 46.4M
install for i386
* installing *source* package 'Glimma' ...
** using staged installation
** R
** data
*** moving datasets to lazyload DB
** inst
** byte-compile and prepare package for lazy loading
** help
*** installing help indices
converting help for package 'Glimma'
finding HTML links ... done
arraydata html
as.hexcol html
glBar html
glBar.default html
glMDPlot.DESeqDataSet html
glMDPlot.DESeqResults html
glMDPlot.DGEExact html
glMDPlot.DGELRT html
glMDPlot.MArrayLM html
glMDPlot html
glMDPlot.default html
glMDRmd html
glMDSPlot.DESeqDataSet html
glMDSPlot.DGEList html
glMDSPlot html
glMDSPlot.default html
glScatter html
glScatter.default html
glTable html
glXYPlot html
glimma html
gllink html
gltablink html
is.hex html
lymphomaRNAseq html
makeJson html
makeJson.data.frame html
makeJson.jschart html
** building package indices
** installing vignettes
** testing if installed package can be loaded from temporary location
** testing if installed package can be loaded from final location
** testing if installed package keeps a record of temporary installation path
install for x64
* installing *source* package 'Glimma' ...
** testing if installed package can be loaded
* MD5 sums
packaged installation of 'Glimma' as Glimma_1.14.0.zip
* DONE (Glimma)
* installing to library 'C:/Users/biocbuild/bbs-3.10-bioc/R/library'
package 'Glimma' successfully unpacked and MD5 sums checked