| Back to Multiple platform build/check report for BioC 3.10 |
|
This page was generated on 2020-04-15 12:05:30 -0400 (Wed, 15 Apr 2020).
| Package 664/1823 | Hostname | OS / Arch | INSTALL | BUILD | CHECK | BUILD BIN | ||||||
| GeneSelectMMD 2.30.0 Weiliang Qiu
| malbec1 | Linux (Ubuntu 18.04.4 LTS) / x86_64 | [ OK ] | OK | WARNINGS | |||||||
| tokay1 | Windows Server 2012 R2 Standard / x64 | OK | OK | OK | OK | |||||||
| merida1 | OS X 10.11.6 El Capitan / x86_64 | OK | OK | WARNINGS | OK |
| Package: GeneSelectMMD |
| Version: 2.30.0 |
| Command: /home/biocbuild/bbs-3.10-bioc/R/bin/R CMD INSTALL GeneSelectMMD |
| StartedAt: 2020-04-14 18:09:55 -0400 (Tue, 14 Apr 2020) |
| EndedAt: 2020-04-14 18:10:02 -0400 (Tue, 14 Apr 2020) |
| EllapsedTime: 7.7 seconds |
| RetCode: 0 |
| Status: OK |
##############################################################################
##############################################################################
###
### Running command:
###
### /home/biocbuild/bbs-3.10-bioc/R/bin/R CMD INSTALL GeneSelectMMD
###
##############################################################################
##############################################################################
* installing to library ‘/home/biocbuild/bbs-3.10-bioc/R/library’
* installing *source* package ‘GeneSelectMMD’ ...
** using staged installation
** libs
gfortran -fno-optimize-sibling-calls -fpic -g -O2 -Wall -c Qfunc.f -o Qfunc.o
gfortran -fno-optimize-sibling-calls -fpic -g -O2 -Wall -c blas.f -o blas.o
gcc -I"/home/biocbuild/bbs-3.10-bioc/R/include" -DNDEBUG -I/usr/local/include -fpic -g -O2 -Wall -c isnan.c -o isnan.o
gfortran -fno-optimize-sibling-calls -fpic -g -O2 -Wall -c lbfgsb.f -o lbfgsb.o
lbfgsb.f:1491:0:
t(nbreak) = tu/neggi
Warning: ‘tu’ may be used uninitialized in this function [-Wmaybe-uninitialized]
lbfgsb.f:1482:0:
t(nbreak) = tl/(-neggi)
Warning: ‘tl’ may be used uninitialized in this function [-Wmaybe-uninitialized]
gfortran -fno-optimize-sibling-calls -fpic -g -O2 -Wall -c lbfgsbDriver.f -o lbfgsbDriver.o
gfortran -fno-optimize-sibling-calls -fpic -g -O2 -Wall -c linpack.f -o linpack.o
gfortran -fno-optimize-sibling-calls -fpic -g -O2 -Wall -c llkhFun.f -o llkhFun.o
gfortran -fno-optimize-sibling-calls -fpic -g -O2 -Wall -c myTtest.f -o myTtest.o
gfortran -fno-optimize-sibling-calls -fpic -g -O2 -Wall -c paraEstLoop.f -o paraEstLoop.o
gcc -I"/home/biocbuild/bbs-3.10-bioc/R/include" -DNDEBUG -I/usr/local/include -fpic -g -O2 -Wall -c pt.c -o pt.o
gfortran -fno-optimize-sibling-calls -fpic -g -O2 -Wall -c timer.f -o timer.o
gfortran -fno-optimize-sibling-calls -fpic -g -O2 -Wall -c wiFun.f -o wiFun.o
gcc -shared -L/home/biocbuild/bbs-3.10-bioc/R/lib -L/usr/local/lib -o GeneSelectMMD.so Qfunc.o blas.o isnan.o lbfgsb.o lbfgsbDriver.o linpack.o llkhFun.o myTtest.o paraEstLoop.o pt.o timer.o wiFun.o -lgfortran -lm -lquadmath -L/home/biocbuild/bbs-3.10-bioc/R/lib -lR
installing to /home/biocbuild/bbs-3.10-bioc/R/library/00LOCK-GeneSelectMMD/00new/GeneSelectMMD/libs
** R
** byte-compile and prepare package for lazy loading
** help
*** installing help indices
** building package indices
** installing vignettes
** testing if installed package can be loaded from temporary location
** checking absolute paths in shared objects and dynamic libraries
** testing if installed package can be loaded from final location
** testing if installed package keeps a record of temporary installation path
* DONE (GeneSelectMMD)