| Back to Multiple platform build/check report for BioC 3.10 |
|
This page was generated on 2020-04-15 12:42:38 -0400 (Wed, 15 Apr 2020).
| Package 762/1823 | Hostname | OS / Arch | INSTALL | BUILD | CHECK | BUILD BIN | ||||||
| GUIDEseq 1.16.0 Lihua Julie Zhu
| malbec1 | Linux (Ubuntu 18.04.4 LTS) / x86_64 | OK | OK | OK | |||||||
| tokay1 | Windows Server 2012 R2 Standard / x64 | OK | OK | OK | OK | |||||||
| merida1 | OS X 10.11.6 El Capitan / x86_64 | OK | OK | [ OK ] | OK |
| Package: GUIDEseq |
| Version: 1.16.0 |
| Command: /Library/Frameworks/R.framework/Versions/Current/Resources/bin/R CMD check --install=check:GUIDEseq.install-out.txt --library=/Library/Frameworks/R.framework/Versions/Current/Resources/library --no-vignettes --timings GUIDEseq_1.16.0.tar.gz |
| StartedAt: 2020-04-15 02:57:23 -0400 (Wed, 15 Apr 2020) |
| EndedAt: 2020-04-15 03:03:22 -0400 (Wed, 15 Apr 2020) |
| EllapsedTime: 358.8 seconds |
| RetCode: 0 |
| Status: OK |
| CheckDir: GUIDEseq.Rcheck |
| Warnings: 0 |
##############################################################################
##############################################################################
###
### Running command:
###
### /Library/Frameworks/R.framework/Versions/Current/Resources/bin/R CMD check --install=check:GUIDEseq.install-out.txt --library=/Library/Frameworks/R.framework/Versions/Current/Resources/library --no-vignettes --timings GUIDEseq_1.16.0.tar.gz
###
##############################################################################
##############################################################################
* using log directory ‘/Users/biocbuild/bbs-3.10-bioc/meat/GUIDEseq.Rcheck’
* using R version 3.6.3 (2020-02-29)
* using platform: x86_64-apple-darwin15.6.0 (64-bit)
* using session charset: UTF-8
* using option ‘--no-vignettes’
* checking for file ‘GUIDEseq/DESCRIPTION’ ... OK
* checking extension type ... Package
* this is package ‘GUIDEseq’ version ‘1.16.0’
* package encoding: UTF-8
* checking package namespace information ... OK
* checking package dependencies ... OK
* checking if this is a source package ... OK
* checking if there is a namespace ... OK
* checking for hidden files and directories ... OK
* checking for portable file names ... OK
* checking for sufficient/correct file permissions ... OK
* checking whether package ‘GUIDEseq’ can be installed ... OK
* checking installed package size ... NOTE
installed size is 10.9Mb
sub-directories of 1Mb or more:
extdata 10.5Mb
* checking package directory ... OK
* checking ‘build’ directory ... OK
* checking DESCRIPTION meta-information ... OK
* checking top-level files ... OK
* checking for left-over files ... OK
* checking index information ... OK
* checking package subdirectories ... OK
* checking R files for non-ASCII characters ... OK
* checking R files for syntax errors ... OK
* checking whether the package can be loaded ... OK
* checking whether the package can be loaded with stated dependencies ... OK
* checking whether the package can be unloaded cleanly ... OK
* checking whether the namespace can be loaded with stated dependencies ... OK
* checking whether the namespace can be unloaded cleanly ... OK
* checking dependencies in R code ... OK
* checking S3 generic/method consistency ... OK
* checking replacement functions ... OK
* checking foreign function calls ... OK
* checking R code for possible problems ... NOTE
annotateOffTargets: no visible binding for global variable
'offTarget_Start'
annotateOffTargets: no visible global function definition for 'exons'
annotateOffTargets: no visible global function definition for
'seqlevelsStyle<-'
annotateOffTargets: no visible global function definition for 'genes'
getPeaks: no visible binding for global variable 'adjusted.p.value'
getPeaks: no visible binding for global variable 'SNratio'
getUniqueCleavageEvents: no visible binding for global variable
'qwidth.first'
getUniqueCleavageEvents: no visible binding for global variable
'qwidth.last'
getUniqueCleavageEvents: no visible binding for global variable
'strand.last'
getUniqueCleavageEvents: no visible binding for global variable
'strand.first'
getUniqueCleavageEvents: no visible binding for global variable
'readName'
offTargetAnalysisOfPeakRegions: no visible binding for global variable
'gRNAPlusPAM'
offTargetAnalysisOfPeakRegions: no visible binding for global variable
'offTarget'
Undefined global functions or variables:
SNratio adjusted.p.value exons gRNAPlusPAM genes offTarget
offTarget_Start qwidth.first qwidth.last readName seqlevelsStyle<-
strand.first strand.last
* checking Rd files ... NOTE
prepare_Rd: annotateOffTargets.Rd:33-35: Dropping empty section \details
prepare_Rd: annotateOffTargets.Rd:43-45: Dropping empty section \references
prepare_Rd: createBarcodeFasta.Rd:42-43: Dropping empty section \value
prepare_Rd: createBarcodeFasta.Rd:44-46: Dropping empty section \references
prepare_Rd: getUsedBarcodes.Rd:39-41: Dropping empty section \references
* checking Rd metadata ... OK
* checking Rd cross-references ... OK
* checking for missing documentation entries ... OK
* checking for code/documentation mismatches ... OK
* checking Rd \usage sections ... OK
* checking Rd contents ... OK
* checking for unstated dependencies in examples ... OK
* checking contents of ‘data’ directory ... OK
* checking data for non-ASCII characters ... OK
* checking data for ASCII and uncompressed saves ... OK
* checking sizes of PDF files under ‘inst/doc’ ... OK
* checking files in ‘vignettes’ ... OK
* checking examples ... OK
Examples with CPU or elapsed time > 5s
user system elapsed
GUIDEseqAnalysis 12.593 0.729 13.490
annotateOffTargets 10.588 0.482 11.199
* checking for unstated dependencies in vignettes ... OK
* checking package vignettes in ‘inst/doc’ ... OK
* checking running R code from vignettes ... SKIPPED
* checking re-building of vignette outputs ... SKIPPED
* checking PDF version of manual ... OK
* DONE
Status: 3 NOTEs
See
‘/Users/biocbuild/bbs-3.10-bioc/meat/GUIDEseq.Rcheck/00check.log’
for details.
GUIDEseq.Rcheck/00install.out
############################################################################## ############################################################################## ### ### Running command: ### ### /Library/Frameworks/R.framework/Versions/Current/Resources/bin/R CMD INSTALL GUIDEseq ### ############################################################################## ############################################################################## * installing to library ‘/Library/Frameworks/R.framework/Versions/3.6/Resources/library’ * installing *source* package ‘GUIDEseq’ ... ** using staged installation ** R ** data ** inst ** byte-compile and prepare package for lazy loading ** help *** installing help indices ** building package indices ** installing vignettes ** testing if installed package can be loaded from temporary location ** testing if installed package can be loaded from final location ** testing if installed package keeps a record of temporary installation path * DONE (GUIDEseq)
GUIDEseq.Rcheck/GUIDEseq-Ex.timings
| name | user | system | elapsed | |
| GUIDEseq-package | 0.003 | 0.001 | 0.004 | |
| GUIDEseqAnalysis | 12.593 | 0.729 | 13.490 | |
| annotateOffTargets | 10.588 | 0.482 | 11.199 | |
| combineOfftargets | 0.057 | 0.003 | 0.061 | |
| createBarcodeFasta | 0.038 | 0.002 | 0.040 | |
| getPeaks | 0.001 | 0.000 | 0.001 | |
| getUniqueCleavageEvents | 0.001 | 0.000 | 0.001 | |
| getUsedBarcodes | 0.062 | 0.002 | 0.067 | |
| mergePlusMinusPeaks | 0.001 | 0.000 | 0.001 | |
| offTargetAnalysisOfPeakRegions | 0.004 | 0.000 | 0.004 | |
| peaks.gr | 0.055 | 0.004 | 0.060 | |
| uniqueCleavageEvents | 0.065 | 0.003 | 0.069 | |