| Back to Multiple platform build/check report for BioC 3.10 |
|
This page was generated on 2020-04-15 12:19:17 -0400 (Wed, 15 Apr 2020).
| Package 759/1823 | Hostname | OS / Arch | INSTALL | BUILD | CHECK | BUILD BIN | ||||||
| GSRI 2.34.0 Julian Gehring
| malbec1 | Linux (Ubuntu 18.04.4 LTS) / x86_64 | OK | OK | OK | |||||||
| tokay1 | Windows Server 2012 R2 Standard / x64 | [ OK ] | OK | WARNINGS | OK | |||||||
| merida1 | OS X 10.11.6 El Capitan / x86_64 | OK | OK | OK | OK |
| Package: GSRI |
| Version: 2.34.0 |
| Command: C:\cygwin\bin\curl.exe -O https://malbec1.bioconductor.org/BBS/3.10/bioc/src/contrib/GSRI_2.34.0.tar.gz && rm -rf GSRI.buildbin-libdir && mkdir GSRI.buildbin-libdir && C:\Users\biocbuild\bbs-3.10-bioc\R\bin\R.exe CMD INSTALL --merge-multiarch --build --library=GSRI.buildbin-libdir GSRI_2.34.0.tar.gz && C:\Users\biocbuild\bbs-3.10-bioc\R\bin\R.exe CMD INSTALL GSRI_2.34.0.zip && rm GSRI_2.34.0.tar.gz GSRI_2.34.0.zip |
| StartedAt: 2020-04-14 20:27:37 -0400 (Tue, 14 Apr 2020) |
| EndedAt: 2020-04-14 20:28:13 -0400 (Tue, 14 Apr 2020) |
| EllapsedTime: 36.3 seconds |
| RetCode: 0 |
| Status: OK |
##############################################################################
##############################################################################
###
### Running command:
###
### C:\cygwin\bin\curl.exe -O https://malbec1.bioconductor.org/BBS/3.10/bioc/src/contrib/GSRI_2.34.0.tar.gz && rm -rf GSRI.buildbin-libdir && mkdir GSRI.buildbin-libdir && C:\Users\biocbuild\bbs-3.10-bioc\R\bin\R.exe CMD INSTALL --merge-multiarch --build --library=GSRI.buildbin-libdir GSRI_2.34.0.tar.gz && C:\Users\biocbuild\bbs-3.10-bioc\R\bin\R.exe CMD INSTALL GSRI_2.34.0.zip && rm GSRI_2.34.0.tar.gz GSRI_2.34.0.zip
###
##############################################################################
##############################################################################
% Total % Received % Xferd Average Speed Time Time Time Current
Dload Upload Total Spent Left Speed
0 0 0 0 0 0 0 0 --:--:-- --:--:-- --:--:-- 0
100 32855 100 32855 0 0 976k 0 --:--:-- --:--:-- --:--:-- 1106k
install for i386
* installing *source* package 'GSRI' ...
** using staged installation
** R
** inst
** byte-compile and prepare package for lazy loading
** help
*** installing help indices
converting help for package 'GSRI'
finding HTML links ... done
GSRI-internal html
Rd warning: C:/Users/biocbuild/bbs-3.10-bioc/tmpdir/RtmpmIOiby/R.INSTALL27f87823316b/GSRI/man/GSRI-internal.Rd:60: file link 'getGsri' in package 'GSRI' does not exist and so has been treated as a topic
Rd warning: C:/Users/biocbuild/bbs-3.10-bioc/tmpdir/RtmpmIOiby/R.INSTALL27f87823316b/GSRI/man/GSRI-internal.Rd:61: file link 'getCdf' in package 'GSRI' does not exist and so has been treated as a topic
Rd warning: C:/Users/biocbuild/bbs-3.10-bioc/tmpdir/RtmpmIOiby/R.INSTALL27f87823316b/GSRI/man/GSRI-internal.Rd:62: file link 'getParms' in package 'GSRI' does not exist and so has been treated as a topic
Rd warning: C:/Users/biocbuild/bbs-3.10-bioc/tmpdir/RtmpmIOiby/R.INSTALL27f87823316b/GSRI/man/GSRI-internal.Rd:66: file link 'show' in package 'GSRI' does not exist and so has been treated as a topic
Rd warning: C:/Users/biocbuild/bbs-3.10-bioc/tmpdir/RtmpmIOiby/R.INSTALL27f87823316b/GSRI/man/GSRI-internal.Rd:67: file link 'summary' in package 'GSRI' does not exist and so has been treated as a topic
Rd warning: C:/Users/biocbuild/bbs-3.10-bioc/tmpdir/RtmpmIOiby/R.INSTALL27f87823316b/GSRI/man/GSRI-internal.Rd:68: file link 'readCls' in package 'GSRI' does not exist and so has been treated as a topic
Rd warning: C:/Users/biocbuild/bbs-3.10-bioc/tmpdir/RtmpmIOiby/R.INSTALL27f87823316b/GSRI/man/GSRI-internal.Rd:69: file link 'readGct' in package 'GSRI' does not exist and so has been treated as a topic
GSRI-package html
Rd warning: C:/Users/biocbuild/bbs-3.10-bioc/tmpdir/RtmpmIOiby/R.INSTALL27f87823316b/GSRI/man/GSRI-package.Rd:80: file link 'getGsri' in package 'GSRI' does not exist and so has been treated as a topic
Rd warning: C:/Users/biocbuild/bbs-3.10-bioc/tmpdir/RtmpmIOiby/R.INSTALL27f87823316b/GSRI/man/GSRI-package.Rd:81: file link 'getCdf' in package 'GSRI' does not exist and so has been treated as a topic
Rd warning: C:/Users/biocbuild/bbs-3.10-bioc/tmpdir/RtmpmIOiby/R.INSTALL27f87823316b/GSRI/man/GSRI-package.Rd:82: file link 'getParms' in package 'GSRI' does not exist and so has been treated as a topic
Rd warning: C:/Users/biocbuild/bbs-3.10-bioc/tmpdir/RtmpmIOiby/R.INSTALL27f87823316b/GSRI/man/GSRI-package.Rd:86: file link 'show' in package 'GSRI' does not exist and so has been treated as a topic
Rd warning: C:/Users/biocbuild/bbs-3.10-bioc/tmpdir/RtmpmIOiby/R.INSTALL27f87823316b/GSRI/man/GSRI-package.Rd:87: file link 'summary' in package 'GSRI' does not exist and so has been treated as a topic
Rd warning: C:/Users/biocbuild/bbs-3.10-bioc/tmpdir/RtmpmIOiby/R.INSTALL27f87823316b/GSRI/man/GSRI-package.Rd:88: file link 'readCls' in package 'GSRI' does not exist and so has been treated as a topic
Rd warning: C:/Users/biocbuild/bbs-3.10-bioc/tmpdir/RtmpmIOiby/R.INSTALL27f87823316b/GSRI/man/GSRI-package.Rd:89: file link 'readGct' in package 'GSRI' does not exist and so has been treated as a topic
Gsri-class html
Rd warning: C:/Users/biocbuild/bbs-3.10-bioc/tmpdir/RtmpmIOiby/R.INSTALL27f87823316b/GSRI/man/Gsri-class.Rd:144: file link 'getGsri' in package 'GSRI' does not exist and so has been treated as a topic
Rd warning: C:/Users/biocbuild/bbs-3.10-bioc/tmpdir/RtmpmIOiby/R.INSTALL27f87823316b/GSRI/man/Gsri-class.Rd:145: file link 'getCdf' in package 'GSRI' does not exist and so has been treated as a topic
Rd warning: C:/Users/biocbuild/bbs-3.10-bioc/tmpdir/RtmpmIOiby/R.INSTALL27f87823316b/GSRI/man/Gsri-class.Rd:146: file link 'getParms' in package 'GSRI' does not exist and so has been treated as a topic
Rd warning: C:/Users/biocbuild/bbs-3.10-bioc/tmpdir/RtmpmIOiby/R.INSTALL27f87823316b/GSRI/man/Gsri-class.Rd:150: file link 'show' in package 'GSRI' does not exist and so has been treated as a topic
Rd warning: C:/Users/biocbuild/bbs-3.10-bioc/tmpdir/RtmpmIOiby/R.INSTALL27f87823316b/GSRI/man/Gsri-class.Rd:151: file link 'summary' in package 'GSRI' does not exist and so has been treated as a topic
Rd warning: C:/Users/biocbuild/bbs-3.10-bioc/tmpdir/RtmpmIOiby/R.INSTALL27f87823316b/GSRI/man/Gsri-class.Rd:152: file link 'readCls' in package 'GSRI' does not exist and so has been treated as a topic
Rd warning: C:/Users/biocbuild/bbs-3.10-bioc/tmpdir/RtmpmIOiby/R.INSTALL27f87823316b/GSRI/man/Gsri-class.Rd:153: file link 'readGct' in package 'GSRI' does not exist and so has been treated as a topic
export html
Rd warning: C:/Users/biocbuild/bbs-3.10-bioc/tmpdir/RtmpmIOiby/R.INSTALL27f87823316b/GSRI/man/export.Rd:49: file link 'getGsri' in package 'GSRI' does not exist and so has been treated as a topic
Rd warning: C:/Users/biocbuild/bbs-3.10-bioc/tmpdir/RtmpmIOiby/R.INSTALL27f87823316b/GSRI/man/export.Rd:50: file link 'getCdf' in package 'GSRI' does not exist and so has been treated as a topic
Rd warning: C:/Users/biocbuild/bbs-3.10-bioc/tmpdir/RtmpmIOiby/R.INSTALL27f87823316b/GSRI/man/export.Rd:51: file link 'getParms' in package 'GSRI' does not exist and so has been treated as a topic
Rd warning: C:/Users/biocbuild/bbs-3.10-bioc/tmpdir/RtmpmIOiby/R.INSTALL27f87823316b/GSRI/man/export.Rd:55: file link 'show' in package 'GSRI' does not exist and so has been treated as a topic
Rd warning: C:/Users/biocbuild/bbs-3.10-bioc/tmpdir/RtmpmIOiby/R.INSTALL27f87823316b/GSRI/man/export.Rd:56: file link 'summary' in package 'GSRI' does not exist and so has been treated as a topic
Rd warning: C:/Users/biocbuild/bbs-3.10-bioc/tmpdir/RtmpmIOiby/R.INSTALL27f87823316b/GSRI/man/export.Rd:57: file link 'readCls' in package 'GSRI' does not exist and so has been treated as a topic
Rd warning: C:/Users/biocbuild/bbs-3.10-bioc/tmpdir/RtmpmIOiby/R.INSTALL27f87823316b/GSRI/man/export.Rd:58: file link 'readGct' in package 'GSRI' does not exist and so has been treated as a topic
get-methods html
Rd warning: C:/Users/biocbuild/bbs-3.10-bioc/tmpdir/RtmpmIOiby/R.INSTALL27f87823316b/GSRI/man/get-methods.Rd:78: file link 'getGsri' in package 'GSRI' does not exist and so has been treated as a topic
Rd warning: C:/Users/biocbuild/bbs-3.10-bioc/tmpdir/RtmpmIOiby/R.INSTALL27f87823316b/GSRI/man/get-methods.Rd:79: file link 'getCdf' in package 'GSRI' does not exist and so has been treated as a topic
Rd warning: C:/Users/biocbuild/bbs-3.10-bioc/tmpdir/RtmpmIOiby/R.INSTALL27f87823316b/GSRI/man/get-methods.Rd:80: file link 'getParms' in package 'GSRI' does not exist and so has been treated as a topic
Rd warning: C:/Users/biocbuild/bbs-3.10-bioc/tmpdir/RtmpmIOiby/R.INSTALL27f87823316b/GSRI/man/get-methods.Rd:84: file link 'show' in package 'GSRI' does not exist and so has been treated as a topic
Rd warning: C:/Users/biocbuild/bbs-3.10-bioc/tmpdir/RtmpmIOiby/R.INSTALL27f87823316b/GSRI/man/get-methods.Rd:85: file link 'summary' in package 'GSRI' does not exist and so has been treated as a topic
Rd warning: C:/Users/biocbuild/bbs-3.10-bioc/tmpdir/RtmpmIOiby/R.INSTALL27f87823316b/GSRI/man/get-methods.Rd:86: file link 'readCls' in package 'GSRI' does not exist and so has been treated as a topic
Rd warning: C:/Users/biocbuild/bbs-3.10-bioc/tmpdir/RtmpmIOiby/R.INSTALL27f87823316b/GSRI/man/get-methods.Rd:87: file link 'readGct' in package 'GSRI' does not exist and so has been treated as a topic
gsri html
Rd warning: C:/Users/biocbuild/bbs-3.10-bioc/tmpdir/RtmpmIOiby/R.INSTALL27f87823316b/GSRI/man/gsri.Rd:228: file link 'getGsri' in package 'GSRI' does not exist and so has been treated as a topic
Rd warning: C:/Users/biocbuild/bbs-3.10-bioc/tmpdir/RtmpmIOiby/R.INSTALL27f87823316b/GSRI/man/gsri.Rd:229: file link 'getCdf' in package 'GSRI' does not exist and so has been treated as a topic
Rd warning: C:/Users/biocbuild/bbs-3.10-bioc/tmpdir/RtmpmIOiby/R.INSTALL27f87823316b/GSRI/man/gsri.Rd:230: file link 'getParms' in package 'GSRI' does not exist and so has been treated as a topic
Rd warning: C:/Users/biocbuild/bbs-3.10-bioc/tmpdir/RtmpmIOiby/R.INSTALL27f87823316b/GSRI/man/gsri.Rd:234: file link 'show' in package 'GSRI' does not exist and so has been treated as a topic
Rd warning: C:/Users/biocbuild/bbs-3.10-bioc/tmpdir/RtmpmIOiby/R.INSTALL27f87823316b/GSRI/man/gsri.Rd:235: file link 'summary' in package 'GSRI' does not exist and so has been treated as a topic
Rd warning: C:/Users/biocbuild/bbs-3.10-bioc/tmpdir/RtmpmIOiby/R.INSTALL27f87823316b/GSRI/man/gsri.Rd:236: file link 'readCls' in package 'GSRI' does not exist and so has been treated as a topic
Rd warning: C:/Users/biocbuild/bbs-3.10-bioc/tmpdir/RtmpmIOiby/R.INSTALL27f87823316b/GSRI/man/gsri.Rd:237: file link 'readGct' in package 'GSRI' does not exist and so has been treated as a topic
plot html
Rd warning: C:/Users/biocbuild/bbs-3.10-bioc/tmpdir/RtmpmIOiby/R.INSTALL27f87823316b/GSRI/man/plot.Rd:91: file link 'getGsri' in package 'GSRI' does not exist and so has been treated as a topic
Rd warning: C:/Users/biocbuild/bbs-3.10-bioc/tmpdir/RtmpmIOiby/R.INSTALL27f87823316b/GSRI/man/plot.Rd:92: file link 'getCdf' in package 'GSRI' does not exist and so has been treated as a topic
Rd warning: C:/Users/biocbuild/bbs-3.10-bioc/tmpdir/RtmpmIOiby/R.INSTALL27f87823316b/GSRI/man/plot.Rd:93: file link 'getParms' in package 'GSRI' does not exist and so has been treated as a topic
Rd warning: C:/Users/biocbuild/bbs-3.10-bioc/tmpdir/RtmpmIOiby/R.INSTALL27f87823316b/GSRI/man/plot.Rd:97: file link 'show' in package 'GSRI' does not exist and so has been treated as a topic
Rd warning: C:/Users/biocbuild/bbs-3.10-bioc/tmpdir/RtmpmIOiby/R.INSTALL27f87823316b/GSRI/man/plot.Rd:98: file link 'summary' in package 'GSRI' does not exist and so has been treated as a topic
Rd warning: C:/Users/biocbuild/bbs-3.10-bioc/tmpdir/RtmpmIOiby/R.INSTALL27f87823316b/GSRI/man/plot.Rd:99: file link 'readCls' in package 'GSRI' does not exist and so has been treated as a topic
Rd warning: C:/Users/biocbuild/bbs-3.10-bioc/tmpdir/RtmpmIOiby/R.INSTALL27f87823316b/GSRI/man/plot.Rd:100: file link 'readGct' in package 'GSRI' does not exist and so has been treated as a topic
read-functions html
Rd warning: C:/Users/biocbuild/bbs-3.10-bioc/tmpdir/RtmpmIOiby/R.INSTALL27f87823316b/GSRI/man/read-functions.Rd:63: file link 'getGsri' in package 'GSRI' does not exist and so has been treated as a topic
Rd warning: C:/Users/biocbuild/bbs-3.10-bioc/tmpdir/RtmpmIOiby/R.INSTALL27f87823316b/GSRI/man/read-functions.Rd:64: file link 'getCdf' in package 'GSRI' does not exist and so has been treated as a topic
Rd warning: C:/Users/biocbuild/bbs-3.10-bioc/tmpdir/RtmpmIOiby/R.INSTALL27f87823316b/GSRI/man/read-functions.Rd:65: file link 'getParms' in package 'GSRI' does not exist and so has been treated as a topic
Rd warning: C:/Users/biocbuild/bbs-3.10-bioc/tmpdir/RtmpmIOiby/R.INSTALL27f87823316b/GSRI/man/read-functions.Rd:69: file link 'show' in package 'GSRI' does not exist and so has been treated as a topic
Rd warning: C:/Users/biocbuild/bbs-3.10-bioc/tmpdir/RtmpmIOiby/R.INSTALL27f87823316b/GSRI/man/read-functions.Rd:70: file link 'summary' in package 'GSRI' does not exist and so has been treated as a topic
Rd warning: C:/Users/biocbuild/bbs-3.10-bioc/tmpdir/RtmpmIOiby/R.INSTALL27f87823316b/GSRI/man/read-functions.Rd:71: file link 'readCls' in package 'GSRI' does not exist and so has been treated as a topic
Rd warning: C:/Users/biocbuild/bbs-3.10-bioc/tmpdir/RtmpmIOiby/R.INSTALL27f87823316b/GSRI/man/read-functions.Rd:72: file link 'readGct' in package 'GSRI' does not exist and so has been treated as a topic
sortGsri html
Rd warning: C:/Users/biocbuild/bbs-3.10-bioc/tmpdir/RtmpmIOiby/R.INSTALL27f87823316b/GSRI/man/sortGsri.Rd:62: file link 'getGsri' in package 'GSRI' does not exist and so has been treated as a topic
Rd warning: C:/Users/biocbuild/bbs-3.10-bioc/tmpdir/RtmpmIOiby/R.INSTALL27f87823316b/GSRI/man/sortGsri.Rd:63: file link 'getCdf' in package 'GSRI' does not exist and so has been treated as a topic
Rd warning: C:/Users/biocbuild/bbs-3.10-bioc/tmpdir/RtmpmIOiby/R.INSTALL27f87823316b/GSRI/man/sortGsri.Rd:64: file link 'getParms' in package 'GSRI' does not exist and so has been treated as a topic
Rd warning: C:/Users/biocbuild/bbs-3.10-bioc/tmpdir/RtmpmIOiby/R.INSTALL27f87823316b/GSRI/man/sortGsri.Rd:68: file link 'show' in package 'GSRI' does not exist and so has been treated as a topic
Rd warning: C:/Users/biocbuild/bbs-3.10-bioc/tmpdir/RtmpmIOiby/R.INSTALL27f87823316b/GSRI/man/sortGsri.Rd:69: file link 'summary' in package 'GSRI' does not exist and so has been treated as a topic
Rd warning: C:/Users/biocbuild/bbs-3.10-bioc/tmpdir/RtmpmIOiby/R.INSTALL27f87823316b/GSRI/man/sortGsri.Rd:70: file link 'readCls' in package 'GSRI' does not exist and so has been treated as a topic
Rd warning: C:/Users/biocbuild/bbs-3.10-bioc/tmpdir/RtmpmIOiby/R.INSTALL27f87823316b/GSRI/man/sortGsri.Rd:71: file link 'readGct' in package 'GSRI' does not exist and so has been treated as a topic
test-functions html
Rd warning: C:/Users/biocbuild/bbs-3.10-bioc/tmpdir/RtmpmIOiby/R.INSTALL27f87823316b/GSRI/man/test-functions.Rd:97: file link 'getGsri' in package 'GSRI' does not exist and so has been treated as a topic
Rd warning: C:/Users/biocbuild/bbs-3.10-bioc/tmpdir/RtmpmIOiby/R.INSTALL27f87823316b/GSRI/man/test-functions.Rd:98: file link 'getCdf' in package 'GSRI' does not exist and so has been treated as a topic
Rd warning: C:/Users/biocbuild/bbs-3.10-bioc/tmpdir/RtmpmIOiby/R.INSTALL27f87823316b/GSRI/man/test-functions.Rd:99: file link 'getParms' in package 'GSRI' does not exist and so has been treated as a topic
Rd warning: C:/Users/biocbuild/bbs-3.10-bioc/tmpdir/RtmpmIOiby/R.INSTALL27f87823316b/GSRI/man/test-functions.Rd:103: file link 'show' in package 'GSRI' does not exist and so has been treated as a topic
Rd warning: C:/Users/biocbuild/bbs-3.10-bioc/tmpdir/RtmpmIOiby/R.INSTALL27f87823316b/GSRI/man/test-functions.Rd:104: file link 'summary' in package 'GSRI' does not exist and so has been treated as a topic
Rd warning: C:/Users/biocbuild/bbs-3.10-bioc/tmpdir/RtmpmIOiby/R.INSTALL27f87823316b/GSRI/man/test-functions.Rd:105: file link 'readCls' in package 'GSRI' does not exist and so has been treated as a topic
Rd warning: C:/Users/biocbuild/bbs-3.10-bioc/tmpdir/RtmpmIOiby/R.INSTALL27f87823316b/GSRI/man/test-functions.Rd:106: file link 'readGct' in package 'GSRI' does not exist and so has been treated as a topic
** building package indices
** installing vignettes
** testing if installed package can be loaded from temporary location
** testing if installed package can be loaded from final location
** testing if installed package keeps a record of temporary installation path
install for x64
* installing *source* package 'GSRI' ...
** testing if installed package can be loaded
* MD5 sums
packaged installation of 'GSRI' as GSRI_2.34.0.zip
* DONE (GSRI)
* installing to library 'C:/Users/biocbuild/bbs-3.10-bioc/R/library'
package 'GSRI' successfully unpacked and MD5 sums checked