| Back to Multiple platform build/check report for BioC 3.10 |
|
This page was generated on 2020-04-15 12:18:04 -0400 (Wed, 15 Apr 2020).
| Package 754/1823 | Hostname | OS / Arch | INSTALL | BUILD | CHECK | BUILD BIN | ||||||
| GSEABase 1.48.0 Bioconductor Package Maintainer
| malbec1 | Linux (Ubuntu 18.04.4 LTS) / x86_64 | OK | OK | OK | |||||||
| tokay1 | Windows Server 2012 R2 Standard / x64 | OK | OK | OK | [ OK ] | |||||||
| merida1 | OS X 10.11.6 El Capitan / x86_64 | OK | OK | OK | OK |
| Package: GSEABase |
| Version: 1.48.0 |
| Command: rm -rf GSEABase.buildbin-libdir && mkdir GSEABase.buildbin-libdir && C:\Users\biocbuild\bbs-3.10-bioc\R\bin\R.exe CMD INSTALL --merge-multiarch --build --library=GSEABase.buildbin-libdir GSEABase_1.48.0.tar.gz |
| StartedAt: 2020-04-15 08:54:13 -0400 (Wed, 15 Apr 2020) |
| EndedAt: 2020-04-15 08:54:47 -0400 (Wed, 15 Apr 2020) |
| EllapsedTime: 33.8 seconds |
| RetCode: 0 |
| Status: OK |
| PackageFile: GSEABase_1.48.0.zip |
| PackageFileSize: 990.7 KiB |
##############################################################################
##############################################################################
###
### Running command:
###
### rm -rf GSEABase.buildbin-libdir && mkdir GSEABase.buildbin-libdir && C:\Users\biocbuild\bbs-3.10-bioc\R\bin\R.exe CMD INSTALL --merge-multiarch --build --library=GSEABase.buildbin-libdir GSEABase_1.48.0.tar.gz
###
##############################################################################
##############################################################################
install for i386
* installing *source* package 'GSEABase' ...
** using staged installation
** R
** inst
** byte-compile and prepare package for lazy loading
** help
*** installing help indices
converting help for package 'GSEABase'
finding HTML links ... done
CollectionType-class html
CollectionType-constructors html
GSEABase-package html
GeneColorSet-class html
GeneColorSet-methods html
GeneIdentifierType-class html
GeneIdentifierType-constructors html
GeneSet-class html
GeneSet-methods html
GeneSetCollection-class html
GeneSetCollection-methods html
OBOCollection-class html
details-methods html
getOBOCollection html
getObjects html
goSlim-methods html
incidence-methods html
mapIdentifiers-methods html
** building package indices
** installing vignettes
** testing if installed package can be loaded from temporary location
** testing if installed package can be loaded from final location
** testing if installed package keeps a record of temporary installation path
install for x64
* installing *source* package 'GSEABase' ...
** testing if installed package can be loaded
* MD5 sums
packaged installation of 'GSEABase' as GSEABase_1.48.0.zip
* DONE (GSEABase)