| Back to Multiple platform build/check report for BioC 3.10 |
|
This page was generated on 2020-04-15 12:22:35 -0400 (Wed, 15 Apr 2020).
| Package 752/1823 | Hostname | OS / Arch | INSTALL | BUILD | CHECK | BUILD BIN | ||||||
| GSCA 2.16.0 Zhicheng Ji
| malbec1 | Linux (Ubuntu 18.04.4 LTS) / x86_64 | OK | OK | OK | |||||||
| tokay1 | Windows Server 2012 R2 Standard / x64 | OK | OK | OK | [ OK ] | |||||||
| merida1 | OS X 10.11.6 El Capitan / x86_64 | OK | OK | OK | OK |
| Package: GSCA |
| Version: 2.16.0 |
| Command: rm -rf GSCA.buildbin-libdir && mkdir GSCA.buildbin-libdir && C:\Users\biocbuild\bbs-3.10-bioc\R\bin\R.exe CMD INSTALL --merge-multiarch --build --library=GSCA.buildbin-libdir GSCA_2.16.0.tar.gz |
| StartedAt: 2020-04-15 08:54:07 -0400 (Wed, 15 Apr 2020) |
| EndedAt: 2020-04-15 08:54:40 -0400 (Wed, 15 Apr 2020) |
| EllapsedTime: 33.6 seconds |
| RetCode: 0 |
| Status: OK |
| PackageFile: GSCA_2.16.0.zip |
| PackageFileSize: 2.321 MiB |
##############################################################################
##############################################################################
###
### Running command:
###
### rm -rf GSCA.buildbin-libdir && mkdir GSCA.buildbin-libdir && C:\Users\biocbuild\bbs-3.10-bioc\R\bin\R.exe CMD INSTALL --merge-multiarch --build --library=GSCA.buildbin-libdir GSCA_2.16.0.tar.gz
###
##############################################################################
##############################################################################
install for i386
* installing *source* package 'GSCA' ...
** using staged installation
** R
** data
** inst
** byte-compile and prepare package for lazy loading
** help
*** installing help indices
converting help for package 'GSCA'
finding HTML links ... done
ConstructTG html
GSCA-package html
GSCA html
GSCAeda html
GSCAplot html
GSCAui html
Oct4ESC_TG html
STAT1_TG html
annotatePeaks html
geneIDdata html
tabSearch html
** building package indices
** installing vignettes
** testing if installed package can be loaded from temporary location
** testing if installed package can be loaded from final location
** testing if installed package keeps a record of temporary installation path
install for x64
* installing *source* package 'GSCA' ...
** testing if installed package can be loaded
* MD5 sums
packaged installation of 'GSCA' as GSCA_2.16.0.zip
* DONE (GSCA)