| Back to Multiple platform build/check report for BioC 3.10 |
|
This page was generated on 2020-04-15 12:24:36 -0400 (Wed, 15 Apr 2020).
| Package 665/1823 | Hostname | OS / Arch | INSTALL | BUILD | CHECK | BUILD BIN | ||||||
| GENESIS 2.16.1 Stephanie M. Gogarten
| malbec1 | Linux (Ubuntu 18.04.4 LTS) / x86_64 | OK | OK | OK | |||||||
| tokay1 | Windows Server 2012 R2 Standard / x64 | OK | OK | OK | [ OK ] | |||||||
| merida1 | OS X 10.11.6 El Capitan / x86_64 | OK | OK | OK | OK |
| Package: GENESIS |
| Version: 2.16.1 |
| Command: rm -rf GENESIS.buildbin-libdir && mkdir GENESIS.buildbin-libdir && C:\Users\biocbuild\bbs-3.10-bioc\R\bin\R.exe CMD INSTALL --merge-multiarch --build --library=GENESIS.buildbin-libdir GENESIS_2.16.1.tar.gz |
| StartedAt: 2020-04-15 08:47:53 -0400 (Wed, 15 Apr 2020) |
| EndedAt: 2020-04-15 08:48:56 -0400 (Wed, 15 Apr 2020) |
| EllapsedTime: 63.5 seconds |
| RetCode: 0 |
| Status: OK |
| PackageFile: GENESIS_2.16.1.zip |
| PackageFileSize: 3.17 MiB |
##############################################################################
##############################################################################
###
### Running command:
###
### rm -rf GENESIS.buildbin-libdir && mkdir GENESIS.buildbin-libdir && C:\Users\biocbuild\bbs-3.10-bioc\R\bin\R.exe CMD INSTALL --merge-multiarch --build --library=GENESIS.buildbin-libdir GENESIS_2.16.1.tar.gz
###
##############################################################################
##############################################################################
install for i386
* installing *source* package 'GENESIS' ...
** using staged installation
** libs
C:/Rtools/mingw_32/bin/gcc -I"C:/Users/BIOCBU~1/BBS-3~1.10-/R/include" -DNDEBUG -I"C:/extsoft/include" -O3 -Wall -std=gnu99 -mtune=core2 -c fht.c -o fht.o
C:/Rtools/mingw_32/bin/gcc -shared -s -static-libgcc -o GENESIS.dll tmp.def fht.o -LC:/extsoft/lib/i386 -LC:/extsoft/lib -LC:/Users/BIOCBU~1/BBS-3~1.10-/R/bin/i386 -lR
installing to C:/Users/biocbuild/bbs-3.10-bioc/meat/GENESIS.buildbin-libdir/00LOCK-GENESIS/00new/GENESIS/libs/i386
** R
** data
** inst
** byte-compile and prepare package for lazy loading
** help
*** installing help indices
converting help for package 'GENESIS'
finding HTML links ... done
GENESIS-package html
HapMap_ASW_MXL_KINGmat html
admixMap html
finding level-2 HTML links ... done
assocTestAggregate html
assocTestSingle html
defunct html
fitNullModel html
kin2gds html
kingToMatrix html
makeSparseMatrix html
pcair html
pcairPartition html
pcrelate html
pcrelateToMatrix html
plot.pcair html
print.pcair html
sample_annotation_1KG html
varCompCI html
** building package indices
** installing vignettes
** testing if installed package can be loaded from temporary location
** testing if installed package can be loaded from final location
** testing if installed package keeps a record of temporary installation path
install for x64
* installing *source* package 'GENESIS' ...
** libs
C:/Rtools/mingw_64/bin/gcc -I"C:/Users/BIOCBU~1/BBS-3~1.10-/R/include" -DNDEBUG -I"C:/extsoft/include" -O2 -Wall -std=gnu99 -mtune=core2 -c fht.c -o fht.o
C:/Rtools/mingw_64/bin/gcc -shared -s -static-libgcc -o GENESIS.dll tmp.def fht.o -LC:/extsoft/lib/x64 -LC:/extsoft/lib -LC:/Users/BIOCBU~1/BBS-3~1.10-/R/bin/x64 -lR
installing to C:/Users/biocbuild/bbs-3.10-bioc/meat/GENESIS.buildbin-libdir/GENESIS/libs/x64
** testing if installed package can be loaded
* MD5 sums
packaged installation of 'GENESIS' as GENESIS_2.16.1.zip
* DONE (GENESIS)