| Back to Multiple platform build/check report for BioC 3.10 |
|
This page was generated on 2020-04-15 12:28:11 -0400 (Wed, 15 Apr 2020).
| Package 620/1823 | Hostname | OS / Arch | INSTALL | BUILD | CHECK | BUILD BIN | ||||||
| GA4GHclient 1.10.0 Welliton Souza
| malbec1 | Linux (Ubuntu 18.04.4 LTS) / x86_64 | OK | OK | OK | |||||||
| tokay1 | Windows Server 2012 R2 Standard / x64 | [ OK ] | OK | OK | OK | |||||||
| merida1 | OS X 10.11.6 El Capitan / x86_64 | OK | OK | OK | OK |
| Package: GA4GHclient |
| Version: 1.10.0 |
| Command: C:\cygwin\bin\curl.exe -O https://malbec1.bioconductor.org/BBS/3.10/bioc/src/contrib/GA4GHclient_1.10.0.tar.gz && rm -rf GA4GHclient.buildbin-libdir && mkdir GA4GHclient.buildbin-libdir && C:\Users\biocbuild\bbs-3.10-bioc\R\bin\R.exe CMD INSTALL --merge-multiarch --build --library=GA4GHclient.buildbin-libdir GA4GHclient_1.10.0.tar.gz && C:\Users\biocbuild\bbs-3.10-bioc\R\bin\R.exe CMD INSTALL GA4GHclient_1.10.0.zip && rm GA4GHclient_1.10.0.tar.gz GA4GHclient_1.10.0.zip |
| StartedAt: 2020-04-14 20:00:34 -0400 (Tue, 14 Apr 2020) |
| EndedAt: 2020-04-14 20:01:49 -0400 (Tue, 14 Apr 2020) |
| EllapsedTime: 74.4 seconds |
| RetCode: 0 |
| Status: OK |
##############################################################################
##############################################################################
###
### Running command:
###
### C:\cygwin\bin\curl.exe -O https://malbec1.bioconductor.org/BBS/3.10/bioc/src/contrib/GA4GHclient_1.10.0.tar.gz && rm -rf GA4GHclient.buildbin-libdir && mkdir GA4GHclient.buildbin-libdir && C:\Users\biocbuild\bbs-3.10-bioc\R\bin\R.exe CMD INSTALL --merge-multiarch --build --library=GA4GHclient.buildbin-libdir GA4GHclient_1.10.0.tar.gz && C:\Users\biocbuild\bbs-3.10-bioc\R\bin\R.exe CMD INSTALL GA4GHclient_1.10.0.zip && rm GA4GHclient_1.10.0.tar.gz GA4GHclient_1.10.0.zip
###
##############################################################################
##############################################################################
% Total % Received % Xferd Average Speed Time Time Time Current
Dload Upload Total Spent Left Speed
0 0 0 0 0 0 0 0 --:--:-- --:--:-- --:--:-- 0
100 189k 100 189k 0 0 5710k 0 --:--:-- --:--:-- --:--:-- 6538k
install for i386
* installing *source* package 'GA4GHclient' ...
** using staged installation
** R
** inst
** byte-compile and prepare package for lazy loading
No methods found in package 'BiocGenerics' for request: 'lengths' when loading 'GA4GHclient'
** help
*** installing help indices
converting help for package 'GA4GHclient'
finding HTML links ... done
GA4GHclient-package html
HGVSnames html
getBiosample html
finding level-2 HTML links ... done
getCallSet html
getDataset html
getExpressionLevel html
getFeature html
getFeatureSet html
getIndividual html
getReadGroupSet html
getReference html
getReferenceSet html
getRnaQuantification html
getRnaQuantificationSet html
getVariant html
getVariantAnnotationSet html
getVariantSet html
listReferenceBases html
makeVCFFromGA4GHResponse html
makeVCFHeaderFromGA4GHResponse html
searchBiosamples html
searchCallSets html
searchDatasets html
searchExpressionLevels html
searchFeatureSets html
searchFeatures html
searchIndividuals html
searchPhenotypeAssociationSets html
searchPhenotypeAssociations html
searchReadGroupSets html
searchReads html
searchReferenceSets html
searchReferences html
searchRnaQuantificationSets html
searchRnaQuantifications html
searchVariantAnnotationSets html
searchVariantAnnotations html
searchVariantSets html
searchVariants html
searchVariantsByGRanges html
** building package indices
** installing vignettes
** testing if installed package can be loaded from temporary location
No methods found in package 'BiocGenerics' for request: 'lengths' when loading 'GA4GHclient'
** testing if installed package can be loaded from final location
No methods found in package 'BiocGenerics' for request: 'lengths' when loading 'GA4GHclient'
** testing if installed package keeps a record of temporary installation path
install for x64
* installing *source* package 'GA4GHclient' ...
** testing if installed package can be loaded
No methods found in package 'BiocGenerics' for request: 'lengths' when loading 'GA4GHclient'
* MD5 sums
packaged installation of 'GA4GHclient' as GA4GHclient_1.10.0.zip
* DONE (GA4GHclient)
* installing to library 'C:/Users/biocbuild/bbs-3.10-bioc/R/library'
package 'GA4GHclient' successfully unpacked and MD5 sums checked