| Back to Multiple platform build/check report for BioC 3.10 |
|
This page was generated on 2020-04-15 12:24:12 -0400 (Wed, 15 Apr 2020).
| Package 599/1823 | Hostname | OS / Arch | INSTALL | BUILD | CHECK | BUILD BIN | ||||||
| FlowSOM 1.18.0 Sofie Van Gassen
| malbec1 | Linux (Ubuntu 18.04.4 LTS) / x86_64 | OK | OK | OK | |||||||
| tokay1 | Windows Server 2012 R2 Standard / x64 | [ OK ] | OK | OK | OK | |||||||
| merida1 | OS X 10.11.6 El Capitan / x86_64 | OK | OK | WARNINGS | OK |
| Package: FlowSOM |
| Version: 1.18.0 |
| Command: C:\cygwin\bin\curl.exe -O https://malbec1.bioconductor.org/BBS/3.10/bioc/src/contrib/FlowSOM_1.18.0.tar.gz && rm -rf FlowSOM.buildbin-libdir && mkdir FlowSOM.buildbin-libdir && C:\Users\biocbuild\bbs-3.10-bioc\R\bin\R.exe CMD INSTALL --merge-multiarch --build --library=FlowSOM.buildbin-libdir FlowSOM_1.18.0.tar.gz && C:\Users\biocbuild\bbs-3.10-bioc\R\bin\R.exe CMD INSTALL FlowSOM_1.18.0.zip && rm FlowSOM_1.18.0.tar.gz FlowSOM_1.18.0.zip |
| StartedAt: 2020-04-14 19:52:50 -0400 (Tue, 14 Apr 2020) |
| EndedAt: 2020-04-14 19:53:45 -0400 (Tue, 14 Apr 2020) |
| EllapsedTime: 55.0 seconds |
| RetCode: 0 |
| Status: OK |
##############################################################################
##############################################################################
###
### Running command:
###
### C:\cygwin\bin\curl.exe -O https://malbec1.bioconductor.org/BBS/3.10/bioc/src/contrib/FlowSOM_1.18.0.tar.gz && rm -rf FlowSOM.buildbin-libdir && mkdir FlowSOM.buildbin-libdir && C:\Users\biocbuild\bbs-3.10-bioc\R\bin\R.exe CMD INSTALL --merge-multiarch --build --library=FlowSOM.buildbin-libdir FlowSOM_1.18.0.tar.gz && C:\Users\biocbuild\bbs-3.10-bioc\R\bin\R.exe CMD INSTALL FlowSOM_1.18.0.zip && rm FlowSOM_1.18.0.tar.gz FlowSOM_1.18.0.zip
###
##############################################################################
##############################################################################
% Total % Received % Xferd Average Speed Time Time Time Current
Dload Upload Total Spent Left Speed
0 0 0 0 0 0 0 0 --:--:-- --:--:-- --:--:-- 0
100 1158k 100 1158k 0 0 9681k 0 --:--:-- --:--:-- --:--:-- 9.8M
install for i386
* installing *source* package 'FlowSOM' ...
** using staged installation
** libs
C:/Rtools/mingw_32/bin/gcc -I"C:/Users/BIOCBU~1/BBS-3~1.10-/R/include" -DNDEBUG -I"C:/extsoft/include" -O3 -Wall -std=gnu99 -mtune=core2 -c som.c -o som.o
C:/Rtools/mingw_32/bin/gcc -shared -s -static-libgcc -o FlowSOM.dll tmp.def som.o -LC:/extsoft/lib/i386 -LC:/extsoft/lib -LC:/Users/BIOCBU~1/BBS-3~1.10-/R/bin/i386 -lR
installing to C:/Users/biocbuild/bbs-3.10-bioc/meat/FlowSOM.buildbin-libdir/00LOCK-FlowSOM/00new/FlowSOM/libs/i386
** R
** inst
** byte-compile and prepare package for lazy loading
** help
*** installing help indices
converting help for package 'FlowSOM'
finding HTML links ... done
AddFlowFrame html
AggregateFlowFrames html
BuildMST html
BuildSOM html
CountGroups html
Dist.MST html
FMeasure html
FlowSOM html
FlowSOMSubset html
GetCVs html
GetClusters html
GetFlowJoLabels html
finding level-2 HTML links ... done
GetMFIs html
GetMetaclusters html
Initialize_KWSP html
Initialize_PCA html
MapDataToCodes html
MetaClustering html
MetaclusterCVs html
MetaclusterMFIs html
NewData html
PlotCenters html
PlotClusters2D html
PlotGroups html
PlotLabels html
PlotMarker html
PlotNode html
PlotNumbers html
PlotOverview2D html
PlotPies html
PlotSD html
PlotStars html
PlotVariable html
Purity html
QueryStarPlot html
ReadInput html
SOM html
SaveClustersToFCS html
TestOutliers html
UpdateNodeSize html
computeBackgroundColor html
get_channels html
get_markers html
metaClustering_consensus html
plotStarLegend html
** building package indices
** installing vignettes
** testing if installed package can be loaded from temporary location
** testing if installed package can be loaded from final location
** testing if installed package keeps a record of temporary installation path
install for x64
* installing *source* package 'FlowSOM' ...
** libs
C:/Rtools/mingw_64/bin/gcc -I"C:/Users/BIOCBU~1/BBS-3~1.10-/R/include" -DNDEBUG -I"C:/extsoft/include" -O2 -Wall -std=gnu99 -mtune=core2 -c som.c -o som.o
C:/Rtools/mingw_64/bin/gcc -shared -s -static-libgcc -o FlowSOM.dll tmp.def som.o -LC:/extsoft/lib/x64 -LC:/extsoft/lib -LC:/Users/BIOCBU~1/BBS-3~1.10-/R/bin/x64 -lR
installing to C:/Users/biocbuild/bbs-3.10-bioc/meat/FlowSOM.buildbin-libdir/FlowSOM/libs/x64
** testing if installed package can be loaded
* MD5 sums
packaged installation of 'FlowSOM' as FlowSOM_1.18.0.zip
* DONE (FlowSOM)
* installing to library 'C:/Users/biocbuild/bbs-3.10-bioc/R/library'
package 'FlowSOM' successfully unpacked and MD5 sums checked