| Back to Multiple platform build/check report for BioC 3.10 |
|
This page was generated on 2020-04-15 12:30:36 -0400 (Wed, 15 Apr 2020).
| Package 559/1823 | Hostname | OS / Arch | INSTALL | BUILD | CHECK | BUILD BIN | ||||||
| FastqCleaner 1.4.0 Leandro Roser
| malbec1 | Linux (Ubuntu 18.04.4 LTS) / x86_64 | OK | OK | OK | |||||||
| tokay1 | Windows Server 2012 R2 Standard / x64 | [ OK ] | OK | OK | OK | |||||||
| merida1 | OS X 10.11.6 El Capitan / x86_64 | OK | OK | OK | OK |
| Package: FastqCleaner |
| Version: 1.4.0 |
| Command: C:\cygwin\bin\curl.exe -O https://malbec1.bioconductor.org/BBS/3.10/bioc/src/contrib/FastqCleaner_1.4.0.tar.gz && rm -rf FastqCleaner.buildbin-libdir && mkdir FastqCleaner.buildbin-libdir && C:\Users\biocbuild\bbs-3.10-bioc\R\bin\R.exe CMD INSTALL --merge-multiarch --build --library=FastqCleaner.buildbin-libdir FastqCleaner_1.4.0.tar.gz && C:\Users\biocbuild\bbs-3.10-bioc\R\bin\R.exe CMD INSTALL FastqCleaner_1.4.0.zip && rm FastqCleaner_1.4.0.tar.gz FastqCleaner_1.4.0.zip |
| StartedAt: 2020-04-14 19:41:02 -0400 (Tue, 14 Apr 2020) |
| EndedAt: 2020-04-14 19:43:24 -0400 (Tue, 14 Apr 2020) |
| EllapsedTime: 141.8 seconds |
| RetCode: 0 |
| Status: OK |
##############################################################################
##############################################################################
###
### Running command:
###
### C:\cygwin\bin\curl.exe -O https://malbec1.bioconductor.org/BBS/3.10/bioc/src/contrib/FastqCleaner_1.4.0.tar.gz && rm -rf FastqCleaner.buildbin-libdir && mkdir FastqCleaner.buildbin-libdir && C:\Users\biocbuild\bbs-3.10-bioc\R\bin\R.exe CMD INSTALL --merge-multiarch --build --library=FastqCleaner.buildbin-libdir FastqCleaner_1.4.0.tar.gz && C:\Users\biocbuild\bbs-3.10-bioc\R\bin\R.exe CMD INSTALL FastqCleaner_1.4.0.zip && rm FastqCleaner_1.4.0.tar.gz FastqCleaner_1.4.0.zip
###
##############################################################################
##############################################################################
% Total % Received % Xferd Average Speed Time Time Time Current
Dload Upload Total Spent Left Speed
0 0 0 0 0 0 0 0 --:--:-- --:--:-- --:--:-- 0
100 2237k 100 2237k 0 0 26.4M 0 --:--:-- --:--:-- --:--:-- 27.6M
install for i386
* installing *source* package 'FastqCleaner' ...
** using staged installation
** libs
C:/Rtools/mingw_32/bin/g++ -std=gnu++11 -I"C:/Users/BIOCBU~1/BBS-3~1.10-/R/include" -DNDEBUG -I../inst/include/ -I"C:/Users/biocbuild/bbs-3.10-bioc/R/library/Rcpp/include" -I"C:/extsoft/include" -O2 -Wall -mtune=core2 -c RcppExports.cpp -o RcppExports.o
C:/Rtools/mingw_32/bin/g++ -std=gnu++11 -I"C:/Users/BIOCBU~1/BBS-3~1.10-/R/include" -DNDEBUG -I../inst/include/ -I"C:/Users/biocbuild/bbs-3.10-bioc/R/library/Rcpp/include" -I"C:/extsoft/include" -O2 -Wall -mtune=core2 -c cpp_GC_content.cpp -o cpp_GC_content.o
C:/Rtools/mingw_32/bin/g++ -std=gnu++11 -I"C:/Users/BIOCBU~1/BBS-3~1.10-/R/include" -DNDEBUG -I../inst/include/ -I"C:/Users/biocbuild/bbs-3.10-bioc/R/library/Rcpp/include" -I"C:/extsoft/include" -O2 -Wall -mtune=core2 -c cpp_base_content.cpp -o cpp_base_content.o
C:/Rtools/mingw_32/bin/g++ -std=gnu++11 -I"C:/Users/BIOCBU~1/BBS-3~1.10-/R/include" -DNDEBUG -I../inst/include/ -I"C:/Users/biocbuild/bbs-3.10-bioc/R/library/Rcpp/include" -I"C:/extsoft/include" -O2 -Wall -mtune=core2 -c cpp_check_quality_threshold.cpp -o cpp_check_quality_threshold.o
C:/Rtools/mingw_32/bin/g++ -std=gnu++11 -I"C:/Users/BIOCBU~1/BBS-3~1.10-/R/include" -DNDEBUG -I../inst/include/ -I"C:/Users/biocbuild/bbs-3.10-bioc/R/library/Rcpp/include" -I"C:/extsoft/include" -O2 -Wall -mtune=core2 -c cpp_create_stringvec.cpp -o cpp_create_stringvec.o
C:/Rtools/mingw_32/bin/g++ -std=gnu++11 -I"C:/Users/BIOCBU~1/BBS-3~1.10-/R/include" -DNDEBUG -I../inst/include/ -I"C:/Users/biocbuild/bbs-3.10-bioc/R/library/Rcpp/include" -I"C:/extsoft/include" -O2 -Wall -mtune=core2 -c cpp_which_true.cpp -o cpp_which_true.o
C:/Rtools/mingw_32/bin/g++ -shared -s -static-libgcc -o FastqCleaner.dll tmp.def RcppExports.o cpp_GC_content.o cpp_base_content.o cpp_check_quality_threshold.o cpp_create_stringvec.o cpp_which_true.o -LC:/extsoft/lib/i386 -LC:/extsoft/lib -LC:/Users/BIOCBU~1/BBS-3~1.10-/R/bin/i386 -lR
installing to C:/Users/biocbuild/bbs-3.10-bioc/meat/FastqCleaner.buildbin-libdir/00LOCK-FastqCleaner/00new/FastqCleaner/libs/i386
** R
** inst
** byte-compile and prepare package for lazy loading
** help
*** installing help indices
converting help for package 'FastqCleaner'
finding HTML links ... done
adapter_filter html
asc2int html
check_encoding html
check_onclick_ html
complex_filter html
create_cleanfunction_ html
create_uniform_width html
fixed_filter html
inject_letter_random html
int2asc html
isNaturalNumber html
launch_fqc html
length_filter html
matching html
messageFun_ html
myPlot html
n_filter html
outputClean_ html
plotA html
plotB html
plotC html
plotD html
plotE html
plotF html
plotG html
plotH html
plotI html
plotJ html
plotObjects html
processingFunction_ html
qmean_filter html
random_length html
random_qual html
random_seq html
seq_filter html
seq_names html
trim3q_filter html
unique_filter html
** building package indices
** installing vignettes
** testing if installed package can be loaded from temporary location
** testing if installed package can be loaded from final location
** testing if installed package keeps a record of temporary installation path
install for x64
* installing *source* package 'FastqCleaner' ...
** libs
C:/Rtools/mingw_64/bin/g++ -std=gnu++11 -I"C:/Users/BIOCBU~1/BBS-3~1.10-/R/include" -DNDEBUG -I../inst/include/ -I"C:/Users/biocbuild/bbs-3.10-bioc/R/library/Rcpp/include" -I"C:/extsoft/include" -O2 -Wall -mtune=core2 -c RcppExports.cpp -o RcppExports.o
C:/Rtools/mingw_64/bin/g++ -std=gnu++11 -I"C:/Users/BIOCBU~1/BBS-3~1.10-/R/include" -DNDEBUG -I../inst/include/ -I"C:/Users/biocbuild/bbs-3.10-bioc/R/library/Rcpp/include" -I"C:/extsoft/include" -O2 -Wall -mtune=core2 -c cpp_GC_content.cpp -o cpp_GC_content.o
C:/Rtools/mingw_64/bin/g++ -std=gnu++11 -I"C:/Users/BIOCBU~1/BBS-3~1.10-/R/include" -DNDEBUG -I../inst/include/ -I"C:/Users/biocbuild/bbs-3.10-bioc/R/library/Rcpp/include" -I"C:/extsoft/include" -O2 -Wall -mtune=core2 -c cpp_base_content.cpp -o cpp_base_content.o
C:/Rtools/mingw_64/bin/g++ -std=gnu++11 -I"C:/Users/BIOCBU~1/BBS-3~1.10-/R/include" -DNDEBUG -I../inst/include/ -I"C:/Users/biocbuild/bbs-3.10-bioc/R/library/Rcpp/include" -I"C:/extsoft/include" -O2 -Wall -mtune=core2 -c cpp_check_quality_threshold.cpp -o cpp_check_quality_threshold.o
C:/Rtools/mingw_64/bin/g++ -std=gnu++11 -I"C:/Users/BIOCBU~1/BBS-3~1.10-/R/include" -DNDEBUG -I../inst/include/ -I"C:/Users/biocbuild/bbs-3.10-bioc/R/library/Rcpp/include" -I"C:/extsoft/include" -O2 -Wall -mtune=core2 -c cpp_create_stringvec.cpp -o cpp_create_stringvec.o
C:/Rtools/mingw_64/bin/g++ -std=gnu++11 -I"C:/Users/BIOCBU~1/BBS-3~1.10-/R/include" -DNDEBUG -I../inst/include/ -I"C:/Users/biocbuild/bbs-3.10-bioc/R/library/Rcpp/include" -I"C:/extsoft/include" -O2 -Wall -mtune=core2 -c cpp_which_true.cpp -o cpp_which_true.o
C:/Rtools/mingw_64/bin/g++ -shared -s -static-libgcc -o FastqCleaner.dll tmp.def RcppExports.o cpp_GC_content.o cpp_base_content.o cpp_check_quality_threshold.o cpp_create_stringvec.o cpp_which_true.o -LC:/extsoft/lib/x64 -LC:/extsoft/lib -LC:/Users/BIOCBU~1/BBS-3~1.10-/R/bin/x64 -lR
installing to C:/Users/biocbuild/bbs-3.10-bioc/meat/FastqCleaner.buildbin-libdir/FastqCleaner/libs/x64
** testing if installed package can be loaded
* MD5 sums
packaged installation of 'FastqCleaner' as FastqCleaner_1.4.0.zip
* DONE (FastqCleaner)
* installing to library 'C:/Users/biocbuild/bbs-3.10-bioc/R/library'
package 'FastqCleaner' successfully unpacked and MD5 sums checked