| Back to Multiple platform build/check report for BioC 3.10 |
|
This page was generated on 2020-04-15 12:22:50 -0400 (Wed, 15 Apr 2020).
| Package 614/1823 | Hostname | OS / Arch | INSTALL | BUILD | CHECK | BUILD BIN | ||||||
| FRGEpistasis 1.22.0 Futao Zhang
| malbec1 | Linux (Ubuntu 18.04.4 LTS) / x86_64 | OK | OK | OK | |||||||
| tokay1 | Windows Server 2012 R2 Standard / x64 | [ OK ] | OK | OK | OK | |||||||
| merida1 | OS X 10.11.6 El Capitan / x86_64 | OK | OK | OK | OK |
| Package: FRGEpistasis |
| Version: 1.22.0 |
| Command: C:\cygwin\bin\curl.exe -O https://malbec1.bioconductor.org/BBS/3.10/bioc/src/contrib/FRGEpistasis_1.22.0.tar.gz && rm -rf FRGEpistasis.buildbin-libdir && mkdir FRGEpistasis.buildbin-libdir && C:\Users\biocbuild\bbs-3.10-bioc\R\bin\R.exe CMD INSTALL --merge-multiarch --build --library=FRGEpistasis.buildbin-libdir FRGEpistasis_1.22.0.tar.gz && C:\Users\biocbuild\bbs-3.10-bioc\R\bin\R.exe CMD INSTALL FRGEpistasis_1.22.0.zip && rm FRGEpistasis_1.22.0.tar.gz FRGEpistasis_1.22.0.zip |
| StartedAt: 2020-04-14 18:52:07 -0400 (Tue, 14 Apr 2020) |
| EndedAt: 2020-04-14 18:52:33 -0400 (Tue, 14 Apr 2020) |
| EllapsedTime: 26.9 seconds |
| RetCode: 0 |
| Status: OK |
##############################################################################
##############################################################################
###
### Running command:
###
### C:\cygwin\bin\curl.exe -O https://malbec1.bioconductor.org/BBS/3.10/bioc/src/contrib/FRGEpistasis_1.22.0.tar.gz && rm -rf FRGEpistasis.buildbin-libdir && mkdir FRGEpistasis.buildbin-libdir && C:\Users\biocbuild\bbs-3.10-bioc\R\bin\R.exe CMD INSTALL --merge-multiarch --build --library=FRGEpistasis.buildbin-libdir FRGEpistasis_1.22.0.tar.gz && C:\Users\biocbuild\bbs-3.10-bioc\R\bin\R.exe CMD INSTALL FRGEpistasis_1.22.0.zip && rm FRGEpistasis_1.22.0.tar.gz FRGEpistasis_1.22.0.zip
###
##############################################################################
##############################################################################
% Total % Received % Xferd Average Speed Time Time Time Current
Dload Upload Total Spent Left Speed
0 0 0 0 0 0 0 0 --:--:-- --:--:-- --:--:-- 0
100 133k 100 133k 0 0 3618k 0 --:--:-- --:--:-- --:--:-- 4051k
install for i386
* installing *source* package 'FRGEpistasis' ...
** using staged installation
** R
** inst
** byte-compile and prepare package for lazy loading
** help
*** installing help indices
converting help for package 'FRGEpistasis'
finding HTML links ... done
FRGEpistasis-package html
fRGEpistasis html
fRGInteraction html
fourierExpansion html
frgEpistasisTest html
innerEpi html
innerSnpListInteraction html
logTransPheno html
outerEpi html
outerSnpListInteraction html
pCAInteraction html
pCAPiontwiseEpistasis html
pointwiseInteraction html
rankTransPheno html
reduceGeno html
snpPairInteraction html
** building package indices
** installing vignettes
** testing if installed package can be loaded from temporary location
** testing if installed package can be loaded from final location
** testing if installed package keeps a record of temporary installation path
install for x64
* installing *source* package 'FRGEpistasis' ...
** testing if installed package can be loaded
* MD5 sums
packaged installation of 'FRGEpistasis' as FRGEpistasis_1.22.0.zip
* DONE (FRGEpistasis)
* installing to library 'C:/Users/biocbuild/bbs-3.10-bioc/R/library'
package 'FRGEpistasis' successfully unpacked and MD5 sums checked