| Back to Multiple platform build/check report for BioC 3.10 |
|
This page was generated on 2020-04-15 12:22:20 -0400 (Wed, 15 Apr 2020).
| Package 570/1823 | Hostname | OS / Arch | INSTALL | BUILD | CHECK | BUILD BIN | ||||||
| FGNet 3.20.0 Sara Aibar
| malbec1 | Linux (Ubuntu 18.04.4 LTS) / x86_64 | OK | OK | OK | |||||||
| tokay1 | Windows Server 2012 R2 Standard / x64 | [ OK ] | OK | OK | OK | |||||||
| merida1 | OS X 10.11.6 El Capitan / x86_64 | OK | OK | OK | OK |
| Package: FGNet |
| Version: 3.20.0 |
| Command: C:\cygwin\bin\curl.exe -O https://malbec1.bioconductor.org/BBS/3.10/bioc/src/contrib/FGNet_3.20.0.tar.gz && rm -rf FGNet.buildbin-libdir && mkdir FGNet.buildbin-libdir && C:\Users\biocbuild\bbs-3.10-bioc\R\bin\R.exe CMD INSTALL --merge-multiarch --build --library=FGNet.buildbin-libdir FGNet_3.20.0.tar.gz && C:\Users\biocbuild\bbs-3.10-bioc\R\bin\R.exe CMD INSTALL FGNet_3.20.0.zip && rm FGNet_3.20.0.tar.gz FGNet_3.20.0.zip |
| StartedAt: 2020-04-14 18:54:44 -0400 (Tue, 14 Apr 2020) |
| EndedAt: 2020-04-14 18:55:14 -0400 (Tue, 14 Apr 2020) |
| EllapsedTime: 30.0 seconds |
| RetCode: 0 |
| Status: OK |
##############################################################################
##############################################################################
###
### Running command:
###
### C:\cygwin\bin\curl.exe -O https://malbec1.bioconductor.org/BBS/3.10/bioc/src/contrib/FGNet_3.20.0.tar.gz && rm -rf FGNet.buildbin-libdir && mkdir FGNet.buildbin-libdir && C:\Users\biocbuild\bbs-3.10-bioc\R\bin\R.exe CMD INSTALL --merge-multiarch --build --library=FGNet.buildbin-libdir FGNet_3.20.0.tar.gz && C:\Users\biocbuild\bbs-3.10-bioc\R\bin\R.exe CMD INSTALL FGNet_3.20.0.zip && rm FGNet_3.20.0.tar.gz FGNet_3.20.0.zip
###
##############################################################################
##############################################################################
% Total % Received % Xferd Average Speed Time Time Time Current
Dload Upload Total Spent Left Speed
0 0 0 0 0 0 0 0 --:--:-- --:--:-- --:--:-- 0
100 1466k 100 1466k 0 0 24.0M 0 --:--:-- --:--:-- --:--:-- 25.5M
install for i386
* installing *source* package 'FGNet' ...
** using staged installation
** R
** data
** inst
** byte-compile and prepare package for lazy loading
** help
*** installing help indices
converting help for package 'FGNet'
finding HTML links ... done
FGNet-package html
FGNet_GUI html
FGNet_report html
analyzeNetwork html
clustersDistance html
data html
fea2incidMat html
fea_david html
fea_gage html
fea_gtLinker html
fea_topGO html
format_david html
format_results html
functionalNetwork html
getTerms html
keywordsTerm html
plotGoAncestors html
plotKegg html
readGeneTermSets html
** building package indices
** installing vignettes
** testing if installed package can be loaded from temporary location
** testing if installed package can be loaded from final location
** testing if installed package keeps a record of temporary installation path
install for x64
* installing *source* package 'FGNet' ...
** testing if installed package can be loaded
* MD5 sums
packaged installation of 'FGNet' as FGNet_3.20.0.zip
* DONE (FGNet)
* installing to library 'C:/Users/biocbuild/bbs-3.10-bioc/R/library'
package 'FGNet' successfully unpacked and MD5 sums checked