| Back to Multiple platform build/check report for BioC 3.10 |
|
This page was generated on 2020-04-15 12:23:48 -0400 (Wed, 15 Apr 2020).
| Package 568/1823 | Hostname | OS / Arch | INSTALL | BUILD | CHECK | BUILD BIN | ||||||
| FEM 3.14.0 Zhen Yang
| malbec1 | Linux (Ubuntu 18.04.4 LTS) / x86_64 | OK | OK | WARNINGS | |||||||
| tokay1 | Windows Server 2012 R2 Standard / x64 | [ OK ] | OK | WARNINGS | OK | |||||||
| merida1 | OS X 10.11.6 El Capitan / x86_64 | OK | OK | WARNINGS | OK |
| Package: FEM |
| Version: 3.14.0 |
| Command: C:\cygwin\bin\curl.exe -O https://malbec1.bioconductor.org/BBS/3.10/bioc/src/contrib/FEM_3.14.0.tar.gz && rm -rf FEM.buildbin-libdir && mkdir FEM.buildbin-libdir && C:\Users\biocbuild\bbs-3.10-bioc\R\bin\R.exe CMD INSTALL --merge-multiarch --build --library=FEM.buildbin-libdir FEM_3.14.0.tar.gz && C:\Users\biocbuild\bbs-3.10-bioc\R\bin\R.exe CMD INSTALL FEM_3.14.0.zip && rm FEM_3.14.0.tar.gz FEM_3.14.0.zip |
| StartedAt: 2020-04-14 19:24:48 -0400 (Tue, 14 Apr 2020) |
| EndedAt: 2020-04-14 19:25:53 -0400 (Tue, 14 Apr 2020) |
| EllapsedTime: 65.1 seconds |
| RetCode: 0 |
| Status: OK |
##############################################################################
##############################################################################
###
### Running command:
###
### C:\cygwin\bin\curl.exe -O https://malbec1.bioconductor.org/BBS/3.10/bioc/src/contrib/FEM_3.14.0.tar.gz && rm -rf FEM.buildbin-libdir && mkdir FEM.buildbin-libdir && C:\Users\biocbuild\bbs-3.10-bioc\R\bin\R.exe CMD INSTALL --merge-multiarch --build --library=FEM.buildbin-libdir FEM_3.14.0.tar.gz && C:\Users\biocbuild\bbs-3.10-bioc\R\bin\R.exe CMD INSTALL FEM_3.14.0.zip && rm FEM_3.14.0.tar.gz FEM_3.14.0.zip
###
##############################################################################
##############################################################################
% Total % Received % Xferd Average Speed Time Time Time Current
Dload Upload Total Spent Left Speed
0 0 0 0 0 0 0 0 --:--:-- --:--:-- --:--:-- 0
100 13.4M 100 13.4M 0 0 81.5M 0 --:--:-- --:--:-- --:--:-- 83.3M
install for i386
* installing *source* package 'FEM' ...
** using staged installation
** R
** data
** inst
** byte-compile and prepare package for lazy loading
Warning: replacing previous import 'igraph::intersection' by 'graph::intersection' when loading 'FEM'
Warning: replacing previous import 'igraph::union' by 'graph::union' when loading 'FEM'
Warning: replacing previous import 'igraph::degree' by 'graph::degree' when loading 'FEM'
Warning: replacing previous import 'igraph::edges' by 'graph::edges' when loading 'FEM'
Warning: replacing previous import 'limma::plotMA' by 'BiocGenerics::plotMA' when loading 'FEM'
Warning: replacing previous import 'Matrix::which' by 'BiocGenerics::which' when loading 'FEM'
Warning: replacing previous import 'igraph::path' by 'BiocGenerics::path' when loading 'FEM'
Warning: replacing previous import 'igraph::normalize' by 'BiocGenerics::normalize' when loading 'FEM'
Note: break used in wrong context: no loop is visible
Note: break used in wrong context: no loop is visible
Note: break used in wrong context: no loop is visible
Note: break used in wrong context: no loop is visible
Note: break used in wrong context: no loop is visible
Note: break used in wrong context: no loop is visible
Note: break used in wrong context: no loop is visible
Note: break used in wrong context: no loop is visible
** help
*** installing help indices
converting help for package 'FEM'
finding HTML links ... done
DoEpiMod html
DoExpMod html
DoFEMbi html
DoIntEpi450k html
DoIntExp html
DoIntFEM450k html
FEM-package html
FemModShow html
GenStatM html
GenStatMsp html
GenStatR html
Realdata html
Toydata html
probe450kfemanno html
probeEPICfemanno html
** building package indices
** installing vignettes
** testing if installed package can be loaded from temporary location
Warning: replacing previous import 'igraph::intersection' by 'graph::intersection' when loading 'FEM'
Warning: replacing previous import 'igraph::union' by 'graph::union' when loading 'FEM'
Warning: replacing previous import 'igraph::degree' by 'graph::degree' when loading 'FEM'
Warning: replacing previous import 'igraph::edges' by 'graph::edges' when loading 'FEM'
Warning: replacing previous import 'limma::plotMA' by 'BiocGenerics::plotMA' when loading 'FEM'
Warning: replacing previous import 'Matrix::which' by 'BiocGenerics::which' when loading 'FEM'
Warning: replacing previous import 'igraph::path' by 'BiocGenerics::path' when loading 'FEM'
Warning: replacing previous import 'igraph::normalize' by 'BiocGenerics::normalize' when loading 'FEM'
** testing if installed package can be loaded from final location
Warning: replacing previous import 'igraph::intersection' by 'graph::intersection' when loading 'FEM'
Warning: replacing previous import 'igraph::union' by 'graph::union' when loading 'FEM'
Warning: replacing previous import 'igraph::degree' by 'graph::degree' when loading 'FEM'
Warning: replacing previous import 'igraph::edges' by 'graph::edges' when loading 'FEM'
Warning: replacing previous import 'limma::plotMA' by 'BiocGenerics::plotMA' when loading 'FEM'
Warning: replacing previous import 'Matrix::which' by 'BiocGenerics::which' when loading 'FEM'
Warning: replacing previous import 'igraph::path' by 'BiocGenerics::path' when loading 'FEM'
Warning: replacing previous import 'igraph::normalize' by 'BiocGenerics::normalize' when loading 'FEM'
** testing if installed package keeps a record of temporary installation path
install for x64
* installing *source* package 'FEM' ...
** testing if installed package can be loaded
Warning: replacing previous import 'igraph::edges' by 'graph::edges' when loading 'FEM'
Warning: replacing previous import 'igraph::intersection' by 'graph::intersection' when loading 'FEM'
Warning: replacing previous import 'igraph::degree' by 'graph::degree' when loading 'FEM'
Warning: replacing previous import 'igraph::union' by 'graph::union' when loading 'FEM'
Warning: replacing previous import 'limma::plotMA' by 'BiocGenerics::plotMA' when loading 'FEM'
Warning: replacing previous import 'igraph::path' by 'BiocGenerics::path' when loading 'FEM'
Warning: replacing previous import 'Matrix::which' by 'BiocGenerics::which' when loading 'FEM'
Warning: replacing previous import 'igraph::normalize' by 'BiocGenerics::normalize' when loading 'FEM'
* MD5 sums
packaged installation of 'FEM' as FEM_3.14.0.zip
* DONE (FEM)
* installing to library 'C:/Users/biocbuild/bbs-3.10-bioc/R/library'
package 'FEM' successfully unpacked and MD5 sums checked