| Back to Multiple platform build/check report for BioC 3.10 |
|
This page was generated on 2020-04-15 12:28:45 -0400 (Wed, 15 Apr 2020).
| Package 528/1823 | Hostname | OS / Arch | INSTALL | BUILD | CHECK | BUILD BIN | ||||||
| EpiDISH 2.2.2 Shijie Charles Zheng
| malbec1 | Linux (Ubuntu 18.04.4 LTS) / x86_64 | OK | OK | OK | |||||||
| tokay1 | Windows Server 2012 R2 Standard / x64 | OK | OK | OK | [ OK ] | |||||||
| merida1 | OS X 10.11.6 El Capitan / x86_64 | OK | OK | OK | OK |
| Package: EpiDISH |
| Version: 2.2.2 |
| Command: rm -rf EpiDISH.buildbin-libdir && mkdir EpiDISH.buildbin-libdir && C:\Users\biocbuild\bbs-3.10-bioc\R\bin\R.exe CMD INSTALL --merge-multiarch --build --library=EpiDISH.buildbin-libdir EpiDISH_2.2.2.tar.gz |
| StartedAt: 2020-04-15 08:39:46 -0400 (Wed, 15 Apr 2020) |
| EndedAt: 2020-04-15 08:39:57 -0400 (Wed, 15 Apr 2020) |
| EllapsedTime: 10.9 seconds |
| RetCode: 0 |
| Status: OK |
| PackageFile: EpiDISH_2.2.2.zip |
| PackageFileSize: 1.75 MiB |
##############################################################################
##############################################################################
###
### Running command:
###
### rm -rf EpiDISH.buildbin-libdir && mkdir EpiDISH.buildbin-libdir && C:\Users\biocbuild\bbs-3.10-bioc\R\bin\R.exe CMD INSTALL --merge-multiarch --build --library=EpiDISH.buildbin-libdir EpiDISH_2.2.2.tar.gz
###
##############################################################################
##############################################################################
install for i386
* installing *source* package 'EpiDISH' ...
** using staged installation
** R
** data
*** moving datasets to lazyload DB
** inst
** byte-compile and prepare package for lazy loading
** help
*** installing help indices
converting help for package 'EpiDISH'
finding HTML links ... done
CellDMC html
DoMetaEfron html
DummyBeta.m html
LiuDataSub.m html
centBloodSub.m html
centDHSbloodDMC.m html
centEpiFibFatIC.m html
centEpiFibIC.m html
epidish html
hepidish html
** building package indices
** installing vignettes
** testing if installed package can be loaded from temporary location
** testing if installed package can be loaded from final location
** testing if installed package keeps a record of temporary installation path
install for x64
* installing *source* package 'EpiDISH' ...
** testing if installed package can be loaded
* MD5 sums
packaged installation of 'EpiDISH' as EpiDISH_2.2.2.zip
* DONE (EpiDISH)