| Back to Multiple platform build/check report for BioC 3.10 |
|
This page was generated on 2020-04-15 12:23:39 -0400 (Wed, 15 Apr 2020).
| Package 522/1823 | Hostname | OS / Arch | INSTALL | BUILD | CHECK | BUILD BIN | ||||||
| EnrichmentBrowser 2.16.1 Ludwig Geistlinger
| malbec1 | Linux (Ubuntu 18.04.4 LTS) / x86_64 | OK | OK | OK | |||||||
| tokay1 | Windows Server 2012 R2 Standard / x64 | [ OK ] | OK | OK | OK | |||||||
| merida1 | OS X 10.11.6 El Capitan / x86_64 | OK | OK | OK | OK |
| Package: EnrichmentBrowser |
| Version: 2.16.1 |
| Command: C:\cygwin\bin\curl.exe -O https://malbec1.bioconductor.org/BBS/3.10/bioc/src/contrib/EnrichmentBrowser_2.16.1.tar.gz && rm -rf EnrichmentBrowser.buildbin-libdir && mkdir EnrichmentBrowser.buildbin-libdir && C:\Users\biocbuild\bbs-3.10-bioc\R\bin\R.exe CMD INSTALL --merge-multiarch --build --library=EnrichmentBrowser.buildbin-libdir EnrichmentBrowser_2.16.1.tar.gz && C:\Users\biocbuild\bbs-3.10-bioc\R\bin\R.exe CMD INSTALL EnrichmentBrowser_2.16.1.zip && rm EnrichmentBrowser_2.16.1.tar.gz EnrichmentBrowser_2.16.1.zip |
| StartedAt: 2020-04-14 19:44:26 -0400 (Tue, 14 Apr 2020) |
| EndedAt: 2020-04-14 19:45:14 -0400 (Tue, 14 Apr 2020) |
| EllapsedTime: 48.2 seconds |
| RetCode: 0 |
| Status: OK |
##############################################################################
##############################################################################
###
### Running command:
###
### C:\cygwin\bin\curl.exe -O https://malbec1.bioconductor.org/BBS/3.10/bioc/src/contrib/EnrichmentBrowser_2.16.1.tar.gz && rm -rf EnrichmentBrowser.buildbin-libdir && mkdir EnrichmentBrowser.buildbin-libdir && C:\Users\biocbuild\bbs-3.10-bioc\R\bin\R.exe CMD INSTALL --merge-multiarch --build --library=EnrichmentBrowser.buildbin-libdir EnrichmentBrowser_2.16.1.tar.gz && C:\Users\biocbuild\bbs-3.10-bioc\R\bin\R.exe CMD INSTALL EnrichmentBrowser_2.16.1.zip && rm EnrichmentBrowser_2.16.1.tar.gz EnrichmentBrowser_2.16.1.zip
###
##############################################################################
##############################################################################
% Total % Received % Xferd Average Speed Time Time Time Current
Dload Upload Total Spent Left Speed
0 0 0 0 0 0 0 0 --:--:-- --:--:-- --:--:-- 0
100 691k 100 691k 0 0 14.9M 0 --:--:-- --:--:-- --:--:-- 16.4M
install for i386
* installing *source* package 'EnrichmentBrowser' ...
** using staged installation
** R
** inst
** byte-compile and prepare package for lazy loading
** help
*** installing help indices
converting help for package 'EnrichmentBrowser'
finding HTML links ... done
combResults html
compileGRN html
finding level-2 HTML links ... done
configEBrowser html
deAna html
downloadPathways html
eaBrowse html
ebrowser html
getGenesets html
ggeaGraph html
idMap html
isAvailable html
makeExampleData html
nbea html
normalize html
plots html
probe2gene html
readSE html
sbea html
** building package indices
** installing vignettes
** testing if installed package can be loaded from temporary location
** testing if installed package can be loaded from final location
** testing if installed package keeps a record of temporary installation path
install for x64
* installing *source* package 'EnrichmentBrowser' ...
** testing if installed package can be loaded
* MD5 sums
packaged installation of 'EnrichmentBrowser' as EnrichmentBrowser_2.16.1.zip
* DONE (EnrichmentBrowser)
* installing to library 'C:/Users/biocbuild/bbs-3.10-bioc/R/library'
package 'EnrichmentBrowser' successfully unpacked and MD5 sums checked