| Back to Multiple platform build/check report for BioC 3.10 |
|
This page was generated on 2020-04-15 12:42:28 -0400 (Wed, 15 Apr 2020).
| Package 521/1823 | Hostname | OS / Arch | INSTALL | BUILD | CHECK | BUILD BIN | ||||||
| EnrichedHeatmap 1.16.0 Zuguang Gu
| malbec1 | Linux (Ubuntu 18.04.4 LTS) / x86_64 | OK | OK | OK | |||||||
| tokay1 | Windows Server 2012 R2 Standard / x64 | OK | OK | OK | OK | |||||||
| merida1 | OS X 10.11.6 El Capitan / x86_64 | OK | OK | [ OK ] | OK |
| Package: EnrichedHeatmap |
| Version: 1.16.0 |
| Command: /Library/Frameworks/R.framework/Versions/Current/Resources/bin/R CMD check --install=check:EnrichedHeatmap.install-out.txt --library=/Library/Frameworks/R.framework/Versions/Current/Resources/library --no-vignettes --timings EnrichedHeatmap_1.16.0.tar.gz |
| StartedAt: 2020-04-15 02:05:34 -0400 (Wed, 15 Apr 2020) |
| EndedAt: 2020-04-15 02:07:57 -0400 (Wed, 15 Apr 2020) |
| EllapsedTime: 143.4 seconds |
| RetCode: 0 |
| Status: OK |
| CheckDir: EnrichedHeatmap.Rcheck |
| Warnings: 0 |
##############################################################################
##############################################################################
###
### Running command:
###
### /Library/Frameworks/R.framework/Versions/Current/Resources/bin/R CMD check --install=check:EnrichedHeatmap.install-out.txt --library=/Library/Frameworks/R.framework/Versions/Current/Resources/library --no-vignettes --timings EnrichedHeatmap_1.16.0.tar.gz
###
##############################################################################
##############################################################################
* using log directory ‘/Users/biocbuild/bbs-3.10-bioc/meat/EnrichedHeatmap.Rcheck’
* using R version 3.6.3 (2020-02-29)
* using platform: x86_64-apple-darwin15.6.0 (64-bit)
* using session charset: UTF-8
* using option ‘--no-vignettes’
* checking for file ‘EnrichedHeatmap/DESCRIPTION’ ... OK
* checking extension type ... Package
* this is package ‘EnrichedHeatmap’ version ‘1.16.0’
* checking package namespace information ... OK
* checking package dependencies ... OK
* checking if this is a source package ... OK
* checking if there is a namespace ... OK
* checking for hidden files and directories ... OK
* checking for portable file names ... OK
* checking for sufficient/correct file permissions ... OK
* checking whether package ‘EnrichedHeatmap’ can be installed ... OK
* checking installed package size ... OK
* checking package directory ... OK
* checking ‘build’ directory ... OK
* checking DESCRIPTION meta-information ... OK
* checking top-level files ... OK
* checking for left-over files ... OK
* checking index information ... OK
* checking package subdirectories ... OK
* checking R files for non-ASCII characters ... OK
* checking R files for syntax errors ... OK
* checking whether the package can be loaded ... OK
* checking whether the package can be loaded with stated dependencies ... OK
* checking whether the package can be unloaded cleanly ... OK
* checking whether the namespace can be loaded with stated dependencies ... OK
* checking whether the namespace can be unloaded cleanly ... OK
* checking dependencies in R code ... OK
* checking S3 generic/method consistency ... OK
* checking replacement functions ... OK
* checking foreign function calls ... OK
* checking R code for possible problems ... OK
* checking Rd files ... OK
* checking Rd metadata ... OK
* checking Rd cross-references ... OK
* checking for missing documentation entries ... OK
* checking for code/documentation mismatches ... OK
* checking Rd \usage sections ... OK
* checking Rd contents ... OK
* checking for unstated dependencies in examples ... OK
* checking line endings in C/C++/Fortran sources/headers ... OK
* checking compiled code ... NOTE
Note: information on .o files is not available
* checking files in ‘vignettes’ ... OK
* checking examples ... OK
Examples with CPU or elapsed time > 5s
user system elapsed
EnrichedHeatmap 12.395 0.478 13.081
* checking for unstated dependencies in ‘tests’ ... OK
* checking tests ...
Running ‘test-all.R’
OK
* checking for unstated dependencies in vignettes ... OK
* checking package vignettes in ‘inst/doc’ ... OK
* checking running R code from vignettes ... SKIPPED
* checking re-building of vignette outputs ... SKIPPED
* checking PDF version of manual ... OK
* DONE
Status: 1 NOTE
See
‘/Users/biocbuild/bbs-3.10-bioc/meat/EnrichedHeatmap.Rcheck/00check.log’
for details.
EnrichedHeatmap.Rcheck/00install.out
############################################################################## ############################################################################## ### ### Running command: ### ### /Library/Frameworks/R.framework/Versions/Current/Resources/bin/R CMD INSTALL EnrichedHeatmap ### ############################################################################## ############################################################################## * installing to library ‘/Library/Frameworks/R.framework/Versions/3.6/Resources/library’ * installing *source* package ‘EnrichedHeatmap’ ... ** using staged installation ** libs clang++ -std=gnu++11 -I"/Library/Frameworks/R.framework/Resources/include" -DNDEBUG -I"/Library/Frameworks/R.framework/Versions/3.6/Resources/library/Rcpp/include" -isysroot /Library/Developer/CommandLineTools/SDKs/MacOSX.sdk -I/usr/local/include -fPIC -Wall -g -O2 -c RcppExports.cpp -o RcppExports.o clang++ -std=gnu++11 -I"/Library/Frameworks/R.framework/Resources/include" -DNDEBUG -I"/Library/Frameworks/R.framework/Versions/3.6/Resources/library/Rcpp/include" -isysroot /Library/Developer/CommandLineTools/SDKs/MacOSX.sdk -I/usr/local/include -fPIC -Wall -g -O2 -c dist_by_closeness.cpp -o dist_by_closeness.o clang++ -std=gnu++11 -dynamiclib -Wl,-headerpad_max_install_names -undefined dynamic_lookup -single_module -multiply_defined suppress -L/Library/Frameworks/R.framework/Resources/lib -L/usr/local/lib -o EnrichedHeatmap.so RcppExports.o dist_by_closeness.o -F/Library/Frameworks/R.framework/.. -framework R -Wl,-framework -Wl,CoreFoundation installing to /Library/Frameworks/R.framework/Versions/3.6/Resources/library/00LOCK-EnrichedHeatmap/00new/EnrichedHeatmap/libs ** R ** inst ** byte-compile and prepare package for lazy loading ** help *** installing help indices ** building package indices ** installing vignettes ** testing if installed package can be loaded from temporary location ** checking absolute paths in shared objects and dynamic libraries ** testing if installed package can be loaded from final location ** testing if installed package keeps a record of temporary installation path * DONE (EnrichedHeatmap)
EnrichedHeatmap.Rcheck/tests/test-all.Rout
R version 3.6.3 (2020-02-29) -- "Holding the Windsock"
Copyright (C) 2020 The R Foundation for Statistical Computing
Platform: x86_64-apple-darwin15.6.0 (64-bit)
R is free software and comes with ABSOLUTELY NO WARRANTY.
You are welcome to redistribute it under certain conditions.
Type 'license()' or 'licence()' for distribution details.
R is a collaborative project with many contributors.
Type 'contributors()' for more information and
'citation()' on how to cite R or R packages in publications.
Type 'demo()' for some demos, 'help()' for on-line help, or
'help.start()' for an HTML browser interface to help.
Type 'q()' to quit R.
> library(testthat)
> suppressWarnings(suppressPackageStartupMessages(library(EnrichedHeatmap)))
>
> test_check("EnrichedHeatmap")
══ testthat results ═══════════════════════════════════════════════════════════
[ OK: 19 | SKIPPED: 0 | WARNINGS: 6 | FAILED: 0 ]
>
> proc.time()
user system elapsed
12.887 0.378 13.340
EnrichedHeatmap.Rcheck/EnrichedHeatmap-Ex.timings
| name | user | system | elapsed | |
| EnrichedHeatmap | 12.395 | 0.478 | 13.081 | |
| Extract.normalizedMatrix | 0.001 | 0.000 | 0.001 | |
| anno_enriched | 3.492 | 0.258 | 3.815 | |
| as.normalizedMatrix | 0.000 | 0.001 | 0.000 | |
| copyAttr | 0.400 | 0.008 | 0.414 | |
| default_smooth_fun | 0.001 | 0.000 | 0.000 | |
| discretize | 0 | 0 | 0 | |
| dist_by_closeness | 0.003 | 0.001 | 0.004 | |
| enriched_score | 0.000 | 0.000 | 0.001 | |
| extract_anno_enriched | 0 | 0 | 0 | |
| failed_rows | 0.000 | 0.000 | 0.001 | |
| getSignalsFromList | 0 | 0 | 0 | |
| makeWindows | 0.345 | 0.007 | 0.356 | |
| normalizeToMatrix | 3.201 | 0.015 | 3.247 | |
| print.normalizedMatrix | 0 | 0 | 0 | |
| rbind.normalizedMatrix | 0 | 0 | 0 | |