| Back to Multiple platform build/check report for BioC 3.10 |
|
This page was generated on 2020-04-15 12:31:10 -0400 (Wed, 15 Apr 2020).
| Package 539/1823 | Hostname | OS / Arch | INSTALL | BUILD | CHECK | BUILD BIN | ||||||
| ERSSA 1.4.0 Zixuan Shao
| malbec1 | Linux (Ubuntu 18.04.4 LTS) / x86_64 | OK | OK | OK | |||||||
| tokay1 | Windows Server 2012 R2 Standard / x64 | OK | OK | OK | [ OK ] | |||||||
| merida1 | OS X 10.11.6 El Capitan / x86_64 | OK | OK | OK | OK |
| Package: ERSSA |
| Version: 1.4.0 |
| Command: rm -rf ERSSA.buildbin-libdir && mkdir ERSSA.buildbin-libdir && C:\Users\biocbuild\bbs-3.10-bioc\R\bin\R.exe CMD INSTALL --merge-multiarch --build --library=ERSSA.buildbin-libdir ERSSA_1.4.0.tar.gz |
| StartedAt: 2020-04-15 08:40:25 -0400 (Wed, 15 Apr 2020) |
| EndedAt: 2020-04-15 08:41:53 -0400 (Wed, 15 Apr 2020) |
| EllapsedTime: 87.8 seconds |
| RetCode: 0 |
| Status: OK |
| PackageFile: ERSSA_1.4.0.zip |
| PackageFileSize: 2.574 MiB |
##############################################################################
##############################################################################
###
### Running command:
###
### rm -rf ERSSA.buildbin-libdir && mkdir ERSSA.buildbin-libdir && C:\Users\biocbuild\bbs-3.10-bioc\R\bin\R.exe CMD INSTALL --merge-multiarch --build --library=ERSSA.buildbin-libdir ERSSA_1.4.0.tar.gz
###
##############################################################################
##############################################################################
install for i386
* installing *source* package 'ERSSA' ...
** using staged installation
** R
** data
*** moving datasets to lazyload DB
** inst
** byte-compile and prepare package for lazy loading
** help
*** installing help indices
converting help for package 'ERSSA'
finding HTML links ... done
comb_gen html
combinations.partial html
condition_table.full html
condition_table.partial html
count_filter html
count_table.filtered.partial html
count_table.full html
count_table.partial html
deg.partial html
erssa html
erssa_deseq2 html
erssa_deseq2_parallel html
erssa_edger html
erssa_edger_parallel html
ggplot2_TPR_FPRPlot html
ggplot2_dotplot html
ggplot2_intersectPlot html
ggplot2_marginPlot html
** building package indices
** installing vignettes
** testing if installed package can be loaded from temporary location
** testing if installed package can be loaded from final location
** testing if installed package keeps a record of temporary installation path
install for x64
* installing *source* package 'ERSSA' ...
** testing if installed package can be loaded
* MD5 sums
packaged installation of 'ERSSA' as ERSSA_1.4.0.zip
* DONE (ERSSA)