| Back to Multiple platform build/check report for BioC 3.10 |
|
This page was generated on 2020-04-15 12:24:55 -0400 (Wed, 15 Apr 2020).
| Package 518/1823 | Hostname | OS / Arch | INSTALL | BUILD | CHECK | BUILD BIN | ||||||
| ENCODExplorer 2.12.1 Charles Joly Beauparlant
| malbec1 | Linux (Ubuntu 18.04.4 LTS) / x86_64 | OK | OK | OK | |||||||
| tokay1 | Windows Server 2012 R2 Standard / x64 | OK | OK | OK | [ OK ] | |||||||
| merida1 | OS X 10.11.6 El Capitan / x86_64 | OK | OK | OK | OK |
| Package: ENCODExplorer |
| Version: 2.12.1 |
| Command: rm -rf ENCODExplorer.buildbin-libdir && mkdir ENCODExplorer.buildbin-libdir && C:\Users\biocbuild\bbs-3.10-bioc\R\bin\R.exe CMD INSTALL --merge-multiarch --build --library=ENCODExplorer.buildbin-libdir ENCODExplorer_2.12.1.tar.gz |
| StartedAt: 2020-04-15 08:39:15 -0400 (Wed, 15 Apr 2020) |
| EndedAt: 2020-04-15 08:40:11 -0400 (Wed, 15 Apr 2020) |
| EllapsedTime: 56.0 seconds |
| RetCode: 0 |
| Status: OK |
| PackageFile: ENCODExplorer_2.12.1.zip |
| PackageFileSize: 1.315 MiB |
##############################################################################
##############################################################################
###
### Running command:
###
### rm -rf ENCODExplorer.buildbin-libdir && mkdir ENCODExplorer.buildbin-libdir && C:\Users\biocbuild\bbs-3.10-bioc\R\bin\R.exe CMD INSTALL --merge-multiarch --build --library=ENCODExplorer.buildbin-libdir ENCODExplorer_2.12.1.tar.gz
###
##############################################################################
##############################################################################
install for i386
* installing *source* package 'ENCODExplorer' ...
** using staged installation
** R
** inst
** byte-compile and prepare package for lazy loading
** help
*** installing help indices
converting help for package 'ENCODExplorer'
finding HTML links ... done
ENCODEBindingConsensus-class html
finding level-2 HTML links ... done
ENCODEExpressionSummary-class html
ENCODESummary-class html
ENCODExplorer html
GenomicOverlaps-class html
GenomicOverlaps html
buildConsensusPeaks html
buildExpressionSummary html
choose_interactive_value html
clean_column html
clean_table html
combined_regions-GenomicOverlaps-method
html
combined_regions-set-GenomicOverlaps-GRanges-method
html
consensus_indices html
consensus_regions html
createDesign html
downloadEncode html
download_dt_file html
download_single_file html
fuzzySearch html
get_encode_df html
get_encode_df_demo html
get_encode_df_full html
initial_regions-GenomicOverlaps-method
html
intersect_indices html
intersect_matrix html
intersect_regions html
length-GenomicOverlaps-method html
names-GenomicOverlaps-method html
names-set-GenomicOverlaps-character-method
html
pairwise_overlap html
queryConsensusPeaks html
queryEncode html
queryEncodeGeneric html
queryExpressionGeneric html
queryGeneExpression html
queryTranscriptExpression html
searchEncode html
searchToquery html
shinyEncode html
split_by_metadata html
union_indices html
union_regions html
** building package indices
** installing vignettes
** testing if installed package can be loaded from temporary location
** testing if installed package can be loaded from final location
** testing if installed package keeps a record of temporary installation path
install for x64
* installing *source* package 'ENCODExplorer' ...
** testing if installed package can be loaded
* MD5 sums
packaged installation of 'ENCODExplorer' as ENCODExplorer_2.12.1.zip
* DONE (ENCODExplorer)