| Back to Multiple platform build/check report for BioC 3.10 |
|
This page was generated on 2020-04-15 12:24:59 -0400 (Wed, 15 Apr 2020).
| Package 516/1823 | Hostname | OS / Arch | INSTALL | BUILD | CHECK | BUILD BIN | ||||||
| EMDomics 2.16.0 Sadhika Malladi
| malbec1 | Linux (Ubuntu 18.04.4 LTS) / x86_64 | OK | OK | OK | |||||||
| tokay1 | Windows Server 2012 R2 Standard / x64 | OK | OK | WARNINGS | [ OK ] | |||||||
| merida1 | OS X 10.11.6 El Capitan / x86_64 | OK | OK | OK | OK |
| Package: EMDomics |
| Version: 2.16.0 |
| Command: rm -rf EMDomics.buildbin-libdir && mkdir EMDomics.buildbin-libdir && C:\Users\biocbuild\bbs-3.10-bioc\R\bin\R.exe CMD INSTALL --merge-multiarch --build --library=EMDomics.buildbin-libdir EMDomics_2.16.0.tar.gz |
| StartedAt: 2020-04-15 08:39:02 -0400 (Wed, 15 Apr 2020) |
| EndedAt: 2020-04-15 08:39:46 -0400 (Wed, 15 Apr 2020) |
| EllapsedTime: 44.3 seconds |
| RetCode: 0 |
| Status: OK |
| PackageFile: EMDomics_2.16.0.zip |
| PackageFileSize: 204 KiB |
##############################################################################
##############################################################################
###
### Running command:
###
### rm -rf EMDomics.buildbin-libdir && mkdir EMDomics.buildbin-libdir && C:\Users\biocbuild\bbs-3.10-bioc\R\bin\R.exe CMD INSTALL --merge-multiarch --build --library=EMDomics.buildbin-libdir EMDomics_2.16.0.tar.gz
###
##############################################################################
##############################################################################
install for i386
* installing *source* package 'EMDomics' ...
** using staged installation
** R
** inst
** byte-compile and prepare package for lazy loading
** help
*** installing help indices
converting help for package 'EMDomics'
finding HTML links ... done
CVMomics html
EMDomics html
KSomics html
calculate_cvm html
calculate_cvm_gene html
calculate_emd html
Rd warning: C:/Users/biocbuild/bbs-3.10-bioc/tmpdir/Rtmpc10zTy/R.INSTALL12b0603b21c0/EMDomics/man/calculate_emd.Rd:101: file link 'emd2d' in package 'emdist' does not exist and so has been treated as a topic
calculate_emd_gene html
Rd warning: C:/Users/biocbuild/bbs-3.10-bioc/tmpdir/Rtmpc10zTy/R.INSTALL12b0603b21c0/EMDomics/man/calculate_emd_gene.Rd:31: file link 'emd2d' in package 'emdist' does not exist and so has been treated as a topic
Rd warning: C:/Users/biocbuild/bbs-3.10-bioc/tmpdir/Rtmpc10zTy/R.INSTALL12b0603b21c0/EMDomics/man/calculate_emd_gene.Rd:47: file link 'emd2d' in package 'emdist' does not exist and so has been treated as a topic
calculate_ks html
calculate_ks_gene html
emdomics-package html
plot_cvm_density html
plot_cvmnull html
plot_cvmperms html
plot_emd_density html
plot_emdnull html
plot_emdperms html
plot_ks_density html
plot_ksnull html
plot_ksperms html
** building package indices
** installing vignettes
** testing if installed package can be loaded from temporary location
** testing if installed package can be loaded from final location
** testing if installed package keeps a record of temporary installation path
install for x64
* installing *source* package 'EMDomics' ...
** testing if installed package can be loaded
* MD5 sums
packaged installation of 'EMDomics' as EMDomics_2.16.0.zip
* DONE (EMDomics)