| Back to Multiple platform build/check report for BioC 3.10 |
|
This page was generated on 2020-04-15 12:25:02 -0400 (Wed, 15 Apr 2020).
| Package 515/1823 | Hostname | OS / Arch | INSTALL | BUILD | CHECK | BUILD BIN | ||||||
| ELMER 2.10.0 Tiago Chedraoui Silva
| malbec1 | Linux (Ubuntu 18.04.4 LTS) / x86_64 | OK | OK | OK | |||||||
| tokay1 | Windows Server 2012 R2 Standard / x64 | OK | OK | OK | [ OK ] | |||||||
| merida1 | OS X 10.11.6 El Capitan / x86_64 | OK | OK | OK | OK |
| Package: ELMER |
| Version: 2.10.0 |
| Command: rm -rf ELMER.buildbin-libdir && mkdir ELMER.buildbin-libdir && C:\Users\biocbuild\bbs-3.10-bioc\R\bin\R.exe CMD INSTALL --merge-multiarch --build --library=ELMER.buildbin-libdir ELMER_2.10.0.tar.gz |
| StartedAt: 2020-04-15 08:38:59 -0400 (Wed, 15 Apr 2020) |
| EndedAt: 2020-04-15 08:40:39 -0400 (Wed, 15 Apr 2020) |
| EllapsedTime: 100.0 seconds |
| RetCode: 0 |
| Status: OK |
| PackageFile: ELMER_2.10.0.zip |
| PackageFileSize: 31.28 MiB |
##############################################################################
##############################################################################
###
### Running command:
###
### rm -rf ELMER.buildbin-libdir && mkdir ELMER.buildbin-libdir && C:\Users\biocbuild\bbs-3.10-bioc\R\bin\R.exe CMD INSTALL --merge-multiarch --build --library=ELMER.buildbin-libdir ELMER_2.10.0.tar.gz
###
##############################################################################
##############################################################################
install for i386
* installing *source* package 'ELMER' ...
** using staged installation
** R
** inst
** byte-compile and prepare package for lazy loading
** help
*** installing help indices
converting help for package 'ELMER'
finding HTML links ... done
ELMER html
Get.Pvalue.p html
GetNearGenes html
Stat.diff.meth html
Stat.nonpara html
Stat.nonpara.permu html
TCGA.pipe html
TF.rank.plot html
TFsurvival.plot html
addDistNearestTSS html
addMutCol html
calcDistNearestTSS html
calculateEnrichement html
createBigWigDNAmetArray html
createIGVtrack html
createMAE html
createMotifRelevantTfs html
createSummaryDocument html
createTSVTemplates html
findMotifRegion html
get.TFs html
get.diff.meth html
get.enriched.motif html
get.feature.probe html
get.pair html
get.permu html
get.tab html
get.tabs html
get450K html
getClinic html
getExp html
getExpSamples html
getGeneID html
getMet html
getMetSamples html
getRNAseq html
getRandomPairs html
getRegionNearGenes html
getSymbol html
getTCGA html
getTF html
getTFBindingSites html
getTFtargets html
getTSS html
heatmapGene html
heatmapPairs html
lm_eqn html
metBoxPlot html
motif.enrichment.plot html
preAssociationProbeFiltering html
promoterMeth html
render_report html
scatter html
scatter.plot html
schematic.plot html
summarizeTF html
** building package indices
** installing vignettes
** testing if installed package can be loaded from temporary location
** testing if installed package can be loaded from final location
** testing if installed package keeps a record of temporary installation path
install for x64
* installing *source* package 'ELMER' ...
** testing if installed package can be loaded
* MD5 sums
packaged installation of 'ELMER' as ELMER_2.10.0.zip
* DONE (ELMER)