| Back to Multiple platform build/check report for BioC 3.10 |
|
This page was generated on 2020-04-15 12:28:55 -0400 (Wed, 15 Apr 2020).
| Package 480/1823 | Hostname | OS / Arch | INSTALL | BUILD | CHECK | BUILD BIN | ||||||
| Doscheda 1.8.1 Bruno Contrino
| malbec1 | Linux (Ubuntu 18.04.4 LTS) / x86_64 | OK | OK | OK | |||||||
| tokay1 | Windows Server 2012 R2 Standard / x64 | OK | OK | OK | [ OK ] | |||||||
| merida1 | OS X 10.11.6 El Capitan / x86_64 | OK | OK | OK | OK |
| Package: Doscheda |
| Version: 1.8.1 |
| Command: rm -rf Doscheda.buildbin-libdir && mkdir Doscheda.buildbin-libdir && C:\Users\biocbuild\bbs-3.10-bioc\R\bin\R.exe CMD INSTALL --merge-multiarch --build --library=Doscheda.buildbin-libdir Doscheda_1.8.1.tar.gz |
| StartedAt: 2020-04-15 08:37:09 -0400 (Wed, 15 Apr 2020) |
| EndedAt: 2020-04-15 08:37:37 -0400 (Wed, 15 Apr 2020) |
| EllapsedTime: 28.0 seconds |
| RetCode: 0 |
| Status: OK |
| PackageFile: Doscheda_1.8.1.zip |
| PackageFileSize: 3.909 MiB |
##############################################################################
##############################################################################
###
### Running command:
###
### rm -rf Doscheda.buildbin-libdir && mkdir Doscheda.buildbin-libdir && C:\Users\biocbuild\bbs-3.10-bioc\R\bin\R.exe CMD INSTALL --merge-multiarch --build --library=Doscheda.buildbin-libdir Doscheda_1.8.1.tar.gz
###
##############################################################################
##############################################################################
install for i386
* installing *source* package 'Doscheda' ...
** using staged installation
** R
** data
*** moving datasets to lazyload DB
** inst
** byte-compile and prepare package for lazy loading
in method for 'getInput' with signature '"ChemoProtSet"': no definition for class "ChemoProtSet"
in method for 'getNorm' with signature '"ChemoProtSet"': no definition for class "ChemoProtSet"
in method for 'getFinal' with signature '"ChemoProtSet"': no definition for class "ChemoProtSet"
in method for 'getParameters' with signature '"ChemoProtSet"': no definition for class "ChemoProtSet"
in method for 'getDatasets' with signature '"ChemoProtSet"': no definition for class "ChemoProtSet"
in method for 'boxplot' with signature '"ChemoProtSet"': no definition for class "ChemoProtSet"
in method for 'corrPlot' with signature '"ChemoProtSet"': no definition for class "ChemoProtSet"
in method for 'densityPlot' with signature '"ChemoProtSet"': no definition for class "ChemoProtSet"
Creating a new generic function for 'meanSdPlot' in package 'Doscheda'
** help
*** installing help indices
converting help for package 'Doscheda'
finding HTML links ... done
ChemoProtSet-class html
boxplot-ChemoProtSet-method html
corrPlot-methods html
densityPlot-methods html
doscheda html
doschedaApp html
doschedaData html
fitModel-methods html
getDatasets-methods html
getFinal-methods html
getInput-methods html
getNorm-methods html
getParameters-methods html
makeReport html
meanSdPlot-methods html
pcaPlot-methods html
plot.ChemoProtSet html
processedExample html
removePeptides-methods html
replicatePlot-methods html
runDoscheda html
runNormalisation-methods html
setData-methods html
setParameters-methods html
volcanoPlot-methods html
** building package indices
** installing vignettes
** testing if installed package can be loaded from temporary location
** testing if installed package can be loaded from final location
** testing if installed package keeps a record of temporary installation path
install for x64
* installing *source* package 'Doscheda' ...
** testing if installed package can be loaded
* MD5 sums
packaged installation of 'Doscheda' as Doscheda_1.8.1.zip
* DONE (Doscheda)