| Back to Multiple platform build/check report for BioC 3.10 |
|
This page was generated on 2020-04-15 12:32:13 -0400 (Wed, 15 Apr 2020).
| Package 464/1823 | Hostname | OS / Arch | INSTALL | BUILD | CHECK | BUILD BIN | ||||||
| DiscoRhythm 1.2.1 Matthew Carlucci
| malbec1 | Linux (Ubuntu 18.04.4 LTS) / x86_64 | OK | OK | OK | |||||||
| tokay1 | Windows Server 2012 R2 Standard / x64 | OK | OK | OK | [ OK ] | |||||||
| merida1 | OS X 10.11.6 El Capitan / x86_64 | OK | OK | OK | OK |
| Package: DiscoRhythm |
| Version: 1.2.1 |
| Command: rm -rf DiscoRhythm.buildbin-libdir && mkdir DiscoRhythm.buildbin-libdir && C:\Users\biocbuild\bbs-3.10-bioc\R\bin\R.exe CMD INSTALL --merge-multiarch --build --library=DiscoRhythm.buildbin-libdir DiscoRhythm_1.2.1.tar.gz |
| StartedAt: 2020-04-15 08:36:12 -0400 (Wed, 15 Apr 2020) |
| EndedAt: 2020-04-15 08:36:58 -0400 (Wed, 15 Apr 2020) |
| EllapsedTime: 45.5 seconds |
| RetCode: 0 |
| Status: OK |
| PackageFile: DiscoRhythm_1.2.1.zip |
| PackageFileSize: 1.449 MiB |
##############################################################################
##############################################################################
###
### Running command:
###
### rm -rf DiscoRhythm.buildbin-libdir && mkdir DiscoRhythm.buildbin-libdir && C:\Users\biocbuild\bbs-3.10-bioc\R\bin\R.exe CMD INSTALL --merge-multiarch --build --library=DiscoRhythm.buildbin-libdir DiscoRhythm_1.2.1.tar.gz
###
##############################################################################
##############################################################################
install for i386
* installing *source* package 'DiscoRhythm' ...
** using staged installation
** R
** data
*** moving datasets to lazyload DB
** inst
** byte-compile and prepare package for lazy loading
** help
*** installing help indices
converting help for package 'DiscoRhythm'
finding HTML links ... done
DiscoRhythm-package html
PeriodDetection_range html
checkJTKperiod html
checkPeriod html
discoApp html
discoBatch html
discoCheckInput html
discoDFtoSE html
discoDesignSummary html
discoGetSimu html
discoODAexclusionMatrix html
discoODAid2name html
discoODAs html
discoPCA html
discoPCAgetOutliers html
discoParseMeta html
discoPeriodDetection html
discoQC html
discoShinyHandler html
fisherExact html
inferFilteredDesign html
lmCSmat html
lmCSmatNoNA html
sincos html
** building package indices
** installing vignettes
** testing if installed package can be loaded from temporary location
** testing if installed package can be loaded from final location
** testing if installed package keeps a record of temporary installation path
install for x64
* installing *source* package 'DiscoRhythm' ...
** testing if installed package can be loaded
* MD5 sums
packaged installation of 'DiscoRhythm' as DiscoRhythm_1.2.1.zip
* DONE (DiscoRhythm)