| Back to Multiple platform build/check report for BioC 3.10 |
|
This page was generated on 2020-04-15 12:25:29 -0400 (Wed, 15 Apr 2020).
| Package 457/1823 | Hostname | OS / Arch | INSTALL | BUILD | CHECK | BUILD BIN | ||||||
| DiffLogo 2.10.0 Hendrik Treutler
| malbec1 | Linux (Ubuntu 18.04.4 LTS) / x86_64 | OK | OK | WARNINGS | |||||||
| tokay1 | Windows Server 2012 R2 Standard / x64 | OK | OK | WARNINGS | [ OK ] | |||||||
| merida1 | OS X 10.11.6 El Capitan / x86_64 | OK | OK | WARNINGS | OK |
| Package: DiffLogo |
| Version: 2.10.0 |
| Command: rm -rf DiffLogo.buildbin-libdir && mkdir DiffLogo.buildbin-libdir && C:\Users\biocbuild\bbs-3.10-bioc\R\bin\R.exe CMD INSTALL --merge-multiarch --build --library=DiffLogo.buildbin-libdir DiffLogo_2.10.0.tar.gz |
| StartedAt: 2020-04-15 08:35:51 -0400 (Wed, 15 Apr 2020) |
| EndedAt: 2020-04-15 08:36:09 -0400 (Wed, 15 Apr 2020) |
| EllapsedTime: 17.4 seconds |
| RetCode: 0 |
| Status: OK |
| PackageFile: DiffLogo_2.10.0.zip |
| PackageFileSize: 1.037 MiB |
##############################################################################
##############################################################################
###
### Running command:
###
### rm -rf DiffLogo.buildbin-libdir && mkdir DiffLogo.buildbin-libdir && C:\Users\biocbuild\bbs-3.10-bioc\R\bin\R.exe CMD INSTALL --merge-multiarch --build --library=DiffLogo.buildbin-libdir DiffLogo_2.10.0.tar.gz
###
##############################################################################
##############################################################################
install for i386
* installing *source* package 'DiffLogo' ...
** using staged installation
** R
** inst
** byte-compile and prepare package for lazy loading
** help
*** installing help indices
converting help for package 'DiffLogo'
finding HTML links ... done
ASN html
Alphabet html
DNA html
FULL_ALPHABET html
RNA html
alignPwmSets html
baseDistributionPwm html
calculatePvalue html
createDiffLogoObject html
diffLogo html
diffLogoFromPwm html
diffLogoTable html
diffLogoTableConfiguration html
differenceOfICs html
drawDiffLogoTable html
enrichDiffLogoObjectWithPvalues html
enrichDiffLogoTableWithPvalues html
extendPwmsFromAlignmentVector html
getAlphabetFromCharacters html
getAlphabetFromSequences html
getPwmFromAlignment html
getPwmFromAlignmentFile html
getPwmFromFastaFile html
getPwmFromFile html
getPwmFromHomerFile html
getPwmFromPfmOrJasparFile html
getPwmFromPwmFile html
getSequencesFromAlignmentFile html
getSequencesFromFastaFile html
informationContent html
localPwmAlignment html
lossOfAbsICDifferences html
multipleLocalPwmsAlignment html
normalizePWM html
normalizedDifferenceOfProbabilities html
prepareDiffLogoTable html
probabilities html
pwmDivergence html
pwmsDistanceMatrix html
reverseAlignmentVector html
seqLogo html
shannonDivergence html
sumOfAbsICDifferences html
sumOfAbsProbabilityDifferences html
sumProbabilities html
switchDirection html
twoSetsAveragePwmDivergenceFromAlignmentVector
html
** building package indices
** installing vignettes
** testing if installed package can be loaded from temporary location
** testing if installed package can be loaded from final location
** testing if installed package keeps a record of temporary installation path
install for x64
* installing *source* package 'DiffLogo' ...
** testing if installed package can be loaded
* MD5 sums
packaged installation of 'DiffLogo' as DiffLogo_2.10.0.zip
* DONE (DiffLogo)