| Back to Multiple platform build/check report for BioC 3.10 |
|
This page was generated on 2020-04-15 12:31:35 -0400 (Wed, 15 Apr 2020).
| Package 430/1823 | Hostname | OS / Arch | INSTALL | BUILD | CHECK | BUILD BIN | ||||||
| DelayedDataFrame 1.2.0 Qian Liu
| malbec1 | Linux (Ubuntu 18.04.4 LTS) / x86_64 | OK | OK | WARNINGS | |||||||
| tokay1 | Windows Server 2012 R2 Standard / x64 | OK | OK | WARNINGS | [ OK ] | |||||||
| merida1 | OS X 10.11.6 El Capitan / x86_64 | OK | OK | WARNINGS | OK |
| Package: DelayedDataFrame |
| Version: 1.2.0 |
| Command: rm -rf DelayedDataFrame.buildbin-libdir && mkdir DelayedDataFrame.buildbin-libdir && C:\Users\biocbuild\bbs-3.10-bioc\R\bin\R.exe CMD INSTALL --merge-multiarch --build --library=DelayedDataFrame.buildbin-libdir DelayedDataFrame_1.2.0.tar.gz |
| StartedAt: 2020-04-15 08:33:54 -0400 (Wed, 15 Apr 2020) |
| EndedAt: 2020-04-15 08:34:25 -0400 (Wed, 15 Apr 2020) |
| EllapsedTime: 31.1 seconds |
| RetCode: 0 |
| Status: OK |
| PackageFile: DelayedDataFrame_1.2.0.zip |
| PackageFileSize: 873.6 KiB |
##############################################################################
##############################################################################
###
### Running command:
###
### rm -rf DelayedDataFrame.buildbin-libdir && mkdir DelayedDataFrame.buildbin-libdir && C:\Users\biocbuild\bbs-3.10-bioc\R\bin\R.exe CMD INSTALL --merge-multiarch --build --library=DelayedDataFrame.buildbin-libdir DelayedDataFrame_1.2.0.tar.gz
###
##############################################################################
##############################################################################
install for i386
* installing *source* package 'DelayedDataFrame' ...
** using staged installation
** R
** inst
** byte-compile and prepare package for lazy loading
** help
*** installing help indices
converting help for package 'DelayedDataFrame'
finding HTML links ... done
DelayedDataFrame-class html
DelayedDataFrame-method html
LazyIndex-class html
** building package indices
** installing vignettes
** testing if installed package can be loaded from temporary location
** testing if installed package can be loaded from final location
** testing if installed package keeps a record of temporary installation path
install for x64
* installing *source* package 'DelayedDataFrame' ...
** testing if installed package can be loaded
* MD5 sums
packaged installation of 'DelayedDataFrame' as DelayedDataFrame_1.2.0.zip
* DONE (DelayedDataFrame)