| Back to Multiple platform build/check report for BioC 3.10 |
|
This page was generated on 2020-04-15 12:12:08 -0400 (Wed, 15 Apr 2020).
| Package 429/1823 | Hostname | OS / Arch | INSTALL | BUILD | CHECK | BUILD BIN | ||||||
| DelayedArray 0.12.3 Hervé Pagès
| malbec1 | Linux (Ubuntu 18.04.4 LTS) / x86_64 | [ OK ] | OK | WARNINGS | |||||||
| tokay1 | Windows Server 2012 R2 Standard / x64 | OK | OK | WARNINGS | OK | |||||||
| merida1 | OS X 10.11.6 El Capitan / x86_64 | OK | OK | WARNINGS | OK |
| Package: DelayedArray |
| Version: 0.12.3 |
| Command: /home/biocbuild/bbs-3.10-bioc/R/bin/R CMD INSTALL DelayedArray |
| StartedAt: 2020-04-14 18:32:00 -0400 (Tue, 14 Apr 2020) |
| EndedAt: 2020-04-14 18:32:29 -0400 (Tue, 14 Apr 2020) |
| EllapsedTime: 29.2 seconds |
| RetCode: 0 |
| Status: OK |
##############################################################################
##############################################################################
###
### Running command:
###
### /home/biocbuild/bbs-3.10-bioc/R/bin/R CMD INSTALL DelayedArray
###
##############################################################################
##############################################################################
* installing to library ‘/home/biocbuild/bbs-3.10-bioc/R/library’
* installing *source* package ‘DelayedArray’ ...
** using staged installation
** libs
gcc -I"/home/biocbuild/bbs-3.10-bioc/R/include" -DNDEBUG -I"/home/biocbuild/bbs-3.10-bioc/R/library/S4Vectors/include" -I/usr/local/include -fpic -g -O2 -Wall -c R_init_DelayedArray.c -o R_init_DelayedArray.o
gcc -I"/home/biocbuild/bbs-3.10-bioc/R/include" -DNDEBUG -I"/home/biocbuild/bbs-3.10-bioc/R/library/S4Vectors/include" -I/usr/local/include -fpic -g -O2 -Wall -c S4Vectors_stubs.c -o S4Vectors_stubs.o
gcc -I"/home/biocbuild/bbs-3.10-bioc/R/include" -DNDEBUG -I"/home/biocbuild/bbs-3.10-bioc/R/library/S4Vectors/include" -I/usr/local/include -fpic -g -O2 -Wall -c abind.c -o abind.o
gcc -I"/home/biocbuild/bbs-3.10-bioc/R/include" -DNDEBUG -I"/home/biocbuild/bbs-3.10-bioc/R/library/S4Vectors/include" -I/usr/local/include -fpic -g -O2 -Wall -c array_selection.c -o array_selection.o
gcc -I"/home/biocbuild/bbs-3.10-bioc/R/include" -DNDEBUG -I"/home/biocbuild/bbs-3.10-bioc/R/library/S4Vectors/include" -I/usr/local/include -fpic -g -O2 -Wall -c compress_atomic_vector.c -o compress_atomic_vector.o
compress_atomic_vector.c: In function ‘C_encode_atomic_vector’:
compress_atomic_vector.c:66:9: warning: ‘ans’ is used uninitialized in this function [-Wuninitialized]
return ans;
^~~
compress_atomic_vector.c: In function ‘C_decode_atomic_vector’:
compress_atomic_vector.c:73:9: warning: ‘ans’ is used uninitialized in this function [-Wuninitialized]
return ans;
^~~
compress_atomic_vector.c: In function ‘C_compress_atomic_vector’:
compress_atomic_vector.c:85:9: warning: ‘ans’ is used uninitialized in this function [-Wuninitialized]
return ans;
^~~
compress_atomic_vector.c: In function ‘C_decompress_atomic_vector’:
compress_atomic_vector.c:92:9: warning: ‘ans’ is used uninitialized in this function [-Wuninitialized]
return ans;
^~~
gcc -shared -L/home/biocbuild/bbs-3.10-bioc/R/lib -L/usr/local/lib -o DelayedArray.so R_init_DelayedArray.o S4Vectors_stubs.o abind.o array_selection.o compress_atomic_vector.o -L/home/biocbuild/bbs-3.10-bioc/R/lib -lR
installing to /home/biocbuild/bbs-3.10-bioc/R/library/00LOCK-DelayedArray/00new/DelayedArray/libs
** R
** inst
** byte-compile and prepare package for lazy loading
Creating a new generic function for ‘aperm’ in package ‘DelayedArray’
Creating a generic function for ‘sweep’ from package ‘base’ in package ‘DelayedArray’
Creating a new generic function for ‘apply’ in package ‘DelayedArray’
Creating a new generic function for ‘rowsum’ in package ‘DelayedArray’
Creating a generic function for ‘dnorm’ from package ‘stats’ in package ‘DelayedArray’
Creating a generic function for ‘pnorm’ from package ‘stats’ in package ‘DelayedArray’
Creating a generic function for ‘qnorm’ from package ‘stats’ in package ‘DelayedArray’
Creating a generic function for ‘dbinom’ from package ‘stats’ in package ‘DelayedArray’
Creating a generic function for ‘pbinom’ from package ‘stats’ in package ‘DelayedArray’
Creating a generic function for ‘qbinom’ from package ‘stats’ in package ‘DelayedArray’
Creating a generic function for ‘dpois’ from package ‘stats’ in package ‘DelayedArray’
Creating a generic function for ‘ppois’ from package ‘stats’ in package ‘DelayedArray’
Creating a generic function for ‘qpois’ from package ‘stats’ in package ‘DelayedArray’
Creating a generic function for ‘dlogis’ from package ‘stats’ in package ‘DelayedArray’
Creating a generic function for ‘plogis’ from package ‘stats’ in package ‘DelayedArray’
Creating a generic function for ‘qlogis’ from package ‘stats’ in package ‘DelayedArray’
Creating a new generic function for ‘rowMaxs’ in package ‘DelayedArray’
Creating a new generic function for ‘colMaxs’ in package ‘DelayedArray’
Creating a new generic function for ‘rowMins’ in package ‘DelayedArray’
Creating a new generic function for ‘colMins’ in package ‘DelayedArray’
Creating a new generic function for ‘rowRanges’ in package ‘DelayedArray’
Creating a new generic function for ‘colRanges’ in package ‘DelayedArray’
** help
*** installing help indices
** building package indices
** installing vignettes
** testing if installed package can be loaded from temporary location
** checking absolute paths in shared objects and dynamic libraries
** testing if installed package can be loaded from final location
** testing if installed package keeps a record of temporary installation path
* DONE (DelayedArray)