| Back to Multiple platform build/check report for BioC 3.10 |
|
This page was generated on 2020-04-15 12:28:57 -0400 (Wed, 15 Apr 2020).
| Package 468/1823 | Hostname | OS / Arch | INSTALL | BUILD | CHECK | BUILD BIN | ||||||
| DMCHMM 1.8.0 Farhad Shokoohi
| malbec1 | Linux (Ubuntu 18.04.4 LTS) / x86_64 | OK | OK | WARNINGS | |||||||
| tokay1 | Windows Server 2012 R2 Standard / x64 | OK | OK | WARNINGS | [ OK ] | |||||||
| merida1 | OS X 10.11.6 El Capitan / x86_64 | OK | OK | WARNINGS | OK |
| Package: DMCHMM |
| Version: 1.8.0 |
| Command: rm -rf DMCHMM.buildbin-libdir && mkdir DMCHMM.buildbin-libdir && C:\Users\biocbuild\bbs-3.10-bioc\R\bin\R.exe CMD INSTALL --merge-multiarch --build --library=DMCHMM.buildbin-libdir DMCHMM_1.8.0.tar.gz |
| StartedAt: 2020-04-15 08:36:26 -0400 (Wed, 15 Apr 2020) |
| EndedAt: 2020-04-15 08:37:23 -0400 (Wed, 15 Apr 2020) |
| EllapsedTime: 56.5 seconds |
| RetCode: 0 |
| Status: OK |
| PackageFile: DMCHMM_1.8.0.zip |
| PackageFileSize: 755.2 KiB |
##############################################################################
##############################################################################
###
### Running command:
###
### rm -rf DMCHMM.buildbin-libdir && mkdir DMCHMM.buildbin-libdir && C:\Users\biocbuild\bbs-3.10-bioc\R\bin\R.exe CMD INSTALL --merge-multiarch --build --library=DMCHMM.buildbin-libdir DMCHMM_1.8.0.tar.gz
###
##############################################################################
##############################################################################
install for i386
* installing *source* package 'DMCHMM' ...
** using staged installation
** R
** inst
** byte-compile and prepare package for lazy loading
Warning: replacing previous import 'IRanges::windows' by 'grDevices::windows' when loading 'DMCHMM'
** help
*** installing help indices
converting help for package 'DMCHMM'
finding HTML links ... done
BSDMCs-class html
BSData-class html
finding level-2 HTML links ... done
DMCHMM-package html
cBSDMCs-method html
cBSData-method html
combine-method html
data html
findDMCs-method html
manhattanDMCs-method html
methHMEM-method html
methHMMCMC-method html
methLevels-method html
methReads-method html
methStates-method html
params html
qqDMCs-method html
readBismark-method html
totalReads-method html
writeBED-method html
** building package indices
** installing vignettes
** testing if installed package can be loaded from temporary location
Warning: replacing previous import 'IRanges::windows' by 'grDevices::windows' when loading 'DMCHMM'
** testing if installed package can be loaded from final location
Warning: replacing previous import 'IRanges::windows' by 'grDevices::windows' when loading 'DMCHMM'
** testing if installed package keeps a record of temporary installation path
install for x64
* installing *source* package 'DMCHMM' ...
** testing if installed package can be loaded
Warning: replacing previous import 'IRanges::windows' by 'grDevices::windows' when loading 'DMCHMM'
* MD5 sums
packaged installation of 'DMCHMM' as DMCHMM_1.8.0.zip
* DONE (DMCHMM)