| Back to Multiple platform build/check report for BioC 3.10 |
|
This page was generated on 2020-04-15 12:31:06 -0400 (Wed, 15 Apr 2020).
| Package 438/1823 | Hostname | OS / Arch | INSTALL | BUILD | CHECK | BUILD BIN | ||||||
| DEqMS 1.4.0 Yafeng Zhu
| malbec1 | Linux (Ubuntu 18.04.4 LTS) / x86_64 | OK | OK | OK | |||||||
| tokay1 | Windows Server 2012 R2 Standard / x64 | [ OK ] | OK | OK | OK | |||||||
| merida1 | OS X 10.11.6 El Capitan / x86_64 | OK | OK | OK | OK |
| Package: DEqMS |
| Version: 1.4.0 |
| Command: C:\cygwin\bin\curl.exe -O https://malbec1.bioconductor.org/BBS/3.10/bioc/src/contrib/DEqMS_1.4.0.tar.gz && rm -rf DEqMS.buildbin-libdir && mkdir DEqMS.buildbin-libdir && C:\Users\biocbuild\bbs-3.10-bioc\R\bin\R.exe CMD INSTALL --merge-multiarch --build --library=DEqMS.buildbin-libdir DEqMS_1.4.0.tar.gz && C:\Users\biocbuild\bbs-3.10-bioc\R\bin\R.exe CMD INSTALL DEqMS_1.4.0.zip && rm DEqMS_1.4.0.tar.gz DEqMS_1.4.0.zip |
| StartedAt: 2020-04-14 18:59:47 -0400 (Tue, 14 Apr 2020) |
| EndedAt: 2020-04-14 19:00:11 -0400 (Tue, 14 Apr 2020) |
| EllapsedTime: 24.6 seconds |
| RetCode: 0 |
| Status: OK |
##############################################################################
##############################################################################
###
### Running command:
###
### C:\cygwin\bin\curl.exe -O https://malbec1.bioconductor.org/BBS/3.10/bioc/src/contrib/DEqMS_1.4.0.tar.gz && rm -rf DEqMS.buildbin-libdir && mkdir DEqMS.buildbin-libdir && C:\Users\biocbuild\bbs-3.10-bioc\R\bin\R.exe CMD INSTALL --merge-multiarch --build --library=DEqMS.buildbin-libdir DEqMS_1.4.0.tar.gz && C:\Users\biocbuild\bbs-3.10-bioc\R\bin\R.exe CMD INSTALL DEqMS_1.4.0.zip && rm DEqMS_1.4.0.tar.gz DEqMS_1.4.0.zip
###
##############################################################################
##############################################################################
% Total % Received % Xferd Average Speed Time Time Time Current
Dload Upload Total Spent Left Speed
0 0 0 0 0 0 0 0 --:--:-- --:--:-- --:--:-- 0
100 112k 100 112k 0 0 1442k 0 --:--:-- --:--:-- --:--:-- 1518k
install for i386
* installing *source* package 'DEqMS' ...
** using staged installation
** R
** inst
** byte-compile and prepare package for lazy loading
** help
*** installing help indices
converting help for package 'DEqMS'
finding HTML links ... done
Residualplot html
VarianceBoxplot html
VarianceScatterplot html
equalMedianNormalization html
farmsSummary html
medianSummary html
medianSweeping html
medpolishSummary html
outputResult html
peptideProfilePlot html
spectraCounteBayes html
** building package indices
** installing vignettes
** testing if installed package can be loaded from temporary location
** testing if installed package can be loaded from final location
** testing if installed package keeps a record of temporary installation path
install for x64
* installing *source* package 'DEqMS' ...
** testing if installed package can be loaded
* MD5 sums
packaged installation of 'DEqMS' as DEqMS_1.4.0.zip
* DONE (DEqMS)
* installing to library 'C:/Users/biocbuild/bbs-3.10-bioc/R/library'
package 'DEqMS' successfully unpacked and MD5 sums checked