| Back to Multiple platform build/check report for BioC 3.10 |
|
This page was generated on 2020-04-15 12:05:44 -0400 (Wed, 15 Apr 2020).
| Package 443/1823 | Hostname | OS / Arch | INSTALL | BUILD | CHECK | BUILD BIN | ||||||
| DESeq 1.38.0 Simon Anders
| malbec1 | Linux (Ubuntu 18.04.4 LTS) / x86_64 | [ OK ] | OK | OK | |||||||
| tokay1 | Windows Server 2012 R2 Standard / x64 | OK | OK | OK | OK | |||||||
| merida1 | OS X 10.11.6 El Capitan / x86_64 | OK | OK | OK | OK |
| Package: DESeq |
| Version: 1.38.0 |
| Command: /home/biocbuild/bbs-3.10-bioc/R/bin/R CMD INSTALL DESeq |
| StartedAt: 2020-04-14 18:17:10 -0400 (Tue, 14 Apr 2020) |
| EndedAt: 2020-04-14 18:17:24 -0400 (Tue, 14 Apr 2020) |
| EllapsedTime: 14.4 seconds |
| RetCode: 0 |
| Status: OK |
##############################################################################
##############################################################################
###
### Running command:
###
### /home/biocbuild/bbs-3.10-bioc/R/bin/R CMD INSTALL DESeq
###
##############################################################################
##############################################################################
* installing to library ‘/home/biocbuild/bbs-3.10-bioc/R/library’
* installing *source* package ‘DESeq’ ...
** using staged installation
** libs
gcc -I"/home/biocbuild/bbs-3.10-bioc/R/include" -DNDEBUG -I/usr/local/include -fpic -g -O2 -Wall -c pval.c -o pval.o
pval.c: In function ‘add_from_both_sides’:
pval.c:26:11: warning: unused variable ‘esttotalperlength’ [-Wunused-variable]
double esttotalperlength = total/2;
^~~~~~~~~~~~~~~~~
gcc -shared -L/home/biocbuild/bbs-3.10-bioc/R/lib -L/usr/local/lib -o DESeq.so pval.o -L/home/biocbuild/bbs-3.10-bioc/R/lib -lR
installing to /home/biocbuild/bbs-3.10-bioc/R/library/00LOCK-DESeq/00new/DESeq/libs
** R
** inst
** byte-compile and prepare package for lazy loading
** help
*** installing help indices
** building package indices
** installing vignettes
** testing if installed package can be loaded from temporary location
** checking absolute paths in shared objects and dynamic libraries
** testing if installed package can be loaded from final location
** testing if installed package keeps a record of temporary installation path
* DONE (DESeq)