| Back to Multiple platform build/check report for BioC 3.10 |
|
This page was generated on 2020-04-15 12:23:08 -0400 (Wed, 15 Apr 2020).
| Package 427/1823 | Hostname | OS / Arch | INSTALL | BUILD | CHECK | BUILD BIN | ||||||
| DEGreport 1.22.0 Lorena Pantano
| malbec1 | Linux (Ubuntu 18.04.4 LTS) / x86_64 | OK | OK | OK | |||||||
| tokay1 | Windows Server 2012 R2 Standard / x64 | [ OK ] | OK | OK | OK | |||||||
| merida1 | OS X 10.11.6 El Capitan / x86_64 | OK | OK | OK | OK |
| Package: DEGreport |
| Version: 1.22.0 |
| Command: C:\cygwin\bin\curl.exe -O https://malbec1.bioconductor.org/BBS/3.10/bioc/src/contrib/DEGreport_1.22.0.tar.gz && rm -rf DEGreport.buildbin-libdir && mkdir DEGreport.buildbin-libdir && C:\Users\biocbuild\bbs-3.10-bioc\R\bin\R.exe CMD INSTALL --merge-multiarch --build --library=DEGreport.buildbin-libdir DEGreport_1.22.0.tar.gz && C:\Users\biocbuild\bbs-3.10-bioc\R\bin\R.exe CMD INSTALL DEGreport_1.22.0.zip && rm DEGreport_1.22.0.tar.gz DEGreport_1.22.0.zip |
| StartedAt: 2020-04-14 20:19:52 -0400 (Tue, 14 Apr 2020) |
| EndedAt: 2020-04-14 20:21:14 -0400 (Tue, 14 Apr 2020) |
| EllapsedTime: 81.9 seconds |
| RetCode: 0 |
| Status: OK |
##############################################################################
##############################################################################
###
### Running command:
###
### C:\cygwin\bin\curl.exe -O https://malbec1.bioconductor.org/BBS/3.10/bioc/src/contrib/DEGreport_1.22.0.tar.gz && rm -rf DEGreport.buildbin-libdir && mkdir DEGreport.buildbin-libdir && C:\Users\biocbuild\bbs-3.10-bioc\R\bin\R.exe CMD INSTALL --merge-multiarch --build --library=DEGreport.buildbin-libdir DEGreport_1.22.0.tar.gz && C:\Users\biocbuild\bbs-3.10-bioc\R\bin\R.exe CMD INSTALL DEGreport_1.22.0.zip && rm DEGreport_1.22.0.tar.gz DEGreport_1.22.0.zip
###
##############################################################################
##############################################################################
% Total % Received % Xferd Average Speed Time Time Time Current
Dload Upload Total Spent Left Speed
0 0 0 0 0 0 0 0 --:--:-- --:--:-- --:--:-- 0
0 18.0M 0 0 0 0 0 0 --:--:-- --:--:-- --:--:-- 0
100 18.0M 100 18.0M 0 0 51.9M 0 --:--:-- --:--:-- --:--:-- 52.4M
install for i386
* installing *source* package 'DEGreport' ...
** using staged installation
** R
** data
** inst
** byte-compile and prepare package for lazy loading
** help
*** installing help indices
converting help for package 'DEGreport'
finding HTML links ... done
DEGSet html
DEGreport-deprecated html
createReport html
deg html
degCheckFactors html
degColors html
degComps html
degCorCov html
degCovariates html
degDefault html
degFilter html
degMA html
finding level-2 HTML links ... done
degMB html
degMDS html
degMV html
degMean html
degMerge html
degObj html
degPCA html
degPatterns html
degPlot html
degPlotCluster html
degPlotWide html
degQC html
degResults html
degSignature html
degSummary html
degVB html
degVar html
degVolcano html
geneInfo html
geom_cor html
humanGender html
significants html
** building package indices
** installing vignettes
** testing if installed package can be loaded from temporary location
** testing if installed package can be loaded from final location
** testing if installed package keeps a record of temporary installation path
install for x64
* installing *source* package 'DEGreport' ...
** testing if installed package can be loaded
* MD5 sums
packaged installation of 'DEGreport' as DEGreport_1.22.0.zip
* DONE (DEGreport)
* installing to library 'C:/Users/biocbuild/bbs-3.10-bioc/R/library'
package 'DEGreport' successfully unpacked and MD5 sums checked