| Back to Multiple platform build/check report for BioC 3.10 |
|
This page was generated on 2020-04-15 12:29:51 -0400 (Wed, 15 Apr 2020).
| Package 418/1823 | Hostname | OS / Arch | INSTALL | BUILD | CHECK | BUILD BIN | ||||||
| DEComplexDisease 1.6.0 Guofeng Meng
| malbec1 | Linux (Ubuntu 18.04.4 LTS) / x86_64 | OK | OK | OK | |||||||
| tokay1 | Windows Server 2012 R2 Standard / x64 | [ OK ] | OK | OK | OK | |||||||
| merida1 | OS X 10.11.6 El Capitan / x86_64 | OK | OK | OK | OK |
| Package: DEComplexDisease |
| Version: 1.6.0 |
| Command: C:\cygwin\bin\curl.exe -O https://malbec1.bioconductor.org/BBS/3.10/bioc/src/contrib/DEComplexDisease_1.6.0.tar.gz && rm -rf DEComplexDisease.buildbin-libdir && mkdir DEComplexDisease.buildbin-libdir && C:\Users\biocbuild\bbs-3.10-bioc\R\bin\R.exe CMD INSTALL --merge-multiarch --build --library=DEComplexDisease.buildbin-libdir DEComplexDisease_1.6.0.tar.gz && C:\Users\biocbuild\bbs-3.10-bioc\R\bin\R.exe CMD INSTALL DEComplexDisease_1.6.0.zip && rm DEComplexDisease_1.6.0.tar.gz DEComplexDisease_1.6.0.zip |
| StartedAt: 2020-04-14 19:40:05 -0400 (Tue, 14 Apr 2020) |
| EndedAt: 2020-04-14 19:41:16 -0400 (Tue, 14 Apr 2020) |
| EllapsedTime: 70.6 seconds |
| RetCode: 0 |
| Status: OK |
##############################################################################
##############################################################################
###
### Running command:
###
### C:\cygwin\bin\curl.exe -O https://malbec1.bioconductor.org/BBS/3.10/bioc/src/contrib/DEComplexDisease_1.6.0.tar.gz && rm -rf DEComplexDisease.buildbin-libdir && mkdir DEComplexDisease.buildbin-libdir && C:\Users\biocbuild\bbs-3.10-bioc\R\bin\R.exe CMD INSTALL --merge-multiarch --build --library=DEComplexDisease.buildbin-libdir DEComplexDisease_1.6.0.tar.gz && C:\Users\biocbuild\bbs-3.10-bioc\R\bin\R.exe CMD INSTALL DEComplexDisease_1.6.0.zip && rm DEComplexDisease_1.6.0.tar.gz DEComplexDisease_1.6.0.zip
###
##############################################################################
##############################################################################
% Total % Received % Xferd Average Speed Time Time Time Current
Dload Upload Total Spent Left Speed
0 0 0 0 0 0 0 0 --:--:-- --:--:-- --:--:-- 0
100 1144k 100 1144k 0 0 22.8M 0 --:--:-- --:--:-- --:--:-- 24.8M
install for i386
* installing *source* package 'DEComplexDisease' ...
** using staged installation
** libs
C:/Rtools/mingw_32/bin/g++ -std=gnu++11 -I"C:/Users/BIOCBU~1/BBS-3~1.10-/R/include" -DNDEBUG -I"C:/Users/biocbuild/bbs-3.10-bioc/R/library/Rcpp/include" -I"C:/extsoft/include" -O2 -Wall -mtune=core2 -c RcppExports.cpp -o RcppExports.o
C:/Rtools/mingw_32/bin/g++ -std=gnu++11 -I"C:/Users/BIOCBU~1/BBS-3~1.10-/R/include" -DNDEBUG -I"C:/Users/biocbuild/bbs-3.10-bioc/R/library/Rcpp/include" -I"C:/extsoft/include" -O2 -Wall -mtune=core2 -c sig.cpp -o sig.o
C:/Rtools/mingw_32/bin/g++ -std=gnu++11 -shared -s -static-libgcc -o DEComplexDisease.dll tmp.def RcppExports.o sig.o -LC:/extsoft/lib/i386 -LC:/extsoft/lib -LC:/Users/BIOCBU~1/BBS-3~1.10-/R/bin/i386 -lR
installing to C:/Users/biocbuild/bbs-3.10-bioc/meat/DEComplexDisease.buildbin-libdir/00LOCK-DEComplexDisease/00new/DEComplexDisease/libs/i386
** R
** data
*** moving datasets to lazyload DB
** inst
** byte-compile and prepare package for lazy loading
** help
*** installing help indices
converting help for package 'DEComplexDisease'
finding HTML links ... done
Plot.cluster.module html
Plot.deg html
Plot.deg.specific html
Plot.deg.specific.test html
Plot.seed.module html
ann.er html
bi.deg html
cl html
cluster.mod html
cluster.module html
deg html
deg.spc html
deg.specific html
exp html
module.compare html
module.curve html
module.exact html
module.modeling html
module.overlap html
module.screen html
res.mod1 html
res.mod2 html
seed.mod html
seed.module html
summarize.cluster.module html
summarize.deg.specific html
summarize.seed.module html
** building package indices
** installing vignettes
'decd.Rmd'
'vignettes.Rmd'
** testing if installed package can be loaded from temporary location
** testing if installed package can be loaded from final location
** testing if installed package keeps a record of temporary installation path
install for x64
* installing *source* package 'DEComplexDisease' ...
** libs
C:/Rtools/mingw_64/bin/g++ -std=gnu++11 -I"C:/Users/BIOCBU~1/BBS-3~1.10-/R/include" -DNDEBUG -I"C:/Users/biocbuild/bbs-3.10-bioc/R/library/Rcpp/include" -I"C:/extsoft/include" -O2 -Wall -mtune=core2 -c RcppExports.cpp -o RcppExports.o
C:/Rtools/mingw_64/bin/g++ -std=gnu++11 -I"C:/Users/BIOCBU~1/BBS-3~1.10-/R/include" -DNDEBUG -I"C:/Users/biocbuild/bbs-3.10-bioc/R/library/Rcpp/include" -I"C:/extsoft/include" -O2 -Wall -mtune=core2 -c sig.cpp -o sig.o
C:/Rtools/mingw_64/bin/g++ -std=gnu++11 -shared -s -static-libgcc -o DEComplexDisease.dll tmp.def RcppExports.o sig.o -LC:/extsoft/lib/x64 -LC:/extsoft/lib -LC:/Users/BIOCBU~1/BBS-3~1.10-/R/bin/x64 -lR
installing to C:/Users/biocbuild/bbs-3.10-bioc/meat/DEComplexDisease.buildbin-libdir/DEComplexDisease/libs/x64
** testing if installed package can be loaded
* MD5 sums
packaged installation of 'DEComplexDisease' as DEComplexDisease_1.6.0.zip
* DONE (DEComplexDisease)
* installing to library 'C:/Users/biocbuild/bbs-3.10-bioc/R/library'
package 'DEComplexDisease' successfully unpacked and MD5 sums checked